Workbook

Sheet KIADÁSOK_BEVÉTELEK kerület össz
L2: 2. melléklet az .../2021. (…... ...) önkormányzati rendelethez
A3: Budapest Főváros XIV. Kerület Zugló Önkormányzata 2021. évi bevételei
A4: Budapest Főváros XIV. Kerület Zugló Önkormányzata 2020. évi bevételei és kiadásai intézményenként
L5: adatok eFt-ban
D6: 1. Cím
A7: INTÉZMÉNY MEGNEVEZÉSE | D7: KERÜLET ÖSSZESEN (KONSZOLIDÁLT)
A8: ELŐIRÁNYZATOK MEGNEVEZÉSE | D8: 2021. évi eredeti előirányzat | E8: Módosítás | F8: 1. Módosítás | G8: 2. Módosítás | H8: 3. Módosítás | I8: 2021. évi módosított előirányzat | J8: 2021. évi módosított előirányzat
J9: kötelező | K9: önként vállalt | L9: állam- igazgatási
A10: BEVÉTELEK
A11: 1. | B11: Működési célú támogatások államháztartáson belülről | D11: =+'KIADÁSOK_BEVÉTELEK intézményenk'!D10 -> 15465205 | E11: =SUM(E12:E15) -> 0 | F11: =+'KIADÁSOK_BEVÉTELEK intézményenk'!F10 -> 146531 | G11: =+'KIADÁSOK_BEVÉTELEK intézményenk'!G10 -> 709920 | H11: =+'KIADÁSOK_BEVÉTELEK intézményenk'!H10 -> -6389798 | I11: =+'KIADÁSOK_BEVÉTELEK intézményenk'!I10 -> 9931858 | J11: =SUM(J12:J15) -> 9112909 | K11: =SUM(K12:K15) -> 818949 | L11: =SUM(L12:L15) -> 0
B12: a) | C12: helyi önkormányzatok működési támogatásai | D12: ='KIADÁSOK_BEVÉTELEK intézményenk'!D11 -> 6084980 | E12: ='KIADÁSOK_BEVÉTELEK intézményenk'!E11 -> 0 | F12: =+'KIADÁSOK_BEVÉTELEK intézményenk'!F11 -> 146531 | G12: =+'KIADÁSOK_BEVÉTELEK intézményenk'!G11 -> 326752 | H12: =+'KIADÁSOK_BEVÉTELEK intézményenk'!H11 -> -14202 | I12: =+'KIADÁSOK_BEVÉTELEK intézményenk'!I11 -> 6544061 | J12: ='KIADÁSOK_BEVÉTELEK intézményenk'!J11 -> 6544061 | K12: ='KIADÁSOK_BEVÉTELEK intézményenk'!K11 -> 0 | L12: ='KIADÁSOK_BEVÉTELEK intézményenk'!L11 -> 0
B13: b) | C13: elvonások és befizetések bevételei | D13: ='KIADÁSOK_BEVÉTELEK intézményenk'!D12 -> 0 | E13: ='KIADÁSOK_BEVÉTELEK intézményenk'!E12 -> 0 | F13: =+'KIADÁSOK_BEVÉTELEK intézményenk'!F12 -> 0 | G13: =+'KIADÁSOK_BEVÉTELEK intézményenk'!G12 -> 343168 | H13: =+'KIADÁSOK_BEVÉTELEK intézményenk'!H12 -> -171584 | I13: =+'KIADÁSOK_BEVÉTELEK intézményenk'!I12 -> 171584 | J13: ='KIADÁSOK_BEVÉTELEK intézményenk'!J12 -> 171584 | K13: ='KIADÁSOK_BEVÉTELEK intézményenk'!K12 -> 0 | L13: ='KIADÁSOK_BEVÉTELEK intézményenk'!L12 -> 0
B14: c) | C14: visszatérítendő támogatás, kölcsön visszatérülése, igénybevétele államháztartáson belülről | D14: ='KIADÁSOK_BEVÉTELEK intézményenk'!D13 -> 0 | E14: ='KIADÁSOK_BEVÉTELEK intézményenk'!E13 -> 0 | F14: =+'KIADÁSOK_BEVÉTELEK intézményenk'!F13 -> 0 | G14: =+'KIADÁSOK_BEVÉTELEK intézményenk'!G13 -> 0 | H14: =+'KIADÁSOK_BEVÉTELEK intézményenk'!H13 -> 0 | I14: =+'KIADÁSOK_BEVÉTELEK intézményenk'!I13 -> 0 | J14: ='KIADÁSOK_BEVÉTELEK intézményenk'!J13 -> 0 | K14: ='KIADÁSOK_BEVÉTELEK intézményenk'!K13 -> 0 | L14: ='KIADÁSOK_BEVÉTELEK intézményenk'!L13 -> 0
B15: d) | C15: egyéb támogatások bevételei államháztartáson belülről | D15: ='KIADÁSOK_BEVÉTELEK intézményenk'!D14 -> 9380225 | E15: ='KIADÁSOK_BEVÉTELEK intézményenk'!E14 -> 0 | F15: =+'KIADÁSOK_BEVÉTELEK intézményenk'!F14 -> 0 | G15: =+'KIADÁSOK_BEVÉTELEK intézményenk'!G14 -> 40000 | H15: =+'KIADÁSOK_BEVÉTELEK intézményenk'!H14 -> -6204012 | I15: =+'KIADÁSOK_BEVÉTELEK intézményenk'!I14 -> 3216213 | J15: ='KIADÁSOK_BEVÉTELEK intézményenk'!J14 -> 2397264 | K15: ='KIADÁSOK_BEVÉTELEK intézményenk'!K14 -> 818949 | L15: ='KIADÁSOK_BEVÉTELEK intézményenk'!L14 -> 0
A16: 2. | B16: Közhatalmi bevételek | D16: =+'KIADÁSOK_BEVÉTELEK intézményenk'!D15 -> 11318219 | E16: =SUM(E17:E18) -> 0 | F16: =+'KIADÁSOK_BEVÉTELEK intézményenk'!F15 -> 0 | G16: =+'KIADÁSOK_BEVÉTELEK intézményenk'!G15 -> 0 | H16: =+'KIADÁSOK_BEVÉTELEK intézményenk'!H15 -> 129000 | I16: =+'KIADÁSOK_BEVÉTELEK intézményenk'!I15 -> 11447219 | J16: =SUM(J17:J18) -> 8695219 | K16: =SUM(K17:K18) -> 2752000 | L16: =SUM(L17:L18) -> 0
B17: a) | C17: adók (helyi, központi átengedett) | D17: ='KIADÁSOK_BEVÉTELEK intézményenk'!D16 -> 11084019 | E17: ='KIADÁSOK_BEVÉTELEK intézményenk'!E16 -> 0 | F17: =+'KIADÁSOK_BEVÉTELEK intézményenk'!F16 -> 0 | G17: =+'KIADÁSOK_BEVÉTELEK intézményenk'!G16 -> 0 | H17: =+'KIADÁSOK_BEVÉTELEK intézményenk'!H16 -> 129000 | I17: =+'KIADÁSOK_BEVÉTELEK intézményenk'!I16 -> 11213019 | J17: ='KIADÁSOK_BEVÉTELEK intézményenk'!J16 -> 8491019 | K17: ='KIADÁSOK_BEVÉTELEK intézményenk'!K16 -> 2722000 | L17: ='KIADÁSOK_BEVÉTELEK intézményenk'!L16 -> 0
B18: b) | C18: egyéb közhatalmi bevételek | D18: ='KIADÁSOK_BEVÉTELEK intézményenk'!D17 -> 234200 | E18: ='KIADÁSOK_BEVÉTELEK intézményenk'!E17 -> 0 | F18: =+'KIADÁSOK_BEVÉTELEK intézményenk'!F17 -> 0 | G18: =+'KIADÁSOK_BEVÉTELEK intézményenk'!G17 -> 0 | H18: =+'KIADÁSOK_BEVÉTELEK intézményenk'!H17 -> 0 | I18: =+'KIADÁSOK_BEVÉTELEK intézményenk'!I17 -> 234200 | J18: ='KIADÁSOK_BEVÉTELEK intézményenk'!J17 -> 204200 | K18: ='KIADÁSOK_BEVÉTELEK intézményenk'!K17 -> 30000 | L18: ='KIADÁSOK_BEVÉTELEK intézményenk'!L17 -> 0
A19: 3. | B19: Működési bevételek | D19: ='KIADÁSOK_BEVÉTELEK intézményenk'!D18 -> 5261733 | E19: ='KIADÁSOK_BEVÉTELEK intézményenk'!E18 -> 0 | F19: =+'KIADÁSOK_BEVÉTELEK intézményenk'!F18 -> 350423 | G19: =+'KIADÁSOK_BEVÉTELEK intézményenk'!G18 -> 276366 | H19: =+'KIADÁSOK_BEVÉTELEK intézményenk'!H18 -> -282363 | I19: =+'KIADÁSOK_BEVÉTELEK intézményenk'!I18 -> 5606159 | J19: ='KIADÁSOK_BEVÉTELEK intézményenk'!J18 -> 3018488 | K19: ='KIADÁSOK_BEVÉTELEK intézményenk'!K18 -> 2568288 | L19: ='KIADÁSOK_BEVÉTELEK intézményenk'!L18 -> 19383
A20: 4. | B20: Működési célú átvett pénzeszközök | D20: =+'KIADÁSOK_BEVÉTELEK intézményenk'!D19 -> 118532 | E20: =SUM(E21:E22) -> 0 | F20: =+'KIADÁSOK_BEVÉTELEK intézményenk'!F19 -> 0 | G20: =+'KIADÁSOK_BEVÉTELEK intézményenk'!G19 -> 0 | H20: =+'KIADÁSOK_BEVÉTELEK intézményenk'!H19 -> 0 | I20: =+'KIADÁSOK_BEVÉTELEK intézményenk'!I19 -> 118532 | J20: =SUM(J21:J22) -> 0 | K20: =SUM(K21:K22) -> 118532 | L20: =SUM(L21:L22) -> 0
B21: a) | C21: visszatérítendő támogatás, kölcsön visszatérülése államháztartáson kívűlről | D21: ='KIADÁSOK_BEVÉTELEK intézményenk'!D20 -> 2000 | E21: ='KIADÁSOK_BEVÉTELEK intézményenk'!E20 -> 0 | F21: =+'KIADÁSOK_BEVÉTELEK intézményenk'!F20 -> 0 | G21: =+'KIADÁSOK_BEVÉTELEK intézményenk'!G20 -> 0 | H21: =+'KIADÁSOK_BEVÉTELEK intézményenk'!H20 -> 0 | I21: =+'KIADÁSOK_BEVÉTELEK intézményenk'!I20 -> 2000 | J21: ='KIADÁSOK_BEVÉTELEK intézményenk'!J20 -> 0 | K21: ='KIADÁSOK_BEVÉTELEK intézményenk'!K20 -> 2000 | L21: ='KIADÁSOK_BEVÉTELEK intézményenk'!L20 -> 0
B22: b) | C22: egyéb átvett pénzeszköz államháztartáson kívülről | D22: ='KIADÁSOK_BEVÉTELEK intézményenk'!D21 -> 116532 | E22: ='KIADÁSOK_BEVÉTELEK intézményenk'!E21 -> 0 | F22: =+'KIADÁSOK_BEVÉTELEK intézményenk'!F21 -> 0 | G22: =+'KIADÁSOK_BEVÉTELEK intézményenk'!G21 -> 0 | H22: =+'KIADÁSOK_BEVÉTELEK intézményenk'!H21 -> 0 | I22: =+'KIADÁSOK_BEVÉTELEK intézményenk'!I21 -> 116532 | J22: ='KIADÁSOK_BEVÉTELEK intézményenk'!J21 -> 0 | K22: ='KIADÁSOK_BEVÉTELEK intézményenk'!K21 -> 116532 | L22: ='KIADÁSOK_BEVÉTELEK intézményenk'!L21 -> 0
A23: 5. | B23: Működési bevételek összesen (1+2+3+4) | D23: =D11+D16+D19+D20 -> 32163689 | E23: =E11+E16+E19+E20 -> 0 | F23: =+'KIADÁSOK_BEVÉTELEK intézményenk'!F22 -> 496954 | G23: =+'KIADÁSOK_BEVÉTELEK intézményenk'!G22 -> 986286 | H23: =+'KIADÁSOK_BEVÉTELEK intézményenk'!H22 -> -6543161 | I23: =+'KIADÁSOK_BEVÉTELEK intézményenk'!I22 -> 27103768 | J23: =J11+J16+J19+J20 -> 20826616 | K23: =K11+K16+K19+K20 -> 6257769 | L23: =L11+L16+L19+L20 -> 19383
A24: 6. | B24: Felhalmozási célú támogatások államháztartáson belülről | D24: =SUM(D25:D27) -> 313931 | E24: =SUM(E25:E27) -> 0 | F24: =+'KIADÁSOK_BEVÉTELEK intézményenk'!F23 -> 0 | G24: =+'KIADÁSOK_BEVÉTELEK intézményenk'!G23 -> 283272.5 | H24: =+'KIADÁSOK_BEVÉTELEK intézményenk'!H23 -> 300364 | I24: =+'KIADÁSOK_BEVÉTELEK intézményenk'!I23 -> 897567.5 | J24: =SUM(J25:J27) -> 54108.5 | K24: =SUM(K25:K27) -> 843459 | L24: =SUM(L25:L27) -> 0
B25: a) | C25: helyi önkormányzatok felhalmozási támogatásai | D25: ='KIADÁSOK_BEVÉTELEK intézményenk'!D24 -> 0 | E25: ='KIADÁSOK_BEVÉTELEK intézményenk'!E24 -> 0 | F25: =+'KIADÁSOK_BEVÉTELEK intézményenk'!F24 -> 0 | G25: =+'KIADÁSOK_BEVÉTELEK intézményenk'!G24 -> 0 | H25: =+'KIADÁSOK_BEVÉTELEK intézményenk'!H24 -> 0 | I25: =+'KIADÁSOK_BEVÉTELEK intézményenk'!I24 -> 0 | J25: ='KIADÁSOK_BEVÉTELEK intézményenk'!J24 -> 0 | K25: ='KIADÁSOK_BEVÉTELEK intézményenk'!K24 -> 0 | L25: ='KIADÁSOK_BEVÉTELEK intézményenk'!L24 -> 0
B26: b) | C26: visszatérítendő támogatás, kölcsön visszatérülése, igénybevétele államháztartáson belülről | D26: ='KIADÁSOK_BEVÉTELEK intézményenk'!D25 -> 0 | E26: ='KIADÁSOK_BEVÉTELEK intézményenk'!E25 -> 0 | F26: =+'KIADÁSOK_BEVÉTELEK intézményenk'!F25 -> 0 | G26: =+'KIADÁSOK_BEVÉTELEK intézményenk'!G25 -> 0 | H26: =+'KIADÁSOK_BEVÉTELEK intézményenk'!H25 -> 0 | I26: =+'KIADÁSOK_BEVÉTELEK intézményenk'!I25 -> 0 | J26: ='KIADÁSOK_BEVÉTELEK intézményenk'!J25 -> 0 | K26: ='KIADÁSOK_BEVÉTELEK intézményenk'!K25 -> 0 | L26: ='KIADÁSOK_BEVÉTELEK intézményenk'!L25 -> 0
B27: c) | C27: egyéb támogatások bevételei államháztartáson belülről | D27: ='KIADÁSOK_BEVÉTELEK intézményenk'!D26 -> 313931 | E27: ='KIADÁSOK_BEVÉTELEK intézményenk'!E26 -> 0 | F27: =+'KIADÁSOK_BEVÉTELEK intézményenk'!F26 -> 0 | G27: =+'KIADÁSOK_BEVÉTELEK intézményenk'!G26 -> 283272.5 | H27: =+'KIADÁSOK_BEVÉTELEK intézményenk'!H26 -> 300364 | I27: =+'KIADÁSOK_BEVÉTELEK intézményenk'!I26 -> 897567.5 | J27: ='KIADÁSOK_BEVÉTELEK intézményenk'!J26 -> 54108.5 | K27: ='KIADÁSOK_BEVÉTELEK intézményenk'!K26 -> 843459 | L27: ='KIADÁSOK_BEVÉTELEK intézményenk'!L26 -> 0
A28: 7. | B28: Felhalmozási bevételek | D28: ='KIADÁSOK_BEVÉTELEK intézményenk'!D27 -> 1838999 | E28: ='KIADÁSOK_BEVÉTELEK intézményenk'!E27 -> 0 | F28: =+'KIADÁSOK_BEVÉTELEK intézményenk'!F27 -> 0 | G28: =+'KIADÁSOK_BEVÉTELEK intézményenk'!G27 -> 0 | H28: =+'KIADÁSOK_BEVÉTELEK intézményenk'!H27 -> -566836 | I28: =+'KIADÁSOK_BEVÉTELEK intézményenk'!I27 -> 1272163 | J28: ='KIADÁSOK_BEVÉTELEK intézményenk'!J27 -> 1500 | K28: ='KIADÁSOK_BEVÉTELEK intézményenk'!K27 -> 1270663 | L28: ='KIADÁSOK_BEVÉTELEK intézményenk'!L27 -> 0
A29: 8. | B29: Felhalmozási célú átvett pénzeszközök | D29: =SUM(D30:D31) -> 542370 | E29: =SUM(E30:E31) -> 0 | F29: =+'KIADÁSOK_BEVÉTELEK intézményenk'!F28 -> 0 | G29: =+'KIADÁSOK_BEVÉTELEK intézményenk'!G28 -> 0 | H29: =+'KIADÁSOK_BEVÉTELEK intézményenk'!H28 -> -226357 | I29: =+'KIADÁSOK_BEVÉTELEK intézményenk'!I28 -> 316013 | J29: =SUM(J30:J31) -> 0 | K29: =SUM(K30:K31) -> 316013 | L29: =SUM(L30:L31) -> 0
B30: a) | C30: visszatérítendő támogatás, kölcsön visszatérülése államháztartáson kívűlről | D30: ='KIADÁSOK_BEVÉTELEK intézményenk'!D29 -> 3000 | E30: ='KIADÁSOK_BEVÉTELEK intézményenk'!E29 -> 0 | F30: =+'KIADÁSOK_BEVÉTELEK intézményenk'!F29 -> 0 | G30: =+'KIADÁSOK_BEVÉTELEK intézményenk'!G29 -> 0 | H30: =+'KIADÁSOK_BEVÉTELEK intézményenk'!H29 -> 0 | I30: =+'KIADÁSOK_BEVÉTELEK intézményenk'!I29 -> 3000 | J30: ='KIADÁSOK_BEVÉTELEK intézményenk'!J29 -> 0 | K30: ='KIADÁSOK_BEVÉTELEK intézményenk'!K29 -> 3000 | L30: ='KIADÁSOK_BEVÉTELEK intézményenk'!L29 -> 0
B31: b) | C31: egyéb átvett pénzeszköz államháztartáson kívülről | D31: ='KIADÁSOK_BEVÉTELEK intézményenk'!D30 -> 539370 | E31: ='KIADÁSOK_BEVÉTELEK intézményenk'!E30 -> 0 | F31: =+'KIADÁSOK_BEVÉTELEK intézményenk'!F30 -> 0 | G31: =+'KIADÁSOK_BEVÉTELEK intézményenk'!G30 -> 0 | H31: =+'KIADÁSOK_BEVÉTELEK intézményenk'!H30 -> -226357 | I31: =+'KIADÁSOK_BEVÉTELEK intézményenk'!I30 -> 313013 | J31: ='KIADÁSOK_BEVÉTELEK intézményenk'!J30 -> 0 | K31: ='KIADÁSOK_BEVÉTELEK intézményenk'!K30 -> 313013 | L31: ='KIADÁSOK_BEVÉTELEK intézményenk'!L30 -> 0
A32: 9. | B32: Felhalmozási bevételek összesen (6+7+8) | D32: =D24+D28+D29 -> 2695300 | E32: =E24+E28+E29 -> 0 | F32: =+'KIADÁSOK_BEVÉTELEK intézményenk'!F31 -> 0 | G32: =+'KIADÁSOK_BEVÉTELEK intézményenk'!G31 -> 283272.5 | H32: =+'KIADÁSOK_BEVÉTELEK intézményenk'!H31 -> -492829 | I32: =+'KIADÁSOK_BEVÉTELEK intézményenk'!I31 -> 2485743.5 | J32: =J24+J28+J29 -> 55608.5 | K32: =K24+K28+K29 -> 2430135 | L32: =L24+L28+L29 -> 0
A33: KÖLTSÉGVETÉSI BEVÉTELEK ÖSSZESEN | D33: =D23+D32 -> 34858989 | E33: =E23+E32 -> 0 | F33: =+'KIADÁSOK_BEVÉTELEK intézményenk'!F32 -> 496954 | G33: =+'KIADÁSOK_BEVÉTELEK intézményenk'!G32 -> 1269558.5 | H33: =+'KIADÁSOK_BEVÉTELEK intézményenk'!H32 -> -7035990 | I33: =+'KIADÁSOK_BEVÉTELEK intézményenk'!I32 -> 29589512 | J33: =J23+J32 -> 20882224 | K33: =K23+K32 -> 8687904 | L33: =L23+L32 -> 19383
A34: 10. | B34: Finanszírozási bevételek | F34: =+'KIADÁSOK_BEVÉTELEK intézményenk'!F33 -> 0 | G34: =+'KIADÁSOK_BEVÉTELEK intézményenk'!G33 -> 0 | H34: =+'KIADÁSOK_BEVÉTELEK intézményenk'!H33 -> 0 | I34: =+'KIADÁSOK_BEVÉTELEK intézményenk'!I33 -> 0
B35: a) | C35: hitelek, kölcsönök felvétele (folyószámla hitelkeret) | D35: ='KIADÁSOK_BEVÉTELEK intézményenk'!D34 -> 2000000 | E35: ='KIADÁSOK_BEVÉTELEK intézményenk'!E34 -> 0 | F35: =+'KIADÁSOK_BEVÉTELEK intézményenk'!F34 -> 0 | G35: =+'KIADÁSOK_BEVÉTELEK intézményenk'!G34 -> 0 | H35: =+'KIADÁSOK_BEVÉTELEK intézményenk'!H34 -> 0 | I35: =+'KIADÁSOK_BEVÉTELEK intézményenk'!I34 -> 2000000 | J35: ='KIADÁSOK_BEVÉTELEK intézményenk'!J34 -> 0 | K35: ='KIADÁSOK_BEVÉTELEK intézményenk'!K34 -> 2000000 | L35: ='KIADÁSOK_BEVÉTELEK intézményenk'!L34 -> 0
B36: b) | C36: értékpapírok kibocsátása, beváltása, értékesítése | D36: ='KIADÁSOK_BEVÉTELEK intézményenk'!D35 -> 259 | E36: ='KIADÁSOK_BEVÉTELEK intézményenk'!E35 -> 0 | F36: =+'KIADÁSOK_BEVÉTELEK intézményenk'!F35 -> 0 | G36: =+'KIADÁSOK_BEVÉTELEK intézményenk'!G35 -> 0 | H36: =+'KIADÁSOK_BEVÉTELEK intézményenk'!H35 -> 0 | I36: =+'KIADÁSOK_BEVÉTELEK intézményenk'!I35 -> 259 | J36: ='KIADÁSOK_BEVÉTELEK intézményenk'!J35 -> 0 | K36: ='KIADÁSOK_BEVÉTELEK intézményenk'!K35 -> 259 | L36: ='KIADÁSOK_BEVÉTELEK intézményenk'!L35 -> 0
B37: c) | C37: betét megszüntetése, visszautalása | D37: ='KIADÁSOK_BEVÉTELEK intézményenk'!D36 -> 0 | E37: ='KIADÁSOK_BEVÉTELEK intézményenk'!E36 -> 0 | F37: =+'KIADÁSOK_BEVÉTELEK intézményenk'!F36 -> 1000000 | G37: =+'KIADÁSOK_BEVÉTELEK intézményenk'!G36 -> 0 | H37: =+'KIADÁSOK_BEVÉTELEK intézményenk'!H36 -> 0 | I37: =+'KIADÁSOK_BEVÉTELEK intézményenk'!I36 -> 1000000 | J37: ='KIADÁSOK_BEVÉTELEK intézményenk'!J36 -> 0 | K37: ='KIADÁSOK_BEVÉTELEK intézményenk'!K36 -> 1000000 | L37: ='KIADÁSOK_BEVÉTELEK intézményenk'!L36 -> 0
B38: d) | C38: előző évek költségvetési maradványának igénybevétele | D38: ='KIADÁSOK_BEVÉTELEK intézményenk'!D37 -> 3741589 | E38: ='KIADÁSOK_BEVÉTELEK intézményenk'!E37 -> 0 | F38: =+'KIADÁSOK_BEVÉTELEK intézményenk'!F37 -> -1188498 | G38: =+'KIADÁSOK_BEVÉTELEK intézményenk'!G37 -> 0.5 | H38: =+'KIADÁSOK_BEVÉTELEK intézményenk'!H37 -> 0 | I38: =+'KIADÁSOK_BEVÉTELEK intézményenk'!I37 -> 2553090.5 | J38: ='KIADÁSOK_BEVÉTELEK intézményenk'!J37 -> 2553090.5 | K38: ='KIADÁSOK_BEVÉTELEK intézményenk'!K37 -> 0 | L38: ='KIADÁSOK_BEVÉTELEK intézményenk'!L37 -> 0
B39: e) | C39: államháztartáson belüli megelőlegezések bevétele | D39: ='KIADÁSOK_BEVÉTELEK intézményenk'!D38 -> 199820 | E39: ='KIADÁSOK_BEVÉTELEK intézményenk'!E38 -> 0 | F39: =+'KIADÁSOK_BEVÉTELEK intézményenk'!F38 -> 0 | G39: =+'KIADÁSOK_BEVÉTELEK intézményenk'!G38 -> 0 | H39: =+'KIADÁSOK_BEVÉTELEK intézményenk'!H38 -> 0 | I39: =+'KIADÁSOK_BEVÉTELEK intézményenk'!I38 -> 199820 | J39: ='KIADÁSOK_BEVÉTELEK intézményenk'!J38 -> 199820 | K39: ='KIADÁSOK_BEVÉTELEK intézményenk'!K38 -> 0 | L39: ='KIADÁSOK_BEVÉTELEK intézményenk'!L38 -> 0
B40: f) | C40: irányító szervi támogatás (kerület összesenből kihagyva duplázódás miatt-konszolidálás)
A41: FINANSZÍROZÁSI BEVÉTELEK ÖSSZESEN | D41: =SUM(D35:D40) -> 5941668 | E41: =SUM(E35:E40) -> 0 | F41: =+'KIADÁSOK_BEVÉTELEK intézményenk'!F40 -> -188498 | G41: =+G36+G38 -> 0.5 | H41: =+H36+H38 -> 0 | I41: =+'KIADÁSOK_BEVÉTELEK intézményenk'!I40 -> 5753169.5 | J41: =SUM(J35:J40) -> 2752910.5 | K41: =SUM(K35:K40) -> 3000259 | L41: =SUM(L35:L40) -> 0
A42: BEVÉTELEK MINDÖSSZESEN | D42: =D33+D41 -> 40800657 | E42: =E33+E41 -> 0 | F42: =+'KIADÁSOK_BEVÉTELEK intézményenk'!F41 -> 308456 | G42: =+'KIADÁSOK_BEVÉTELEK intézményenk'!G41 -> 1269559 | H42: =+'KIADÁSOK_BEVÉTELEK intézményenk'!H41 -> -7035990 | I42: =+'KIADÁSOK_BEVÉTELEK intézményenk'!I41 -> 35342682 | J42: =J33+J41 -> 23635135 | K42: =K33+K41 -> 11688163 | L42: =L33+L41 -> 19383
C44: Költségvetési egyenleg | D44: =D33-D77 -> -3744228 | E44: =E33-E77 -> 0 | F44: =F33-F77 -> 188497.8 | G44: =G33-G77 -> 46004.5 | H44: =H33-H77 -> -0.4 | I44: =I33-I77 -> -3509725.1
C45: Működési egyenleg (finanszírozási műveletekkel együtt) | D45: =D23-D68+D41-D84 -> 2681607 | E45: =E23-E68+E41-E84 -> 0 | F45: =F23-F68+F41-F84 -> 15092.8 | G45: =G23-G68+G41-G84 -> 295717.5 | H45: =H23-H68+H41-H84-2 -> -1592917.4 | I45: =I23-I68+I41-I84+1-1 -> 1399500.9
C46: Felhalmozási egyenleg (finanszírozási műveletekkel együtt) | D46: =D32-D76 -> -2681607 | E46: =E32-E76 -> 0 | F46: =F32-F76 -> -15093 | G46: =G32-G76 -> -295717.5 | H46: =H32-H76+1 -> 1592917 | I46: =I32-I76+1 -> -1399500.5
L49: 3. melléklet az …./2021. (…... ....) önkormányzati rendelethez
A50: Budapest Főváros XIV. Kerület Zugló Önkormányzata 2021. évi kiadásai
L51: adatok eFt-ban
D52: 1. Cím
A53: INTÉZMÉNY MEGNEVEZÉSE | D53: KERÜLET ÖSSZESEN (KONSZOLIDÁLT)
A54: ELŐIRÁNYZATOK MEGNEVEZÉSE | D54: 2021. évi eredeti előirányzat | E54: Módosítás | F54: 1. Módosítás | G54: 2. Módosítás | H54: 3. Módosítás | I54: 2021. évi módosított előirányzat | J54: 2021. évi módosított előirányzat
J55: kötelező | K55: önként vállalt | L55: állam- igazgatási
A56: KIADÁSOK
A57: 1. | B57: Személyi juttatások | D57: ='KIADÁSOK_BEVÉTELEK intézményenk'!D43 -> 9163783 | E57: ='KIADÁSOK_BEVÉTELEK intézményenk'!E43 -> 0 | F57: =+'KIADÁSOK_BEVÉTELEK intézményenk'!F43 -> 80947 | G57: =+'KIADÁSOK_BEVÉTELEK intézményenk'!G43 -> 220521 | H57: =+'KIADÁSOK_BEVÉTELEK intézményenk'!H43 -> 672868 | I57: =+'KIADÁSOK_BEVÉTELEK intézményenk'!I43 -> 10138119 | J57: ='KIADÁSOK_BEVÉTELEK intézményenk'!J43 -> 7942791 | K57: ='KIADÁSOK_BEVÉTELEK intézményenk'!K43 -> 2195328 | L57: ='KIADÁSOK_BEVÉTELEK intézményenk'!L43 -> 0
A58: 2. | B58: Munkaadókat terhelő járulékok és szociális hozzájárulási adó | D58: ='KIADÁSOK_BEVÉTELEK intézményenk'!D44 -> 1632140 | E58: ='KIADÁSOK_BEVÉTELEK intézményenk'!E44 -> 0 | F58: =+'KIADÁSOK_BEVÉTELEK intézményenk'!F44 -> 14832.5 | G58: =+'KIADÁSOK_BEVÉTELEK intézményenk'!G44 -> 32194 | H58: =+'KIADÁSOK_BEVÉTELEK intézményenk'!H44 -> -67191 | I58: =+'KIADÁSOK_BEVÉTELEK intézményenk'!I44 -> 1611975.5 | J58: ='KIADÁSOK_BEVÉTELEK intézményenk'!J44 -> 1251624.5 | K58: ='KIADÁSOK_BEVÉTELEK intézményenk'!K44 -> 360351 | L58: ='KIADÁSOK_BEVÉTELEK intézményenk'!L44 -> 0
A59: 3. | B59: Dologi kiadások | D59: ='KIADÁSOK_BEVÉTELEK intézményenk'!D45 -> 10633273 | E59: ='KIADÁSOK_BEVÉTELEK intézményenk'!E45 -> 0 | F59: =+'KIADÁSOK_BEVÉTELEK intézményenk'!F45 -> 186515.9 | G59: =+'KIADÁSOK_BEVÉTELEK intézményenk'!G45 -> -196512 | H59: =+'KIADÁSOK_BEVÉTELEK intézményenk'!H45 -> -540409 | I59: =+'KIADÁSOK_BEVÉTELEK intézményenk'!I45 -> 10082868 | J59: ='KIADÁSOK_BEVÉTELEK intézményenk'!J45 -> 7839124.9 | K59: ='KIADÁSOK_BEVÉTELEK intézményenk'!K45 -> 2239231 | L59: ='KIADÁSOK_BEVÉTELEK intézményenk'!L45 -> 4512
A60: 4. | B60: Ellátottak pénzbeli juttatásai | D60: ='KIADÁSOK_BEVÉTELEK intézményenk'!D46 -> 398080 | E60: ='KIADÁSOK_BEVÉTELEK intézményenk'!E46 -> 0 | F60: =+'KIADÁSOK_BEVÉTELEK intézményenk'!F46 -> 203 | G60: =+'KIADÁSOK_BEVÉTELEK intézményenk'!G46 -> 0 | H60: =+'KIADÁSOK_BEVÉTELEK intézményenk'!H46 -> -19238 | I60: =+'KIADÁSOK_BEVÉTELEK intézményenk'!I46 -> 379045 | J60: ='KIADÁSOK_BEVÉTELEK intézményenk'!J46 -> 110333 | K60: ='KIADÁSOK_BEVÉTELEK intézményenk'!K46 -> 268512 | L60: ='KIADÁSOK_BEVÉTELEK intézményenk'!L46 -> 200
A61: 5. | B61: Egyéb működési célú kiadások | D61: =SUM(D62:D67) -> 11399034 | E61: =SUM(E62:E67) -> 0 | F61: =+'KIADÁSOK_BEVÉTELEK intézményenk'!F47 -> 10864.8 | G61: =+'KIADÁSOK_BEVÉTELEK intézményenk'!G47 -> 588361 | H61: =+'KIADÁSOK_BEVÉTELEK intézményenk'!H47 -> -4996275.6 | I61: =+'KIADÁSOK_BEVÉTELEK intézményenk'!I47 -> 7001984.2 | J61: =SUM(J62:J67) -> 4133309.2 | K61: =SUM(K62:K67) -> 2868675 | L61: =SUM(L62:L67) -> 0
B62: a) | C62: elvonások és befizetések | D62: ='KIADÁSOK_BEVÉTELEK intézményenk'!D48 -> 1964154 | E62: ='KIADÁSOK_BEVÉTELEK intézményenk'!E48 -> 0 | F62: =+'KIADÁSOK_BEVÉTELEK intézményenk'!F48 -> 33175 | G62: =+'KIADÁSOK_BEVÉTELEK intézményenk'!G48 -> 416541 | H62: =+'KIADÁSOK_BEVÉTELEK intézményenk'!H48 -> -295391 | I62: =+'KIADÁSOK_BEVÉTELEK intézményenk'!I48 -> 2118479 | J62: ='KIADÁSOK_BEVÉTELEK intézményenk'!J48 -> 2117329 | K62: ='KIADÁSOK_BEVÉTELEK intézményenk'!K48 -> 1150 | L62: ='KIADÁSOK_BEVÉTELEK intézményenk'!L48 -> 0
B63: b) | C63: visszatérítendő támogatás, kölcsön nyújtása, törlesztése államháztatáson belülre | D63: ='KIADÁSOK_BEVÉTELEK intézményenk'!D50 -> 0 | E63: ='KIADÁSOK_BEVÉTELEK intézményenk'!E50 -> 0 | F63: =+'KIADÁSOK_BEVÉTELEK intézményenk'!F50 -> 0 | G63: =+'KIADÁSOK_BEVÉTELEK intézményenk'!G50 -> 0 | H63: =+'KIADÁSOK_BEVÉTELEK intézményenk'!H50 -> 0 | I63: =+'KIADÁSOK_BEVÉTELEK intézményenk'!I50 -> 0 | J63: ='KIADÁSOK_BEVÉTELEK intézményenk'!J50 -> 0 | K63: ='KIADÁSOK_BEVÉTELEK intézményenk'!K50 -> 0 | L63: ='KIADÁSOK_BEVÉTELEK intézményenk'!L50 -> 0
B64: c) | C64: egyéb támogatás nyújtása államháztartáson belülre | D64: ='KIADÁSOK_BEVÉTELEK intézményenk'!D51 -> 55600 | E64: ='KIADÁSOK_BEVÉTELEK intézményenk'!E51 -> 0 | F64: =+'KIADÁSOK_BEVÉTELEK intézményenk'!F51 -> 0 | G64: =+'KIADÁSOK_BEVÉTELEK intézményenk'!G51 -> 101915 | H64: =+'KIADÁSOK_BEVÉTELEK intézményenk'!H51 -> 5950 | I64: =+'KIADÁSOK_BEVÉTELEK intézményenk'!I51 -> 163465 | J64: ='KIADÁSOK_BEVÉTELEK intézményenk'!J51 -> 99915 | K64: ='KIADÁSOK_BEVÉTELEK intézményenk'!K51 -> 63550 | L64: ='KIADÁSOK_BEVÉTELEK intézményenk'!L51 -> 0
B65: d) | C65: visszatérítendő támogatás, kölcsön nyújtása, törlesztése államháztartáson kívülre | D65: ='KIADÁSOK_BEVÉTELEK intézményenk'!D52 -> 2000 | E65: ='KIADÁSOK_BEVÉTELEK intézményenk'!E52 -> 0 | F65: =+'KIADÁSOK_BEVÉTELEK intézményenk'!F52 -> 0 | G65: =+'KIADÁSOK_BEVÉTELEK intézményenk'!G52 -> 0 | H65: =+'KIADÁSOK_BEVÉTELEK intézményenk'!H52 -> 0 | I65: =+'KIADÁSOK_BEVÉTELEK intézményenk'!I52 -> 2000 | J65: ='KIADÁSOK_BEVÉTELEK intézményenk'!J52 -> 0 | K65: ='KIADÁSOK_BEVÉTELEK intézményenk'!K52 -> 2000 | L65: ='KIADÁSOK_BEVÉTELEK intézményenk'!L52 -> 0
B66: e) | C66: egyéb támogatás nyújtása államháztartáson kívülre | D66: ='KIADÁSOK_BEVÉTELEK intézményenk'!D53 -> 1914388 | E66: ='KIADÁSOK_BEVÉTELEK intézményenk'!E53 -> 0 | F66: =+'KIADÁSOK_BEVÉTELEK intézményenk'!F53 -> 0 | G66: =+'KIADÁSOK_BEVÉTELEK intézményenk'!G53 -> 53534 | H66: =+'KIADÁSOK_BEVÉTELEK intézményenk'!H53 -> 2544.4 | I66: =+'KIADÁSOK_BEVÉTELEK intézményenk'!I53 -> 1970466.4 | J66: ='KIADÁSOK_BEVÉTELEK intézményenk'!J53 -> 1872605.4 | K66: ='KIADÁSOK_BEVÉTELEK intézményenk'!K53 -> 97861 | L66: ='KIADÁSOK_BEVÉTELEK intézményenk'!L53 -> 0
B67: f) | C67: tartalékok | D67: ='KIADÁSOK_BEVÉTELEK intézményenk'!D54 -> 7462892 | E67: ='KIADÁSOK_BEVÉTELEK intézményenk'!E54 -> 0 | F67: =+'KIADÁSOK_BEVÉTELEK intézményenk'!F54 -> -22310.2 | G67: =+'KIADÁSOK_BEVÉTELEK intézményenk'!G54 -> 16371 | H67: =+'KIADÁSOK_BEVÉTELEK intézményenk'!H54 -> -4709379 | I67: =+'KIADÁSOK_BEVÉTELEK intézményenk'!I54 -> 2747573.8 | J67: ='KIADÁSOK_BEVÉTELEK intézményenk'!J54 -> 43459.8 | K67: ='KIADÁSOK_BEVÉTELEK intézményenk'!K54 -> 2704114 | L67: ='KIADÁSOK_BEVÉTELEK intézményenk'!L54 -> 0
A68: 6. | B68: Működési kiadások összesen (1+…+5) | D68: =D57+D58+D59+D60+D61 -> 33226310 | E68: =E57+E58+E59+E60+E61 -> 0 | F68: =+'KIADÁSOK_BEVÉTELEK intézményenk'!F55 -> 293363.2 | G68: =+'KIADÁSOK_BEVÉTELEK intézményenk'!G55 -> 644564 | H68: =+'KIADÁSOK_BEVÉTELEK intézményenk'!H55 -> -4950245.6 | I68: =+'KIADÁSOK_BEVÉTELEK intézményenk'!I55 -> 29213992 | J68: =J57+J58+J59+J60+J61 -> 21277183 | K68: =K57+K58+K59+K60+K61 -> 7932097 | L68: =L57+L58+L59+L60+L61 -> 4712
A69: 7. | B69: Beruházások | D69: ='KIADÁSOK_BEVÉTELEK intézményenk'!D56 -> 1529140 | E69: ='KIADÁSOK_BEVÉTELEK intézményenk'!E56 -> 0 | F69: =+'KIADÁSOK_BEVÉTELEK intézményenk'!F56 -> -5958 | G69: =+'KIADÁSOK_BEVÉTELEK intézményenk'!G56 -> 662698 | H69: =+'KIADÁSOK_BEVÉTELEK intézményenk'!H56 -> 145932 | I69: =+'KIADÁSOK_BEVÉTELEK intézményenk'!I56 -> 2331812 | J69: ='KIADÁSOK_BEVÉTELEK intézményenk'!J56 -> 409694 | K69: ='KIADÁSOK_BEVÉTELEK intézményenk'!K56 -> 1922118 | L69: ='KIADÁSOK_BEVÉTELEK intézményenk'!L56 -> 0
A70: 8. | B70: Felújítások | D70: ='KIADÁSOK_BEVÉTELEK intézményenk'!D57 -> 3516709 | E70: ='KIADÁSOK_BEVÉTELEK intézményenk'!E57 -> 0 | F70: =+'KIADÁSOK_BEVÉTELEK intézményenk'!F57 -> 21051 | G70: =+'KIADÁSOK_BEVÉTELEK intézményenk'!G57 -> -83708 | H70: =+'KIADÁSOK_BEVÉTELEK intézményenk'!H57 -> -2153615 | I70: =+'KIADÁSOK_BEVÉTELEK intézményenk'!I57 -> 1300437 | J70: ='KIADÁSOK_BEVÉTELEK intézményenk'!J57 -> 142031 | K70: ='KIADÁSOK_BEVÉTELEK intézményenk'!K57 -> 1158406 | L70: ='KIADÁSOK_BEVÉTELEK intézményenk'!L57 -> 0
A71: 9. | B71: Egyéb felhalmozási célú kiadások | D71: =SUM(D72:D75) -> 331058 | E71: =SUM(E72:E75) -> 0 | F71: =+'KIADÁSOK_BEVÉTELEK intézményenk'!F58 -> 0 | G71: =+'KIADÁSOK_BEVÉTELEK intézményenk'!G58 -> 0 | H71: =+'KIADÁSOK_BEVÉTELEK intézményenk'!H58 -> -78062 | I71: =+'KIADÁSOK_BEVÉTELEK intézményenk'!I58 -> 252996 | J71: =SUM(J72:J75) -> 650 | K71: =SUM(K72:K75) -> 252346 | L71: =SUM(L72:L75) -> 0
B72: a) | C72: visszatérítendő támogatás, kölcsön nyújtása törlesztése államháztartáson belülre | D72: ='KIADÁSOK_BEVÉTELEK intézményenk'!D59 -> 0 | E72: ='KIADÁSOK_BEVÉTELEK intézményenk'!E59 -> 0 | F72: =+'KIADÁSOK_BEVÉTELEK intézményenk'!F59 -> 0 | G72: =+'KIADÁSOK_BEVÉTELEK intézményenk'!G59 -> 0 | H72: =+'KIADÁSOK_BEVÉTELEK intézményenk'!H59 -> 0 | I72: =+'KIADÁSOK_BEVÉTELEK intézményenk'!I59 -> 0 | J72: ='KIADÁSOK_BEVÉTELEK intézményenk'!J59 -> 0 | K72: ='KIADÁSOK_BEVÉTELEK intézményenk'!K59 -> 0 | L72: ='KIADÁSOK_BEVÉTELEK intézményenk'!L59 -> 0
B73: b) | C73: egyéb támogatás nyújtása államháztartáson belülre | D73: ='KIADÁSOK_BEVÉTELEK intézményenk'!D60 -> 1950 | E73: ='KIADÁSOK_BEVÉTELEK intézményenk'!E60 -> 0 | F73: =+'KIADÁSOK_BEVÉTELEK intézményenk'!F60 -> 0 | G73: =+'KIADÁSOK_BEVÉTELEK intézményenk'!G60 -> 0 | H73: =+'KIADÁSOK_BEVÉTELEK intézményenk'!H60 -> 0 | I73: =+'KIADÁSOK_BEVÉTELEK intézményenk'!I60 -> 1950 | J73: ='KIADÁSOK_BEVÉTELEK intézményenk'!J60 -> 0 | K73: ='KIADÁSOK_BEVÉTELEK intézményenk'!K60 -> 1950 | L73: ='KIADÁSOK_BEVÉTELEK intézményenk'!L60 -> 0
B74: c) | C74: visszatérítendő támogatás, kölcsön nyújtása, törlesztése államháztartáson kívülre | D74: ='KIADÁSOK_BEVÉTELEK intézményenk'!D61 -> 118000 | E74: ='KIADÁSOK_BEVÉTELEK intézményenk'!E61 -> 0 | F74: =+'KIADÁSOK_BEVÉTELEK intézményenk'!F61 -> 0 | G74: =+'KIADÁSOK_BEVÉTELEK intézményenk'!G61 -> 0 | H74: =+'KIADÁSOK_BEVÉTELEK intézményenk'!H61 -> -38599 | I74: =+'KIADÁSOK_BEVÉTELEK intézményenk'!I61 -> 79401 | J74: ='KIADÁSOK_BEVÉTELEK intézményenk'!J61 -> 0 | K74: ='KIADÁSOK_BEVÉTELEK intézményenk'!K61 -> 79401 | L74: ='KIADÁSOK_BEVÉTELEK intézményenk'!L61 -> 0
B75: d) | C75: egyéb támogatás nyújtása államháztartáson kívülre | D75: ='KIADÁSOK_BEVÉTELEK intézményenk'!D62 -> 211108 | E75: ='KIADÁSOK_BEVÉTELEK intézményenk'!E62 -> 0 | F75: =+'KIADÁSOK_BEVÉTELEK intézményenk'!F62 -> 0 | G75: =+'KIADÁSOK_BEVÉTELEK intézményenk'!G62 -> 0 | H75: =+'KIADÁSOK_BEVÉTELEK intézményenk'!H62 -> -39463 | I75: =+'KIADÁSOK_BEVÉTELEK intézményenk'!I62 -> 171645 | J75: ='KIADÁSOK_BEVÉTELEK intézményenk'!J62 -> 650 | K75: ='KIADÁSOK_BEVÉTELEK intézményenk'!K62 -> 170995 | L75: ='KIADÁSOK_BEVÉTELEK intézményenk'!L62 -> 0
A76: 10. | B76: Felhalmozási kiadások összesen (7+8+9) | D76: =D69+D70+D71 -> 5376907 | E76: =E69+E70+E71 -> 0 | F76: =+'KIADÁSOK_BEVÉTELEK intézményenk'!F63 -> 15093 | G76: =+'KIADÁSOK_BEVÉTELEK intézményenk'!G63 -> 578990 | H76: =+'KIADÁSOK_BEVÉTELEK intézményenk'!H63 -> -2085745 | I76: =+'KIADÁSOK_BEVÉTELEK intézményenk'!I63 -> 3885245 | J76: =J69+J70+J71 -> 552375 | K76: =K69+K70+K71 -> 3332870 | L76: =L69+L70+L71 -> 0
A77: KÖLTSÉGVETÉSI KIADÁSOK ÖSSZESEN | D77: =D68+D76 -> 38603217 | E77: =E68+E76 -> 0 | F77: =+'KIADÁSOK_BEVÉTELEK intézményenk'!F64 -> 308456.2 | G77: =+'KIADÁSOK_BEVÉTELEK intézményenk'!G64 -> 1223554 | H77: =+'KIADÁSOK_BEVÉTELEK intézményenk'!H64 -> -7035989.6 | I77: =+'KIADÁSOK_BEVÉTELEK intézményenk'!I64 -> 33099237 | J77: =+'KIADÁSOK_BEVÉTELEK intézményenk'!J64 -> 21829558 | K77: =+'KIADÁSOK_BEVÉTELEK intézményenk'!K64 -> 11264967 | L77: =+'KIADÁSOK_BEVÉTELEK intézményenk'!L64 -> 4712
A78: 11. | B78: Finanszírozási kiadások
B79: a) | C79: hitelek, kölcsönök törlesztése | D79: ='KIADÁSOK_BEVÉTELEK intézményenk'!D66 -> 2000000 | E79: ='KIADÁSOK_BEVÉTELEK intézményenk'!E66 -> 0 | F79: =+'KIADÁSOK_BEVÉTELEK intézményenk'!F66 -> 0 | G79: =+'KIADÁSOK_BEVÉTELEK intézményenk'!G66 -> 0 | H79: =+'KIADÁSOK_BEVÉTELEK intézményenk'!H66 -> 0 | I79: =+'KIADÁSOK_BEVÉTELEK intézményenk'!I66 -> 2000000 | J79: ='KIADÁSOK_BEVÉTELEK intézményenk'!J66 -> 0 | K79: ='KIADÁSOK_BEVÉTELEK intézményenk'!K66 -> 2000000 | L79: ='KIADÁSOK_BEVÉTELEK intézményenk'!L66 -> 0
B80: b) | C80: értékpapírok vásárlása | D80: ='KIADÁSOK_BEVÉTELEK intézményenk'!D67 -> 0 | E80: ='KIADÁSOK_BEVÉTELEK intézményenk'!E67 -> 0 | F80: =+'KIADÁSOK_BEVÉTELEK intézményenk'!F67 -> 0 | G80: =+'KIADÁSOK_BEVÉTELEK intézményenk'!G67 -> 0 | H80: =+'KIADÁSOK_BEVÉTELEK intézményenk'!H67 -> 0 | I80: =+'KIADÁSOK_BEVÉTELEK intézményenk'!I67 -> 0 | J80: ='KIADÁSOK_BEVÉTELEK intézményenk'!J67 -> 0 | K80: ='KIADÁSOK_BEVÉTELEK intézményenk'!K67 -> 0 | L80: ='KIADÁSOK_BEVÉTELEK intézményenk'!L67 -> 0
B81: c) | C81: államháztartáson belüli megelőlegezések visszafizetése | D81: ='KIADÁSOK_BEVÉTELEK intézményenk'!D68 -> 197440 | E81: ='KIADÁSOK_BEVÉTELEK intézményenk'!E68 -> 0 | F81: =+'KIADÁSOK_BEVÉTELEK intézményenk'!F68 -> 0 | G81: =+'KIADÁSOK_BEVÉTELEK intézményenk'!G68 -> 46005 | H81: =+'KIADÁSOK_BEVÉTELEK intézményenk'!H68 -> 0 | I81: =+'KIADÁSOK_BEVÉTELEK intézményenk'!I68 -> 243445 | J81: ='KIADÁSOK_BEVÉTELEK intézményenk'!J68 -> 243445 | K81: ='KIADÁSOK_BEVÉTELEK intézményenk'!K68 -> 0 | L81: ='KIADÁSOK_BEVÉTELEK intézményenk'!L68 -> 0
B82: d) | C82: pénzeszközök betétként való elhelyezése | D82: ='KIADÁSOK_BEVÉTELEK intézményenk'!D69 -> 0 | E82: ='KIADÁSOK_BEVÉTELEK intézményenk'!E69 -> 0 | F82: =+'KIADÁSOK_BEVÉTELEK intézményenk'!F69 -> 0 | G82: =+'KIADÁSOK_BEVÉTELEK intézményenk'!G69 -> 0 | H82: =+'KIADÁSOK_BEVÉTELEK intézményenk'!H69 -> 0 | I82: =+'KIADÁSOK_BEVÉTELEK intézményenk'!I69 -> 0 | J82: ='KIADÁSOK_BEVÉTELEK intézményenk'!J69 -> 0 | K82: ='KIADÁSOK_BEVÉTELEK intézményenk'!K69 -> 0 | L82: ='KIADÁSOK_BEVÉTELEK intézményenk'!L69 -> 0
B83: e) | C83: irányító szervi támogatás folyósítása (kerület összesenből kihagyva duplázódás miatt-konszolidálás) | F83: =+'KIADÁSOK_BEVÉTELEK intézményenk'!F70 -> 91462.4 | G83: =+'KIADÁSOK_BEVÉTELEK intézményenk'!G70 -> 241022 | H83: =+'KIADÁSOK_BEVÉTELEK intézményenk'!H70 -> 759498 | I83: =+'KIADÁSOK_BEVÉTELEK intézményenk'!I70 -> 11140510
A84: FINANSZÍROZÁSI KIADÁSOK ÖSSZESEN | D84: =SUM(D79:D83) -> 2197440 | E84: =SUM(E79:E83) -> 0 | F84: =+'KIADÁSOK_BEVÉTELEK intézményenk'!F71 -> 0 | G84: =+'KIADÁSOK_BEVÉTELEK intézményenk'!G71 -> 46005 | H84: =+'KIADÁSOK_BEVÉTELEK intézményenk'!H71 -> 0 | I84: =+'KIADÁSOK_BEVÉTELEK intézményenk'!I71 -> 2243445 | J84: =SUM(J79:J83) -> 243445 | K84: =SUM(K79:K83) -> 2000000 | L84: =SUM(L79:L83) -> 0
A85: KIADÁSOK MINDÖSSZESEN | D85: =D77+D84 -> 40800657 | E85: =E77+E84 -> 0 | F85: =+'KIADÁSOK_BEVÉTELEK intézményenk'!F72 -> 308456.2 | G85: =+'KIADÁSOK_BEVÉTELEK intézményenk'!G72 -> 1269559 | H85: =+'KIADÁSOK_BEVÉTELEK intézményenk'!H72 -> -7035989.6 | I85: =+'KIADÁSOK_BEVÉTELEK intézményenk'!I72 -> 35342682 | J85: =J77+J84 -> 22073003 | K85: =K77+K84 -> 13264967 | L85: =L77+L84 -> 4712
C88: Irányítószervi támogatás összesen: | D88: ='KIADÁSOK_BEVÉTELEK intézményenk'!D74 -> 10048528 | E88: ='KIADÁSOK_BEVÉTELEK intézményenk'!E74 -> 6936518 | F88: ='KIADÁSOK_BEVÉTELEK intézményenk'!F74 -> 1683882 | G88: ='KIADÁSOK_BEVÉTELEK intézményenk'!G74 -> -1179369 | I88: =+F88+G88 -> 504513
C89: - irányítószervi támogatásból állami támogatás | D89: ='KIADÁSOK_BEVÉTELEK intézményenk'!D75 -> 4653791 | E89: ='KIADÁSOK_BEVÉTELEK intézményenk'!E75 -> 448623 | F89: =+'KIADÁSOK_BEVÉTELEK intézményenk'!F75 -> 3878422 | G89: ='KIADÁSOK_BEVÉTELEK intézményenk'!G75 -> 448623 | I89: =+F89+G89 -> 4327045
C90: - irányítószervi támogatásból önkormányzati támogatás | D90: ='KIADÁSOK_BEVÉTELEK intézményenk'!D76 -> 5394737 | E90: ='KIADÁSOK_BEVÉTELEK intézményenk'!E76 -> 6487895 | F90: =+'KIADÁSOK_BEVÉTELEK intézményenk'!F76 -> -2194540 | G90: ='KIADÁSOK_BEVÉTELEK intézményenk'!G76 -> -1627992 | I90: =+F90+G90 -> -3822532
D95: =D42-D85 -> 0 | E95: =E42-E85 -> 0 | F95: =F42-F85 -> -0.2 | J95: =J42-J85 -> 1562132.4 | K95: =K42-K85 -> -1576804 | L95: =L42-L85 -> 14671
E97: összes bevétel-működési kiadások
E100: ELLENŐRZÉS | F100: =F85-'KIADÁSOK_BEVÉTELEK intézményenk'!F72 -> 0 | J100: =J85-'KIADÁSOK_BEVÉTELEK intézményenk'!J72 -> 0 | K100: =K85-'KIADÁSOK_BEVÉTELEK intézményenk'!K72 -> 0 | L100: =L85-'KIADÁSOK_BEVÉTELEK intézményenk'!L72 -> 0
F101: =F42-'KIADÁSOK_BEVÉTELEK intézményenk'!F41 -> 0 | J101: =J86-'KIADÁSOK_BEVÉTELEK intézményenk'!J73 -> 0 | K101: =K42-'KIADÁSOK_BEVÉTELEK intézményenk'!K41 -> 0 | L101: =L42-'KIADÁSOK_BEVÉTELEK intézményenk'!L41 -> 0

Sheet KIADÁSOK_BEVÉTELEK intézményenk
T2: 4. melléklet az …./2021. (…... …..) önkormányzati rendelethez
L4: adatok eFt-ban | T4: adatok eFt-ban | AB4: adatok eFt-ban | AJ4: adatok eFt-ban | AQ4: adatok eFt-ban | AY4: adatok eFt-ban | BG4: adatok eFt-ban | BO4: adatok eFt-ban | BW4: adatok eFt-ban | CE4: adatok eFt-ban | CM4: adatok eFt-ban | CT4: adatok eFt-ban | DA4: adatok eFt-ban | DH4: adatok eFt-ban | DO4: adatok eFt-ban | DV4: adatok eFt-ban | EC4: adatok eFt-ban | EJ4: adatok eFt-ban | EQ4: adatok eFt-ban | EX4: adatok eFt-ban | FE4: adatok eFt-ban | FL4: adatok eFt-ban | FS4: adatok eFt-ban | FZ4: adatok eFt-ban | GG4: adatok eFt-ban | GN4: adatok eFt-ban | GU4: adatok eFt-ban | HB4: adatok eFt-ban | HI4: adatok eFt-ban | HP4: adatok eFt-ban | HW4: adatok eFt-ban | ID4: adatok eFt-ban | IK4: adatok eFt-ban | IR4: adatok eFt-ban | IY4: adatok eFt-ban | JG4: adatok eFt-ban
M5: 2. Cím | U5: 3. Cím | AC5: 4. Cím | AK5: 5. Cím | AR5: 5. Cím | BH5: 6. Cím | BP5: 7. Cím | BX5: 8. Cím | CN5: 9. Cím | CU5: 10. Cím | DB5: 11. Cím | DI5: 12. Cím | DP5: 13. Cím | DW5: 14. Cím | ED5: 15. Cím | EK5: 16. Cím | ER5: 17. Cím | EY5: 18. Cím | FF5: 19. Cím | FM5: 20. Cím | FT5: 21. Cím | GA5: 22. Cím | GH5: 23. Cím | GO5: 24. Cím | GV5: 25. Cím | HC5: 26. Cím | HJ5: 27. Cím | HQ5: 28. Cím | HX5: 29. Cím | IE5: 30. Cím | IL5: 31. Cím | IS5: 32. Cím | IZ5: 33. Cím
A6: INTÉZMÉNY MEGNEVEZÉSE | D6: KERÜLET ÖSSZESEN (KONSZOLIDÁLT) | M6: I. BUDAPEST FŐVÁROS XIV. KERÜLET ZUGLÓ ÖNKORMÁNYZATA | U6: II. BUDAPEST FŐVÁROS XIV. KERÜLET ZUGLÓI POLGÁRMESTERI HIVATAL | AC6: III. ZUGLÓI EGÉSZSÉGÜGYI SZOLGÁLAT | AK6: ZUGLÓI INTÉZMÉNYGAZDÁLKODÁSI KÖZPONT | AR6: IV. ZUGLÓI ÖNKORMÁNYZATI RENDÉSZET | AZ6: V. SZOCIÁLIS ÁGAZAT ÖSSZESEN | BH6: VI. ZUGLÓI EGYESÍTETT BÖLCSŐDÉK | BP6: VII. ZUGLÓI CSALÁD- ÉS GYERMEKJÓLÉTI KÖZPONT | BX6: VIII. ZUGLÓI SZOCIÁLIS SZOLGÁLTATÓ KÖZPONT | CF6: IX. ÓVODÁK ÖSSZESEN | CN6: X. ZUGLÓI APRÓFALVA ÓVODA | CU6: XI. ZUGLÓI BÓBITA ÓVODA | DB6: XII. ZUGLÓI CSEPEREDŐ ÓVODA | DI6: XIII. ZUGLÓI CSICSERGŐ ÓVODA | DP6: XIV. ZUGLÓI NAPKÖZIOTTHONOS ÓVODA | DW6: XV. ZUGLÓI HERMINKA ÓVODA | ED6: XVI. ZUGLÓI HÉTSZÍNVIRÁG ÓVODA | EK6: XVII. ZUGLÓI JÁTÉKSZÍN ÓVODA | ER6: XVIII. ZUGLÓI KERÉKGYÁRTÓ ÓVODA | EY6: XIX. ZUGLÓI KINCSKERESŐ ÓVODA | FF6: XX. ZUGLÓI MÁLYVA ÓVODA | FM6: XXI. ZUGLÓI MESEHÁZ ÓVODA | FT6: XXII. ZUGLÓI MÓKAVÁR ÓVODA | GA6: XXIII. ZUGLÓI NAPRAFORGÓ ÓVODA | GH6: XXIV. ZUGLÓI NAPSUGÁR ÓVODA | GO6: XXV. ZUGLÓI NARANCS ÓVODA | GV6: XXVI. ZUGLÓI ÓPERENCIÁS ÓVODA | HC6: XXVII. ZUGLÓI ÖRÖKZÖLD ÓVODA | HJ6: XXVIII. ZUGLÓI PÖTTÖM PARK ÓVODA | HQ6: XXIX. ZUGLÓI RÓZSAVÁR ÓVODA | HX6: XXX. ZUGLÓI TIHANY ÓVODA | IE6: XXXI. ZUGLÓI TÜCSÖKTANYA ÓVODA | IL6: XXXII. ZUGLÓI TÜNDÉRKERT ÓVODA | IS6: XXXIII. ZUGLÓI ZÖLD LURKÓK ÓVODA | IZ6: XXXIV. ZUGLÓI EGYESÍTETT ÓVODA
A7: Előirámyzat megnevezése | D7: 2021. évi eredeti előirányzat | E7: Módosítás | F7: 1. Módosítás | G7: 2. Módosítás | H7: 3. Módosítás | I7: 2021. évi módosított előirányzat | J7: 2021. évi módosított előirányzat | M7: 2021. évi terv előirányzat | N7: 1. Módosítás | O7: 2. Módosítás | P7: 3. Módosítás | Q7: 2021. évi módosított előirányzat | R7: 2021. évi módosított előirányzat | U7: 2021. évi eredeti előirányzat | V7: 1. Módosítás | W7: 2. Módosítás | X7: 3. Módosítás | Y7: 2021. évi módosított előirányzat | Z7: 2021. évi módosított előirányzat | AC7: 2021. évi eredeti előirányzat | AD7: 1. Módosítás | AE7: 2. Módosítás | AF7: 3. Módosítás | AG7: 2021. évi módosított előirányzat | AH7: 2021. évi módosított előirányzat | AK7: 2021. évi eredeti előirányzat | AL7: 2021. évi módosított előirányzat | AM7: Módosítás | AN7: 2021. évi módosított előirányzat | AO7: 2021. évi módosított előirányzat | AR7: 2021. évi eredeti előirányzat | AS7: 1. Módosítás | AT7: 2. Módosítás | AU7: 3. Módosítás | AV7: 2021. évi módosított előirányzat | AW7: 2021. évi módosított előirányzat | AZ7: 2021. évi eredeti előirányzat | BA7: 1. Módosítás | BB7: 2. Módosítás | BC7: 3. Módosítás | BD7: 2021. évi módosított előirányzat | BE7: 2021. évi módosított előirányzat | BH7: 2021. évi eredeti előirányzat | BI7: 1. Módosítás | BJ7: 2. Módosítás | BK7: 3. Módosítás | BL7: 2021. évi módosított előirányzat | BM7: 2021. évi módosított előirányzat | BP7: 2021. évi eredeti előirányzat | BQ7: 1. Módosítás | BR7: 2. Módosítás | BS7: 3. Módosítás | BT7: 2021. évi módosított előirányzat | BU7: 2021. évi módosított előirányzat | BX7: 2021. évi eredeti előirányzat | BY7: 1. Módosítás | BZ7: 2. Módosítás | CA7: 3. Módosítás | CB7: 2021. évi módosított előirányzat | CC7: 2021. évi módosított előirányzat | CF7: 2021. évi eredeti előirányzat | CG7: 1. Módosítás | CH7: 2. Módosítás | CI7: 3. Módosítás | CJ7: 2021. évi módosított előirányzat | CK7: 2021. évi módosított előirányzat | CN7: 2021. évi eredeti előirányzat | CO7: 1. Módosítás | CP7: 2. Módosítás | CQ7: 2021. évi módosított előirányzat | CR7: 2021. évi módosított előirányzat | CU7: 2021. évi eredeti előirányzat | CV7: 1. Módosítás | CW7: 2. Módosítás | CX7: 2021. évi módosított előirányzat | CY7: 2021. évi módosított előirányzat | DB7: 2021. évi eredeti előirányzat | DC7: 1. Módosítás | DD7: 2. Módosítás | DE7: 2021. évi módosított előirányzat | DF7: 2021. évi módosított előirányzat | DI7: 2021. évi eredeti előirányzat | DJ7: 1. Módosítás | DK7: 2. Módosítás | DL7: 2021. évi módosított előirányzat | DM7: 2021. évi módosított előirányzat | DP7: 2021. évi eredeti előirányzat | DQ7: 1. Módosítás | DR7: 2. Módosítás | DS7: 2021. évi módosított előirányzat | DT7: 2021. évi módosított előirányzat | DW7: 2021. évi eredeti előirányzat | DX7: 1. Módosítás | DY7: 2. Módosítás | DZ7: 2021. évi módosított előirányzat | EA7: 2021. évi módosított előirányzat | ED7: 2021. évi eredeti előirányzat | EE7: 1. Módosítás | EF7: 2. Módosítás | EG7: 2021. évi módosított előirányzat | EH7: 2021. évi módosított előirányzat | EK7: 2021. évi eredeti előirányzat | EL7: 1. Módosítás | EM7: 2. Módosítás | EN7: 2021. évi módosított előirányzat | EO7: 2021. évi módosított előirányzat | ER7: 2021. évi eredeti előirányzat | ES7: 1. Módosítás | ET7: 2. Módosítás | EU7: 2021. évi módosított előirányzat | EV7: 2021. évi módosított előirányzat | EY7: 2021. évi eredeti előirányzat | EZ7: 1. Módosítás | FA7: 2. Módosítás | FB7: 2021. évi módosított előirányzat | FC7: 2021. évi módosított előirányzat | FF7: 2021. évi eredeti előirányzat | FG7: 1. Módosítás | FH7: 2. Módosítás | FI7: 2021. évi módosított előirányzat | FJ7: 2021. évi módosított előirányzat | FM7: 2021. évi eredeti előirányzat | FN7: 1. Módosítás | FO7: 2. Módosítás | FP7: 2021. évi módosított előirányzat | FQ7: 2021. évi módosított előirányzat | FT7: 2021. évi eredeti előirányzat | FU7: 1. Módosítás | FV7: 2. Módosítás | FW7: 2021. évi módosított előirányzat | FX7: 2021. évi módosított előirányzat | GA7: 2021. évi eredeti előirányzat | GB7: 1. Módosítás | GC7: 2. Módosítás | GD7: 2021. évi módosított előirányzat | GE7: 2021. évi módosított előirányzat | GH7: 2021. évi eredeti előirányzat | GI7: 1. Módosítás | GJ7: 2. Módosítás | GK7: 2021. évi módosított előirányzat | GL7: 2021. évi módosított előirányzat | GO7: 2021. évi eredeti előirányzat | GP7: 1. Módosítás | GQ7: 2. Módosítás | GR7: 2021. évi módosított előirányzat | GS7: 2021. évi módosított előirányzat | GV7: 2021. évi eredeti előirányzat | GW7: 1. Módosítás | GX7: 2. Módosítás | GY7: 2021. évi módosított előirányzat | GZ7: 2021. évi módosított előirányzat | HC7: 2021. évi eredeti előirányzat | HD7: 1. Módosítás | HE7: 2. Módosítás | HF7: 2021. évi módosított előirányzat | HG7: 2021. évi módosított előirányzat | HJ7: 2021. évi eredeti előirányzat | HK7: 1. Módosítás | HL7: 2. Módosítás | HM7: 2021. évi módosított előirányzat | HN7: 2021. évi módosított előirányzat | HQ7: 2021. évi eredeti előirányzat | HR7: 1. Módosítás | HS7: 2. Módosítás | HT7: 2021. évi módosított előirányzat | HU7: 2021. évi módosított előirányzat | HX7: 2021. évi eredeti előirányzat | HY7: 1. Módosítás | HZ7: 2. Módosítás | IA7: 2021. évi módosított előirányzat | IB7: 2021. évi módosított előirányzat | IE7: 2021. évi eredeti előirányzat | IF7: 1. Módosítás | IG7: 2. Módosítás | IH7: 2021. évi módosított előirányzat | II7: 2021. évi módosított előirányzat | IL7: 2021. évi eredeti előirányzat | IM7: 1. Módosítás | IN7: 2. Módosítás | IO7: 2021. évi módosított előirányzat | IP7: 2021. évi módosított előirányzat | IS7: 2021. évi eredeti előirányzat | IT7: 1. Módosítás | IU7: 2. Módosítás | IV7: 2021. évi módosított előirányzat | IW7: 2021. évi módosított előirányzat | IZ7: 2021. évi eredeti előirányzat | JA7: 1. Módosítás | JB7: 2. Módosítás | JC7: 3. Módosítás | JD7: 2021. évi módosított előirányzat | JE7: 2021. évi módosított előirányzat
J8: kötelező | K8: önként vállalt | L8: állam- igazgatási | R8: kötelező | S8: önként vállalt | T8: állam- igazgatási | Z8: kötelező | AA8: önként vállalt | AB8: állam- igazgatási | AH8: kötelező | AI8: önként vállalt | AJ8: állam- igazgatási | AO8: kötelező | AP8: önként vállalt | AQ8: állam- igazgatási | AW8: kötelező | AX8: önként vállalt | AY8: állam- igazgatási | BE8: kötelező | BF8: önként vállalt | BG8: állam- igazgatási | BM8: kötelező | BN8: önként vállalt | BO8: állam- igazgatási | BU8: kötelező | BV8: önként vállalt | BW8: állam- igazgatási | CC8: kötelező | CD8: önként vállalt | CE8: állam- igazgatási | CK8: kötelező | CL8: önként vállalt | CM8: állam- igazgatási | CR8: kötelező | CS8: önként vállalt | CT8: állam- igazgatási | CY8: kötelező | CZ8: önként vállalt | DA8: állam- igazgatási | DF8: kötelező | DG8: önként vállalt | DH8: állam- igazgatási | DM8: kötelező | DN8: önként vállalt | DO8: állam- igazgatási | DT8: kötelező | DU8: önként vállalt | DV8: állam- igazgatási | EA8: kötelező | EB8: önként vállalt | EC8: állam- igazgatási | EH8: kötelező | EI8: önként vállalt | EJ8: állam- igazgatási | EO8: kötelező | EP8: önként vállalt | EQ8: állam- igazgatási | EV8: kötelező | EW8: önként vállalt | EX8: állam- igazgatási | FC8: kötelező | FD8: önként vállalt | FE8: állam- igazgatási | FJ8: kötelező | FK8: önként vállalt | FL8: állam- igazgatási | FQ8: kötelező | FR8: önként vállalt | FS8: állam- igazgatási | FX8: kötelező | FY8: önként vállalt | FZ8: állam- igazgatási | GE8: kötelező | GF8: önként vállalt | GG8: állam- igazgatási | GL8: kötelező | GM8: önként vállalt | GN8: állam- igazgatási | GS8: kötelező | GT8: önként vállalt | GU8: állam- igazgatási | GZ8: kötelező | HA8: önként vállalt | HB8: állam- igazgatási | HG8: kötelező | HH8: önként vállalt | HI8: állam- igazgatási | HN8: kötelező | HO8: önként vállalt | HP8: állam- igazgatási | HU8: kötelező | HV8: önként vállalt | HW8: állam- igazgatási | IB8: kötelező | IC8: önként vállalt | ID8: állam- igazgatási | II8: kötelező | IJ8: önként vállalt | IK8: állam- igazgatási | IP8: kötelező | IQ8: önként vállalt | IR8: állam- igazgatási | IW8: kötelező | IX8: önként vállalt | IY8: állam- igazgatási | JE8: kötelező | JF8: önként vállalt | JG8: állam- igazgatási
A9: BEVÉTELEK
A10: 1. | B10: Működési célú támogatások államháztartáson belülről | D10: =SUM(D11:D14) -> 15465205 | E10: =SUM(E11:E14) -> 0 | F10: =+N10+V10+AD10+AS10+BA10+CG10 -> 146531 | G10: =+O10+W10+AE10+AT10+BB10+CH10 -> 709920 | H10: =+P10+X10+AF10+AU10+BC10+CI10 -> -6389798 | I10: =+Q10+Y10+AG10+AV10+BD10+CJ10 -> 9931858 | J10: =+R10+Z10+AH10+AW10+BE10+CK10 -> 9112909 | K10: =+S10+AA10+AI10+AX10+BF10+CL10 -> 818949 | L10: =+T10+AB10+AJ10+AY10+BG10+CM10 -> 10947 | M10: =+M11+M14 -> 12786012 | N10: =SUM(N11:N14) -> 146531 | O10: =SUM(O11:O14) -> 669920 | P10: =SUM(P11:P14) -> -6740902 | Q10: =SUM(M10:P10) -> 6861561 | R10: =+Q10-S10 -> 6775868 | S10: =+S14 -> 85693 | T10: =SUM(T11:T14) -> 0 | U10: =SUM(U11:U14) -> 5775 | V10: =SUM(V11:V14) -> 0 | W10: =SUM(W11:W14) -> 0 | X10: =SUM(X11:X14) -> 0 | Y10: =+V10+U10+W10+X10 -> 5775 | Z10: =SUM(Z11:Z14) -> 5775 | AA10: =SUM(AA11:AA14) -> 0 | AB10: =SUM(AB11:AB14) -> 0 | AC10: =SUM(AC11:AC14) -> 2658597 | AD10: =SUM(AD11:AD14) -> 0 | AE10: =SUM(AE11:AE14) -> 40000 | AF10: =SUM(AF11:AF14) -> 347319 | AG10: =+AD10+AE10+AC10+AF10 -> 3045916 | AH10: =SUM(AH11:AH14) -> 2327481 | AI10: =SUM(AI11:AI14) -> 718435 | AJ10: =SUM(AJ11:AJ14) -> 0 | AR10: =SUM(AR11:AR14) -> 0 | AS10: =SUM(AS11:AS14) -> 0 | AT10: =+AR10 -> 0 | AU10: =+AS10 -> 0 | AV10: =+AS10+AT10+AR10+AU10 -> 0 | AW10: =SUM(AW11:AW14) -> 0 | AX10: =SUM(AX11:AX14) -> 0 | AY10: =SUM(AY11:AY14) -> 0 | AZ10: =SUM(AZ11:AZ14) -> 14821 | BA10: =SUM(BA11:BA14) -> 0 | BB10: =SUM(BB11:BB14) -> 0 | BC10: =SUM(BC11:BC14) -> 136 | BD10: =SUM(AZ10:BC10) -> 14957 | BE10: =SUM(BE11:BE14) -> 136 | BF10: =SUM(BF11:BF14) -> 14821 | BG10: =SUM(BG11:BG14) -> 0 | BH10: =SUM(BH11:BH14) -> 0 | BI10: =SUM(BI11:BI14) -> 0 | BJ10: =SUM(BJ11:BJ14) -> 0 | BK10: =SUM(BK11:BK14) -> 0 | BL10: =+BI10+BJ10+BH10+BK10 -> 0 | BM10: =SUM(BM11:BM14) -> 0 | BN10: =SUM(BN11:BN14) -> 0 | BO10: =SUM(BO11:BO14) -> 0 | BP10: =SUM(BP11:BP14) -> 0 | BQ10: =SUM(BQ11:BQ14) -> 0 | BR10: =SUM(BR11:BR14) -> 0 | BS10: =SUM(BS11:BS14) -> 136 | BT10: =+BQ10+BR10+BP10+BS10 -> 136 | BU10: =SUM(BU11:BU14) -> 136 | BV10: =SUM(BV11:BV14) -> 0 | BW10: =SUM(BW11:BW14) -> 0 | BX10: =SUM(BX11:BX14) -> 14821 | BY10: =SUM(BY11:BY14) -> 0 | BZ10: =SUM(BZ11:BZ14) -> 0 | CA10: =SUM(CA11:CA14) -> 0 | CB10: =SUM(BX10:BZ10)+CA10 -> 14821 | CC10: =SUM(CC11:CC14) -> 0 | CD10: =SUM(CD11:CD14) -> 14821 | CE10: =SUM(CE11:CE14) -> 0 | CF10: =SUM(CF11:CF14) -> 0 | CG10: =SUM(CG11:CG14) -> 0 | CH10: =SUM(CH11:CH14) -> 0 | CI10: =SUM(CI11:CI14) -> 3649 | CJ10: =SUM(CQ10,CX10,DE10,DL10,DS10,DZ10,EG10,EN10,EU10,FB10,FI10,FP10,FW10,GD10,GK10,GR10,GY10,HF10,HM10,HT10,IA10,IH10,IO10,IV10)+JD10 -> 3649 | CK10: =SUM(CR10,CY10,DF10,DM10,DT10,EA10,EH10,EO10,EV10,FC10,FJ10,FQ10,FX10,GE10,GL10,GS10,GZ10,HG10,HN10,HU10,IB10,II10,IP10,IW10)+JE10 -> 3649 | CL10: =SUM(CS10,CZ10,DG10,DN10,DU10,EB10,EI10,EP10,EW10,FD10,FK10,FR10,FY10,GF10,GM10,GT10,HA10,HH10,HO10,HV10,IC10,IJ10,IQ10,IX10)+JF10 -> 0 | CM10: =SUM(CT10,DA10,DH10,DO10,DV10,EC10,EJ10,EQ10,EX10,FE10,FL10,FS10,FZ10,GG10,GN10,GU10,HB10,HI10,HP10,HW10,ID10,IK10,IR10,IY10)+JG10 -> 10947 | CN10: =SUM(CN11:CN14) -> 0 | CO10: =SUM(CO11:CO14) -> 0 | CP10: =SUM(CP11:CP14) -> 0 | CQ10: =+CO10+CP10 -> 0 | CR10: =SUM(CR11:CR14) -> 0 | CS10: =SUM(CS11:CS14) -> 0 | CT10: =SUM(CT11:CT14) -> 0 | CU10: =SUM(CU11:CU14) -> 0 | CV10: =SUM(CV11:CV14) -> 0 | CW10: =SUM(CW11:CW14) -> 0 | CX10: =+CV10+CW10 -> 0 | CY10: =SUM(CY11:CY14) -> 0 | CZ10: =SUM(CZ11:CZ14) -> 0 | DA10: =SUM(DA11:DA14) -> 0 | DB10: =SUM(DB11:DB14) -> 0 | DC10: =SUM(DC11:DC14) -> 0 | DD10: =SUM(DD11:DD14) -> 0 | DE10: =+DC10+DD10 -> 0 | DF10: =SUM(DF11:DF14) -> 0 | DG10: =SUM(DG11:DG14) -> 0 | DH10: =SUM(DH11:DH14) -> 0 | DI10: =SUM(DI11:DI14) -> 0 | DJ10: =SUM(DJ11:DJ14) -> 0 | DK10: =SUM(DK11:DK14) -> 0 | DL10: =+DJ10+DK10 -> 0 | DM10: =SUM(DM11:DM14) -> 0 | DN10: =SUM(DN11:DN14) -> 0 | DO10: =SUM(DO11:DO14) -> 0 | DP10: =SUM(DP11:DP14) -> 0 | DQ10: =SUM(DQ11:DQ14) -> 0 | DR10: =SUM(DR11:DR14) -> 0 | DS10: =+DQ10+DR10 -> 0 | DT10: =SUM(DT11:DT14) -> 0 | DU10: =SUM(DU11:DU14) -> 0 | DV10: =SUM(DV11:DV14) -> 0 | DW10: =SUM(DW11:DW14) -> 0 | DX10: =SUM(DX11:DX14) -> 0 | DY10: =SUM(DY11:DY14) -> 0 | DZ10: =+DX10+DY10 -> 0 | EA10: =SUM(EA11:EA14) -> 0 | EB10: =SUM(EB11:EB14) -> 0 | EC10: =SUM(EC11:EC14) -> 0 | ED10: =SUM(ED11:ED14) -> 0 | EE10: =SUM(EE11:EE14) -> 0 | EF10: =SUM(EF11:EF14) -> 0 | EG10: =+EE10+EF10 -> 0 | EH10: =SUM(EH11:EH14) -> 0 | EI10: =SUM(EI11:EI14) -> 0 | EJ10: =SUM(EJ11:EJ14) -> 0 | EK10: =SUM(EK11:EK14) -> 0 | EL10: =SUM(EL11:EL14) -> 0 | EM10: =SUM(EM11:EM14) -> 0 | EN10: =+EL10+EM10 -> 0 | EO10: =SUM(EO11:EO14) -> 0 | EP10: =SUM(EP11:EP14) -> 0 | EQ10: =SUM(EQ11:EQ14) -> 0 | ER10: =SUM(ER11:ER14) -> 0 | ES10: =SUM(ES11:ES14) -> 0 | ET10: =SUM(ET11:ET14) -> 0 | EU10: =+ES10+ET10 -> 0 | EV10: =SUM(EV11:EV14) -> 0 | EW10: =SUM(EW11:EW14) -> 0 | EX10: =SUM(EX11:EX14) -> 0 | EY10: =SUM(EY11:EY14) -> 0 | EZ10: =SUM(EZ11:EZ14) -> 0 | FA10: =SUM(FA11:FA14) -> 0 | FB10: =+EZ10+FA10 -> 0 | FC10: =SUM(FC11:FC14) -> 0 | FD10: =SUM(FD11:FD14) -> 0 | FE10: =SUM(FE11:FE14) -> 0 | FF10: =SUM(FF11:FF14) -> 0 | FG10: =SUM(FG11:FG14) -> 0 | FH10: =SUM(FH11:FH14) -> 0 | FI10: =+FG10+FH10 -> 0 | FJ10: =SUM(FJ11:FJ14) -> 0 | FK10: =SUM(FK11:FK14) -> 0 | FL10: =SUM(FL11:FL14) -> 0 | FM10: =SUM(FM11:FM14) -> 0 | FN10: =SUM(FN11:FN14) -> 0 | FO10: =SUM(FO11:FO14) -> 0 | FP10: =+FN10+FO10 -> 0 | FQ10: =SUM(FQ11:FQ14) -> 0 | FR10: =SUM(FR11:FR14) -> 0 | FS10: =SUM(FS11:FS14) -> 0 | FT10: =SUM(FT11:FT14) -> 0 | FU10: =SUM(FU11:FU14) -> 0 | FV10: =SUM(FV11:FV14) -> 0 | FW10: =+FU10+FV10 -> 0 | FX10: =SUM(FX11:FX14) -> 0 | FY10: =SUM(FY11:FY14) -> 0 | FZ10: =SUM(FZ11:FZ14) -> 0 | GA10: =SUM(GA11:GA14) -> 0 | GB10: =SUM(GB11:GB14) -> 0 | GC10: =SUM(GC11:GC14) -> 0 | GD10: =+GB10+GC10 -> 0 | GE10: =SUM(GE11:GE14) -> 0 | GF10: =SUM(GF11:GF14) -> 0 | GG10: =SUM(GG11:GG14) -> 0 | GH10: =SUM(GH11:GH14) -> 0 | GI10: =SUM(GI11:GI14) -> 0 | GJ10: =SUM(GJ11:GJ14) -> 0 | GK10: =+GI10+GJ10 -> 0 | GL10: =SUM(GL11:GL14) -> 0 | GM10: =SUM(GM11:GM14) -> 0 | GN10: =SUM(GN11:GN14) -> 0 | GO10: =SUM(GO11:GO14) -> 0 | GP10: =SUM(GP11:GP14) -> 0 | GQ10: =SUM(GQ11:GQ14) -> 0 | GR10: =+GP10+GQ10 -> 0 | GS10: =SUM(GS11:GS14) -> 0 | GT10: =SUM(GT11:GT14) -> 0 | GU10: =SUM(GU11:GU14) -> 0 | GV10: =SUM(GV11:GV14) -> 0 | GW10: =SUM(GW11:GW14) -> 0 | GX10: =SUM(GX11:GX14) -> 0 | GY10: =+GW10+GX10 -> 0 | GZ10: =SUM(GZ11:GZ14) -> 0 | HA10: =SUM(HA11:HA14) -> 0 | HB10: =SUM(HB11:HB14) -> 0 | HC10: =SUM(HC11:HC14) -> 0 | HD10: =SUM(HD11:HD14) -> 0 | HE10: =SUM(HE11:HE14) -> 0 | HF10: =+HD10+HE10 -> 0 | HG10: =SUM(HG11:HG14) -> 0 | HH10: =SUM(HH11:HH14) -> 0 | HI10: =SUM(HI11:HI14) -> 0 | HJ10: =SUM(HJ11:HJ14) -> 0 | HK10: =SUM(HK11:HK14) -> 0 | HL10: =SUM(HL11:HL14) -> 0 | HM10: =+HK10+HL10 -> 0 | HN10: =SUM(HN11:HN14) -> 0 | HO10: =SUM(HO11:HO14) -> 0 | HP10: =SUM(HP11:HP14) -> 0 | HQ10: =SUM(HQ11:HQ14) -> 0 | HR10: =SUM(HR11:HR14) -> 0 | HS10: =SUM(HS11:HS14) -> 0 | HT10: =+HR10+HS10 -> 0 | HU10: =SUM(HU11:HU14) -> 0 | HV10: =SUM(HV11:HV14) -> 0 | HW10: =SUM(HW11:HW14) -> 0 | HX10: =SUM(HX11:HX14) -> 0 | HY10: =SUM(HY11:HY14) -> 0 | HZ10: =SUM(HZ11:HZ14) -> 0 | IA10: =+HY10+HZ10 -> 0 | IB10: =SUM(IB11:IB14) -> 0 | IC10: =SUM(IC11:IC14) -> 0 | ID10: =SUM(ID11:ID14) -> 0 | IE10: =SUM(IE11:IE14) -> 0 | IF10: =SUM(IF11:IF14) -> 0 | IG10: =SUM(IG11:IG14) -> 0 | IH10: =+IF10+IG10 -> 0 | II10: =SUM(II11:II14) -> 0 | IJ10: =SUM(IJ11:IJ14) -> 0 | IK10: =SUM(IK11:IK14) -> 0 | IL10: =SUM(IL11:IL14) -> 0 | IM10: =SUM(IM11:IM14) -> 0 | IN10: =SUM(IN11:IN14) -> 0 | IO10: =+IM10+IN10 -> 0 | IP10: =SUM(IP11:IP14) -> 0 | IQ10: =SUM(IQ11:IQ14) -> 0 | IR10: =SUM(IR11:IR14) -> 0 | IS10: =SUM(IS11:IS14) -> 0 | IT10: =SUM(IT11:IT14) -> 0 | IU10: =SUM(IU11:IU14) -> 0 | IV10: =+IT10+IU10 -> 0 | IW10: =SUM(IW11:IW14) -> 0 | IX10: =SUM(IX11:IX14) -> 0 | IY10: =SUM(IY11:JG14) -> 10947 | IZ10: =SUM(IZ11:IZ14) -> 0 | JA10: =SUM(JA11:JA14) -> 0 | JB10: =SUM(JB11:JB14) -> 0 | JC10: =SUM(JC11:JC14) -> 3649 | JD10: =+JA10+JB10+IZ10+JC10 -> 3649 | JE10: =SUM(JE11:JE14) -> 3649 | JF10: =SUM(JF11:JF14) -> 0
B11: a) | C11: helyi önkormányzatok működési támogatásai | D11: =SUM(M11,U11,AC11,AK11,AR11,BH11,BP11,BX11,CN11,CU11,DB11,DI11,DP11,DW11,ED11,EK11)+SUM(ER11,EY11,FF11,FM11,FT11,GA11,GH11,GO11,GV11,HC11,HJ11,HQ11,HX11,IE11,IL11,IS11) -> 6084980 | E11: =SUM(W11,AE11,AM11,AT11,BJ11,BR11,BZ11,CP11,CW11,DD11,DK11,DR11,DY11,EF11,EM11)+SUM(ET11,FA11,FH11,FO11,FV11,GC11,GJ11,GQ11,GX11,HE11,HL11,HS11,HZ11,IG11,IN11,IU11) -> 0 | F11: =+N11+V11+AD11+AS11+BA11+CG11 -> 146531 | G11: =+O11+W11+AE11+AT11+BB11+CH11 -> 326752 | H11: =+P11+X11+AF11+AU11+BC11+CI11 -> -14202 | I11: =+Q11+Y11+AG11+AV11+BD11+CJ11 -> 6544061 | J11: =+R11+Z11+AH11+AW11+BE11+CK11 -> 6544061 | K11: =+S11+AA11+AI11+AX11+BF11+CL11 -> 0 | L11: =+T11+AB11 -> 0 | M11: 6084980 | N11: 146531 | O11: 326752 | P11: -14202 | Q11: =SUM(M11:P11) -> 6544061 | R11: =+Q11 -> 6544061 | Z11: =Y11-AA11-AB11 -> 0 | AG11: =+AD11+AE11+AC11+AF11 -> 0 | AH11: =AG11-AI11-AJ11 -> 0 | AV11: =+AS11+AT11+AR11+AU11 -> 0 | AW11: =AV11-AX11-AY11 -> 0 | AZ11: =SUM(BP11,BX11,BH11) -> 0 | BA11: =SUM(BQ11,BY11,BI11) -> 0 | BB11: =SUM(BR11,BZ11,BJ11) -> 0 | BC11: =SUM(BS11,CA11,BK11) -> 0 | BD11: =SUM(AZ11:BC11) -> 0 | BE11: =SUM(BU11,CC11,BM11) -> 0 | BF11: =SUM(BV11,CD11,BN11) -> 0 | BG11: =SUM(BW11,CE11,BO11) -> 0 | BL11: =+BI11+BJ11+BH11+BK11 -> 0 | BM11: =BL11-BN11-BO11 -> 0 | BT11: =+BQ11+BR11+BP11+BS11 -> 0 | BU11: =BT11-BV11-BW11 -> 0 | CB11: =SUM(BX11:BZ11)+CA11 -> 0 | CC11: =CB11-CD11-CE11 -> 0 | CF11: =SUM(CN11,CU11,DB11,DI11,DP11,DW11,ED11,EK11,ER11,EY11,FF11,FM11,FT11,GA11,GH11,GO11,GV11,HC11,HJ11,HQ11,HX11,IE11,IL11,IS11) -> 0 | CG11: =SUM(CO11,CV11,DC11,DJ11,DQ11,DX11,EE11,EL11,ES11,EZ11,FG11,FN11,FU11,GB11,GI11,GP11,GW11,HD11,HK11,HR11,HY11,IF11,IM11,IT11) -> 0 | CH11: =SUM(CP11,CW11,DD11,DK11,DR11,DY11,EF11,EM11,ET11,FA11,FH11,FO11,FV11,GC11,GJ11,GQ11,GX11,HE11,HL11,HS11,HZ11,IG11,IN11,IU11) -> 0 | CI11: =JC11 -> 0 | CJ11: =SUM(CQ11,CX11,DE11,DL11,DS11,DZ11,EG11,EN11,EU11,FB11,FI11,FP11,FW11,GD11,GK11,GR11,GY11,HF11,HM11,HT11,IA11,IH11,IO11,IV11)+JD11 -> 0 | CK11: =SUM(CR11,CY11,DF11,DM11,DT11,EA11,EH11,EO11,EV11,FC11,FJ11,FQ11,FX11,GE11,GL11,GS11,GZ11,HG11,HN11,HU11,IB11,II11,IP11,IW11)+JE11 -> 0 | CL11: =SUM(CS11,CZ11,DG11,DN11,DU11,EB11,EI11,EP11,EW11,FD11,FK11,FR11,FY11,GF11,GM11,GT11,HA11,HH11,HO11,HV11,IC11,IJ11,IQ11,IX11)+JF11 -> 0 | CM11: =SUM(CT11,DA11,DH11,DO11,DV11,EC11,EJ11,EQ11,EX11,FE11,FL11,FS11,FZ11,GG11,GN11,GU11,HB11,HI11,HP11,HW11,ID11,IK11,IR11,IY11)+JG11 -> 0 | CQ11: =+CO11+CP11 -> 0 | CR11: =CQ11-CS11-CT11 -> 0 | CX11: =+CV11+CW11 -> 0 | CY11: =CX11-CZ11-DA11 -> 0 | DE11: =+DC11+DD11 -> 0 | DF11: =DE11-DG11-DH11 -> 0 | DL11: =+DJ11+DK11 -> 0 | DM11: =DL11-DN11-DO11 -> 0 | DS11: =+DQ11+DR11 -> 0 | DT11: =DS11-DU11-DV11 -> 0 | DZ11: =+DX11+DY11 -> 0 | EA11: =DZ11-EB11-EC11 -> 0 | EG11: =+EE11+EF11 -> 0 | EH11: =EG11-EI11-EJ11 -> 0 | EN11: =+EL11+EM11 -> 0 | EO11: =EN11-EP11-EQ11 -> 0 | EU11: =+ES11+ET11 -> 0 | EV11: =EU11-EW11-EX11 -> 0 | FB11: =+EZ11+FA11 -> 0 | FC11: =FB11-FD11-FE11 -> 0 | FI11: =+FG11+FH11 -> 0 | FJ11: =FI11-FK11-FL11 -> 0 | FP11: =+FN11+FO11 -> 0 | FQ11: =FP11-FR11-FS11 -> 0 | FW11: =+FU11+FV11 -> 0 | FX11: =FW11-FY11-FZ11 -> 0 | GD11: =+GB11+GC11 -> 0 | GE11: =GD11-GF11-GG11 -> 0 | GK11: =+GI11+GJ11 -> 0 | GL11: =GK11-GM11-GN11 -> 0 | GR11: =+GP11+GQ11 -> 0 | GS11: =GR11-GT11-GU11 -> 0 | GY11: =+GW11+GX11 -> 0 | GZ11: =GY11-HA11-HB11 -> 0 | HF11: =+HD11+HE11 -> 0 | HG11: =HF11-HH11-HI11 -> 0 | HM11: =+HK11+HL11 -> 0 | HN11: =HM11-HO11-HP11 -> 0 | HT11: =+HR11+HS11 -> 0 | HU11: =HT11-HV11-HW11 -> 0 | IA11: =+HY11+HZ11 -> 0 | IB11: =IA11-IC11-ID11 -> 0 | IH11: =+IF11+IG11 -> 0 | II11: =IH11-IJ11-IK11 -> 0 | IO11: =+IM11+IN11 -> 0 | IP11: =IO11-IQ11-IR11 -> 0 | IV11: =+IT11+IU11 -> 0 | IW11: =IV11-IX11-IY11 -> 0 | JD11: =+JA11+JB11+IZ11+JC11 -> 0 | JE11: =JD11-JF11-JG11 -> 0
B12: b) | C12: elvonások és befizetések bevételei | D12: =SUM(M12,U12,AC12,AK12,AR12,BH12,BP12,BX12,CN12,CU12,DB12,DI12,DP12,DW12,ED12,EK12)+SUM(ER12,EY12,FF12,FM12,FT12,GA12,GH12,GO12,GV12,HC12,HJ12,HQ12,HX12,IE12,IL12,IS12) -> 0 | E12: =SUM(W12,AE12,AM12,AT12,BJ12,BR12,BZ12,CP12,CW12,DD12,DK12,DR12,DY12,EF12,EM12)+SUM(ET12,FA12,FH12,FO12,FV12,GC12,GJ12,GQ12,GX12,HE12,HL12,HS12,HZ12,IG12,IN12,IU12) -> 0 | F12: =+N12+V12+AD12+AS12+BA12+CG12 -> 0 | G12: =+O12+W12+AE12+AT12+BB12+CH12 -> 343168 | H12: =+P12+X12+AF12+AU12+BC12+CI12 -> -171584 | I12: =+Q12+Y12+AG12+AV12+BD12+CJ12 -> 171584 | J12: =+R12+Z12+AH12+AW12+BE12+CK12 -> 171584 | K12: =+S12+AA12+AI12+AX12+BF12+CL12 -> 0 | L12: =+T12+AB12 -> 0 | O12: =171584+171584 -> 343168 | P12: -171584 | Q12: =SUM(M12:P12) -> 171584 | R12: =+Q12-S12 -> 171584 | AG12: =+AD12+AE12+AC12+AF12 -> 0 | AV12: =+AS12+AT12+AR12+AU12 -> 0 | AZ12: =SUM(BP12,BX12,BH12) -> 0 | BA12: =SUM(BQ12,BY12,BI12) -> 0 | BB12: =SUM(BR12,BZ12,BJ12) -> 0 | BC12: =SUM(BS12,CA12,BK12) -> 0 | BD12: =SUM(AZ12:BC12) -> 0 | BE12: =SUM(BU12,CC12,BM12) -> 0 | BF12: =SUM(BV12,CD12,BN12) -> 0 | BG12: =SUM(BW12,CE12,BO12) -> 0 | BL12: =+BI12+BJ12+BH12+BK12 -> 0 | BT12: =+BQ12+BR12+BP12+BS12 -> 0 | CB12: =SUM(BX12:BZ12)+CA12 -> 0 | CF12: =SUM(CN12,CU12,DB12,DI12,DP12,DW12,ED12,EK12,ER12,EY12,FF12,FM12,FT12,GA12,GH12,GO12,GV12,HC12,HJ12,HQ12,HX12,IE12,IL12,IS12) -> 0 | CG12: =SUM(CO12,CV12,DC12,DJ12,DQ12,DX12,EE12,EL12,ES12,EZ12,FG12,FN12,FU12,GB12,GI12,GP12,GW12,HD12,HK12,HR12,HY12,IF12,IM12,IT12) -> 0 | CH12: =SUM(CP12,CW12,DD12,DK12,DR12,DY12,EF12,EM12,ET12,FA12,FH12,FO12,FV12,GC12,GJ12,GQ12,GX12,HE12,HL12,HS12,HZ12,IG12,IN12,IU12) -> 0 | CI12: =JC12 -> 0 | CJ12: =SUM(CQ12,CX12,DE12,DL12,DS12,DZ12,EG12,EN12,EU12,FB12,FI12,FP12,FW12,GD12,GK12,GR12,GY12,HF12,HM12,HT12,IA12,IH12,IO12,IV12)+JD12 -> 0 | CK12: =SUM(CR12,CY12,DF12,DM12,DT12,EA12,EH12,EO12,EV12,FC12,FJ12,FQ12,FX12,GE12,GL12,GS12,GZ12,HG12,HN12,HU12,IB12,II12,IP12,IW12)+JE12 -> 0 | CL12: =SUM(CS12,CZ12,DG12,DN12,DU12,EB12,EI12,EP12,EW12,FD12,FK12,FR12,FY12,GF12,GM12,GT12,HA12,HH12,HO12,HV12,IC12,IJ12,IQ12,IX12)+JF12 -> 0 | CM12: =SUM(CT12,DA12,DH12,DO12,DV12,EC12,EJ12,EQ12,EX12,FE12,FL12,FS12,FZ12,GG12,GN12,GU12,HB12,HI12,HP12,HW12,ID12,IK12,IR12,IY12)+JG12 -> 0 | CQ12: =+CO12+CP12 -> 0 | CX12: =+CV12+CW12 -> 0 | DE12: =+DC12+DD12 -> 0 | DL12: =+DJ12+DK12 -> 0 | DS12: =+DQ12+DR12 -> 0 | DZ12: =+DX12+DY12 -> 0 | EG12: =+EE12+EF12 -> 0 | EN12: =+EL12+EM12 -> 0 | EU12: =+ES12+ET12 -> 0 | FB12: =+EZ12+FA12 -> 0 | FI12: =+FG12+FH12 -> 0 | FP12: =+FN12+FO12 -> 0 | FW12: =+FU12+FV12 -> 0 | GD12: =+GB12+GC12 -> 0 | GK12: =+GI12+GJ12 -> 0 | GR12: =+GP12+GQ12 -> 0 | GY12: =+GW12+GX12 -> 0 | HF12: =+HD12+HE12 -> 0 | HM12: =+HK12+HL12 -> 0 | HT12: =+HR12+HS12 -> 0 | IA12: =+HY12+HZ12 -> 0 | IH12: =+IF12+IG12 -> 0 | IO12: =+IM12+IN12 -> 0 | IV12: =+IT12+IU12 -> 0 | JD12: =+JA12+JB12+IZ12+JC12 -> 0
B13: c) | C13: visszatérítendő támogatás, kölcsön visszatérülése, igénybevétele államháztartáson belülről | D13: =SUM(M13,U13,AC13,AK13,AR13,BH13,BP13,BX13,CN13,CU13,DB13,DI13,DP13,DW13,ED13,EK13)+SUM(ER13,EY13,FF13,FM13,FT13,GA13,GH13,GO13,GV13,HC13,HJ13,HQ13,HX13,IE13,IL13,IS13) -> 0 | E13: =SUM(W13,AE13,AM13,AT13,BJ13,BR13,BZ13,CP13,CW13,DD13,DK13,DR13,DY13,EF13,EM13)+SUM(ET13,FA13,FH13,FO13,FV13,GC13,GJ13,GQ13,GX13,HE13,HL13,HS13,HZ13,IG13,IN13,IU13) -> 0 | F13: =+N13+V13+AD13+AS13+BA13+CG13 -> 0 | G13: =+O13+W13+AE13+AT13+BB13+CH13 -> 0 | H13: =+P13+X13+AF13+AU13+BC13+CI13 -> 0 | I13: =+Q13+Y13+AG13+AV13+BD13+CJ13 -> 0 | J13: =+R13+Z13+AH13+AW13+BE13+CK13 -> 0 | K13: =+S13+AA13+AI13+AX13+BF13+CL13 -> 0 | L13: =+T13+AB13 -> 0 | Q13: =SUM(M13:P13) -> 0 | R13: =+Q13-S13 -> 0 | AG13: =+AD13+AE13+AC13+AF13 -> 0 | AV13: =+AS13+AT13+AR13+AU13 -> 0 | AZ13: =SUM(BP13,BX13,BH13) -> 0 | BA13: =SUM(BQ13,BY13,BI13) -> 0 | BB13: =SUM(BR13,BZ13,BJ13) -> 0 | BC13: =SUM(BS13,CA13,BK13) -> 0 | BD13: =SUM(AZ13:BC13) -> 0 | BE13: =SUM(BU13,CC13,BM13) -> 0 | BF13: =SUM(BV13,CD13,BN13) -> 0 | BG13: =SUM(BW13,CE13,BO13) -> 0 | BL13: =+BI13+BJ13+BH13+BK13 -> 0 | BT13: =+BQ13+BR13+BP13+BS13 -> 0 | CB13: =SUM(BX13:BZ13)+CA13 -> 0 | CF13: =SUM(CN13,CU13,DB13,DI13,DP13,DW13,ED13,EK13,ER13,EY13,FF13,FM13,FT13,GA13,GH13,GO13,GV13,HC13,HJ13,HQ13,HX13,IE13,IL13,IS13) -> 0 | CG13: =SUM(CO13,CV13,DC13,DJ13,DQ13,DX13,EE13,EL13,ES13,EZ13,FG13,FN13,FU13,GB13,GI13,GP13,GW13,HD13,HK13,HR13,HY13,IF13,IM13,IT13) -> 0 | CH13: =SUM(CP13,CW13,DD13,DK13,DR13,DY13,EF13,EM13,ET13,FA13,FH13,FO13,FV13,GC13,GJ13,GQ13,GX13,HE13,HL13,HS13,HZ13,IG13,IN13,IU13) -> 0 | CI13: =JC13 -> 0 | CJ13: =SUM(CQ13,CX13,DE13,DL13,DS13,DZ13,EG13,EN13,EU13,FB13,FI13,FP13,FW13,GD13,GK13,GR13,GY13,HF13,HM13,HT13,IA13,IH13,IO13,IV13)+JD13 -> 0 | CK13: =SUM(CR13,CY13,DF13,DM13,DT13,EA13,EH13,EO13,EV13,FC13,FJ13,FQ13,FX13,GE13,GL13,GS13,GZ13,HG13,HN13,HU13,IB13,II13,IP13,IW13)+JE13 -> 0 | CL13: =SUM(CS13,CZ13,DG13,DN13,DU13,EB13,EI13,EP13,EW13,FD13,FK13,FR13,FY13,GF13,GM13,GT13,HA13,HH13,HO13,HV13,IC13,IJ13,IQ13,IX13)+JF13 -> 0 | CM13: =SUM(CT13,DA13,DH13,DO13,DV13,EC13,EJ13,EQ13,EX13,FE13,FL13,FS13,FZ13,GG13,GN13,GU13,HB13,HI13,HP13,HW13,ID13,IK13,IR13,IY13)+JG13 -> 0 | CQ13: =+CO13+CP13 -> 0 | CX13: =+CV13+CW13 -> 0 | DE13: =+DC13+DD13 -> 0 | DL13: =+DJ13+DK13 -> 0 | DS13: =+DQ13+DR13 -> 0 | DZ13: =+DX13+DY13 -> 0 | EG13: =+EE13+EF13 -> 0 | EN13: =+EL13+EM13 -> 0 | EU13: =+ES13+ET13 -> 0 | FB13: =+EZ13+FA13 -> 0 | FI13: =+FG13+FH13 -> 0 | FP13: =+FN13+FO13 -> 0 | FW13: =+FU13+FV13 -> 0 | GD13: =+GB13+GC13 -> 0 | GK13: =+GI13+GJ13 -> 0 | GR13: =+GP13+GQ13 -> 0 | GY13: =+GW13+GX13 -> 0 | HF13: =+HD13+HE13 -> 0 | HM13: =+HK13+HL13 -> 0 | HT13: =+HR13+HS13 -> 0 | IA13: =+HY13+HZ13 -> 0 | IH13: =+IF13+IG13 -> 0 | IO13: =+IM13+IN13 -> 0 | IV13: =+IT13+IU13 -> 0 | JD13: =+JA13+JB13+IZ13+JC13 -> 0
B14: d) | C14: egyéb támogatások bevételei államháztartáson belülről | D14: =SUM(M14,U14,AC14,AK14,AR14,BH14,BP14,BX14,CN14,CU14,DB14,DI14,DP14,DW14,ED14,EK14)+SUM(ER14,EY14,FF14,FM14,FT14,GA14,GH14,GO14,GV14,HC14,HJ14,HQ14,HX14,IE14,IL14,IS14) -> 9380225 | E14: 0 | F14: =+N14+V14+AD14+AS14+BA14+CG14 -> 0 | G14: =+O14+W14+AE14+AT14+BB14+CH14 -> 40000 | H14: =+P14+X14+AF14+AU14+BC14+CI14 -> -6204012 | I14: =+Q14+Y14+AG14+AV14+BD14+CJ14 -> 3216213 | J14: =+R14+Z14+AH14+AW14+BE14+CK14 -> 2397264 | K14: =+S14+AA14+AI14+AX14+BF14+CL14 -> 818949 | L14: =+T14+AB14 -> 0 | M14: 6701032 | P14: -6555116 | Q14: =SUM(M14:P14) -> 145916 | R14: =+Q14-S14 -> 60223 | S14: 85693 | U14: 5775 | Y14: =+V14+U14+W14+X14 -> 5775 | Z14: =+Y14-AA14 -> 5775 | AC14: 2658597 | AE14: 40000 | AF14: 347319 | AG14: =+AD14+AE14+AC14+AF14 -> 3045916 | AH14: =AG14-AI14-AJ14 -> 2327481 | AI14: 718435 | AV14: =+AS14+AT14+AR14+AU14 -> 0 | AW14: =AV14-AX14-AY14 -> 0 | AZ14: =SUM(BP14,BX14,BH14) -> 14821 | BA14: =SUM(BQ14,BY14,BI14) -> 0 | BB14: =SUM(BR14,BZ14,BJ14) -> 0 | BC14: =SUM(BS14,CA14,BK14) -> 136 | BD14: =SUM(AZ14:BC14) -> 14957 | BE14: =SUM(BU14,CC14,BM14) -> 136 | BF14: =SUM(BV14,CD14,BN14) -> 14821 | BG14: =SUM(BW14,CE14,BO14) -> 0 | BL14: =+BI14+BJ14+BH14+BK14 -> 0 | BM14: =BL14-BN14-BO14 -> 0 | BS14: 136 | BT14: =+BQ14+BR14+BP14+BS14 -> 136 | BU14: =BT14-BV14-BW14 -> 136 | BX14: 14821 | CB14: =SUM(BX14:BZ14)+CA14 -> 14821 | CC14: =CB14-CD14-CE14 -> 0 | CD14: 14821 | CF14: =SUM(CN14,CU14,DB14,DI14,DP14,DW14,ED14,EK14,ER14,EY14,FF14,FM14,FT14,GA14,GH14,GO14,GV14,HC14,HJ14,HQ14,HX14,IE14,IL14,IS14) -> 0 | CG14: =SUM(CO14,CV14,DC14,DJ14,DQ14,DX14,EE14,EL14,ES14,EZ14,FG14,FN14,FU14,GB14,GI14,GP14,GW14,HD14,HK14,HR14,HY14,IF14,IM14,IT14) -> 0 | CH14: =SUM(CP14,CW14,DD14,DK14,DR14,DY14,EF14,EM14,ET14,FA14,FH14,FO14,FV14,GC14,GJ14,GQ14,GX14,HE14,HL14,HS14,HZ14,IG14,IN14,IU14) -> 0 | CI14: =JC14 -> 3649 | CJ14: =SUM(CQ14,CX14,DE14,DL14,DS14,DZ14,EG14,EN14,EU14,FB14,FI14,FP14,FW14,GD14,GK14,GR14,GY14,HF14,HM14,HT14,IA14,IH14,IO14,IV14)+JD14 -> 3649 | CK14: =SUM(CR14,CY14,DF14,DM14,DT14,EA14,EH14,EO14,EV14,FC14,FJ14,FQ14,FX14,GE14,GL14,GS14,GZ14,HG14,HN14,HU14,IB14,II14,IP14,IW14)+JE14 -> 3649 | CL14: =SUM(CS14,CZ14,DG14,DN14,DU14,EB14,EI14,EP14,EW14,FD14,FK14,FR14,FY14,GF14,GM14,GT14,HA14,HH14,HO14,HV14,IC14,IJ14,IQ14,IX14)+JF14 -> 0 | CM14: =SUM(CT14,DA14,DH14,DO14,DV14,EC14,EJ14,EQ14,EX14,FE14,FL14,FS14,FZ14,GG14,GN14,GU14,HB14,HI14,HP14,HW14,ID14,IK14,IR14,IY14)+JG14 -> 0 | CQ14: =+CO14+CP14 -> 0 | CR14: =CQ14-CS14-CT14 -> 0 | CX14: =+CV14+CW14 -> 0 | CY14: =CX14-CZ14-DA14 -> 0 | DE14: =+DC14+DD14 -> 0 | DF14: =DE14-DG14-DH14 -> 0 | DL14: =+DJ14+DK14 -> 0 | DM14: =DL14-DN14-DO14 -> 0 | DS14: =+DQ14+DR14 -> 0 | DT14: =DS14-DU14-DV14 -> 0 | DZ14: =+DX14+DY14 -> 0 | EA14: =DZ14-EB14-EC14 -> 0 | EG14: =+EE14+EF14 -> 0 | EH14: =EG14-EI14-EJ14 -> 0 | EN14: =+EL14+EM14 -> 0 | EO14: =EN14-EP14-EQ14 -> 0 | EU14: =+ES14+ET14 -> 0 | EV14: =EU14-EW14-EX14 -> 0 | FB14: =+EZ14+FA14 -> 0 | FC14: =FB14-FD14-FE14 -> 0 | FI14: =+FG14+FH14 -> 0 | FJ14: =FI14-FK14-FL14 -> 0 | FP14: =+FN14+FO14 -> 0 | FQ14: =FP14-FR14-FS14 -> 0 | FW14: =+FU14+FV14 -> 0 | FX14: =FW14-FY14-FZ14 -> 0 | GD14: =+GB14+GC14 -> 0 | GE14: =GD14-GF14-GG14 -> 0 | GK14: =+GI14+GJ14 -> 0 | GL14: =GK14-GM14-GN14 -> 0 | GR14: =+GP14+GQ14 -> 0 | GS14: =GR14-GT14-GU14 -> 0 | GY14: =+GW14+GX14 -> 0 | GZ14: =GY14-HA14-HB14 -> 0 | HF14: =+HD14+HE14 -> 0 | HG14: =HF14-HH14-HI14 -> 0 | HM14: =+HK14+HL14 -> 0 | HN14: =HM14-HO14-HP14 -> 0 | HT14: =+HR14+HS14 -> 0 | HU14: =HT14-HV14-HW14 -> 0 | IA14: =+HY14+HZ14 -> 0 | IB14: =IA14-IC14-ID14 -> 0 | IH14: =+IF14+IG14 -> 0 | II14: =IH14-IJ14-IK14 -> 0 | IO14: =+IM14+IN14 -> 0 | IP14: =IO14-IQ14-IR14 -> 0 | IV14: =+IT14+IU14 -> 0 | IW14: =IV14-IX14-IY14 -> 0 | JC14: 3649 | JD14: =+JA14+JB14+IZ14+JC14 -> 3649 | JE14: =JD14-JF14-JG14 -> 3649
A15: 2. | B15: Közhatalmi bevételek | D15: =SUM(M15,U15,AC15,AK15,AR15,BH15,BP15,BX15,CN15,CU15,DB15,DI15,DP15,DW15,ED15,EK15)+SUM(ER15,EY15,FF15,FM15,FT15,GA15,GH15,GO15,GV15,HC15,HJ15,HQ15,HX15,IE15,IL15,IS15) -> 11318219 | E15: =SUM(E16:E17) -> 0 | F15: =+N15+V15+AD15+AS15+BA15+CG15 -> 0 | G15: =+O15+W15+AE15+AT15+BB15+CH15 -> 0 | H15: =+P15+X15+AF15+AU15+BC15+CI15 -> 129000 | I15: =+Q15+Y15+AG15+AV15+BD15+CJ15 -> 11447219 | J15: =+R15+Z15+AH15+AW15+BE15+CK15 -> 8695219 | K15: =+S15+AA15+AI15+AX15+BF15+CL15 -> 2752000 | L15: =+T15+AB15 -> 0 | M15: =+M17+M16 -> 11293219 | N15: =+N16+N17 -> 0 | O15: =+O17+O16 -> 0 | P15: =+P17+P16 -> 129000 | Q15: =SUM(M15:P15) -> 11422219 | R15: =+Q15-S15 -> 8670219 | S15: =SUM(S16:S17) -> 2752000 | T15: =SUM(T16:T17) -> 0 | U15: =SUM(U16:U17) -> 0 | V15: =SUM(V16:V17) -> 0 | W15: =SUM(W16:W17) -> 0 | X15: =SUM(X16:X17) -> 0 | Y15: =+V15+U15+W15+X15 -> 0 | Z15: =SUM(Z16:Z17) -> 0 | AA15: =SUM(AA16:AA17) -> 0 | AB15: =SUM(AB16:AB17) -> 0 | AC15: =SUM(AC16:AC17) -> 0 | AD15: =SUM(AD16:AD17) -> 0 | AE15: =SUM(AE16:AE17) -> 0 | AF15: =SUM(AF16:AF17) -> 0 | AG15: =+AD15+AE15+AC15+AF15 -> 0 | AH15: =SUM(AH16:AH17) -> 0 | AI15: =SUM(AI16:AI17) -> 0 | AJ15: =SUM(AJ16:AJ17) -> 0 | AR15: =SUM(AR16:AR17) -> 25000 | AS15: =SUM(AS16:AS17) -> 0 | AT15: =SUM(AT16:AT17) -> 0 | AU15: =SUM(AU16:AU17) -> 0 | AV15: =+AS15+AT15+AR15+AU15 -> 25000 | AW15: =SUM(AW16:AW17) -> 25000 | AX15: =SUM(AX16:AX17) -> 0 | AY15: =SUM(AY16:AY17) -> 0 | AZ15: =SUM(AZ16:AZ17) -> 0 | BA15: =SUM(BA16:BA17) -> 0 | BB15: =SUM(BR15,BZ15,BJ15) -> 0 | BC15: =SUM(BS15,CA15,BK15) -> 0 | BD15: =SUM(AZ15:BC15) -> 0 | BE15: =SUM(BE16:BE17) -> 0 | BF15: =SUM(BF16:BF17) -> 0 | BG15: =SUM(BG16:BG17) -> 0 | BH15: =SUM(BH16:BH17) -> 0 | BI15: =SUM(BI16:BI17) -> 0 | BJ15: =SUM(BJ16:BJ17) -> 0 | BK15: =SUM(BK16:BK17) -> 0 | BL15: =+BI15+BJ15+BH15+BK15 -> 0 | BM15: =SUM(BM16:BM17) -> 0 | BN15: =SUM(BN16:BN17) -> 0 | BO15: =SUM(BO16:BO17) -> 0 | BP15: =SUM(BP16:BP17) -> 0 | BQ15: =SUM(BQ16:BQ17) -> 0 | BR15: =SUM(BR16:BR17) -> 0 | BS15: =SUM(BS16:BS17) -> 0 | BT15: =+BQ15+BR15+BP15+BS15 -> 0 | BU15: =SUM(BU16:BU17) -> 0 | BV15: =SUM(BV16:BV17) -> 0 | BW15: =SUM(BW16:BW17) -> 0 | BX15: =SUM(BX16:BX17) -> 0 | BY15: =SUM(BY16:BY17) -> 0 | BZ15: =SUM(BZ16:BZ17) -> 0 | CA15: =SUM(CA16:CA17) -> 0 | CB15: =SUM(BX15:BZ15)+CA15 -> 0 | CC15: =SUM(CC16:CC17) -> 0 | CD15: =SUM(CD16:CD17) -> 0 | CE15: =SUM(CE16:CE17) -> 0 | CF15: =SUM(CF16:CF17) -> 0 | CG15: =SUM(CG16:CG17) -> 0 | CH15: =SUM(CH16:CH17) -> 0 | CI15: =SUM(CI16:CI17) -> 0 | CJ15: =SUM(CQ15,CX15,DE15,DL15,DS15,DZ15,EG15,EN15,EU15,FB15,FI15,FP15,FW15,GD15,GK15,GR15,GY15,HF15,HM15,HT15,IA15,IH15,IO15,IV15)+JD15 -> 0 | CK15: =SUM(CR15,CY15,DF15,DM15,DT15,EA15,EH15,EO15,EV15,FC15,FJ15,FQ15,FX15,GE15,GL15,GS15,GZ15,HG15,HN15,HU15,IB15,II15,IP15,IW15)+JE15 -> 0 | CL15: =SUM(CS15,CZ15,DG15,DN15,DU15,EB15,EI15,EP15,EW15,FD15,FK15,FR15,FY15,GF15,GM15,GT15,HA15,HH15,HO15,HV15,IC15,IJ15,IQ15,IX15)+JF15 -> 0 | CM15: =SUM(CT15,DA15,DH15,DO15,DV15,EC15,EJ15,EQ15,EX15,FE15,FL15,FS15,FZ15,GG15,GN15,GU15,HB15,HI15,HP15,HW15,ID15,IK15,IR15,IY15)+JG15 -> 0 | CN15: =SUM(CN16:CN17) -> 0 | CO15: =SUM(CO16:CO17) -> 0 | CP15: =SUM(CP16:CP17) -> 0 | CQ15: =+CO15+CP15 -> 0 | CR15: =SUM(CR16:CR17) -> 0 | CS15: =SUM(CS16:CS17) -> 0 | CT15: =SUM(CT16:CT17) -> 0 | CU15: =SUM(CU16:CU17) -> 0 | CV15: =SUM(CV16:CV17) -> 0 | CW15: =SUM(CW16:CW17) -> 0 | CX15: =+CV15+CW15 -> 0 | CY15: =SUM(CY16:CY17) -> 0 | CZ15: =SUM(CZ16:CZ17) -> 0 | DA15: =SUM(DA16:DA17) -> 0 | DB15: =SUM(DB16:DB17) -> 0 | DC15: =SUM(DC16:DC17) -> 0 | DD15: =SUM(DD16:DD17) -> 0 | DE15: =+DC15+DD15 -> 0 | DF15: =SUM(DF16:DF17) -> 0 | DG15: =SUM(DG16:DG17) -> 0 | DH15: =SUM(DH16:DH17) -> 0 | DI15: =SUM(DI16:DI17) -> 0 | DJ15: =SUM(DJ16:DJ17) -> 0 | DK15: =SUM(DK16:DK17) -> 0 | DL15: =+DJ15+DK15 -> 0 | DM15: =SUM(DM16:DM17) -> 0 | DN15: =SUM(DN16:DN17) -> 0 | DO15: =SUM(DO16:DO17) -> 0 | DP15: =SUM(DP16:DP17) -> 0 | DQ15: =SUM(DQ16:DQ17) -> 0 | DR15: =SUM(DR16:DR17) -> 0 | DS15: =+DQ15+DR15 -> 0 | DT15: =SUM(DT16:DT17) -> 0 | DU15: =SUM(DU16:DU17) -> 0 | DV15: =SUM(DV16:DV17) -> 0 | DW15: =SUM(DW16:DW17) -> 0 | DX15: =SUM(DX16:DX17) -> 0 | DY15: =SUM(DY16:DY17) -> 0 | DZ15: =+DX15+DY15 -> 0 | EA15: =SUM(EA16:EA17) -> 0 | EB15: =SUM(EB16:EB17) -> 0 | EC15: =SUM(EC16:EC17) -> 0 | ED15: =SUM(ED16:ED17) -> 0 | EE15: =SUM(EE16:EE17) -> 0 | EF15: =SUM(EF16:EF17) -> 0 | EG15: =+EE15+EF15 -> 0 | EH15: =SUM(EH16:EH17) -> 0 | EI15: =SUM(EI16:EI17) -> 0 | EJ15: =SUM(EJ16:EJ17) -> 0 | EK15: =SUM(EK16:EK17) -> 0 | EL15: =SUM(EL16:EL17) -> 0 | EM15: =SUM(EM16:EM17) -> 0 | EN15: =+EL15+EM15 -> 0 | EO15: =SUM(EO16:EO17) -> 0 | EP15: =SUM(EP16:EP17) -> 0 | EQ15: =SUM(EQ16:EQ17) -> 0 | ER15: =SUM(ER16:ER17) -> 0 | ES15: =SUM(ES16:ES17) -> 0 | ET15: =SUM(ET16:ET17) -> 0 | EU15: =+ES15+ET15 -> 0 | EV15: =SUM(EV16:EV17) -> 0 | EW15: =SUM(EW16:EW17) -> 0 | EX15: =SUM(EX16:EX17) -> 0 | EY15: =SUM(EY16:EY17) -> 0 | EZ15: =SUM(EZ16:EZ17) -> 0 | FA15: =SUM(FA16:FA17) -> 0 | FB15: =+EZ15+FA15 -> 0 | FC15: =SUM(FC16:FC17) -> 0 | FD15: =SUM(FD16:FD17) -> 0 | FE15: =SUM(FE16:FE17) -> 0 | FF15: =SUM(FF16:FF17) -> 0 | FG15: =SUM(FG16:FG17) -> 0 | FH15: =SUM(FH16:FH17) -> 0 | FI15: =+FG15+FH15 -> 0 | FJ15: =SUM(FJ16:FJ17) -> 0 | FK15: =SUM(FK16:FK17) -> 0 | FL15: =SUM(FL16:FL17) -> 0 | FM15: =SUM(FM16:FM17) -> 0 | FN15: =SUM(FN16:FN17) -> 0 | FO15: =SUM(FO16:FO17) -> 0 | FP15: =+FN15+FO15 -> 0 | FQ15: =SUM(FQ16:FQ17) -> 0 | FR15: =SUM(FR16:FR17) -> 0 | FS15: =SUM(FS16:FS17) -> 0 | FT15: =SUM(FT16:FT17) -> 0 | FU15: =SUM(FU16:FU17) -> 0 | FV15: =SUM(FV16:FV17) -> 0 | FW15: =+FU15+FV15 -> 0 | FX15: =SUM(FX16:FX17) -> 0 | FY15: =SUM(FY16:FY17) -> 0 | FZ15: =SUM(FZ16:FZ17) -> 0 | GA15: =SUM(GA16:GA17) -> 0 | GB15: =SUM(GB16:GB17) -> 0 | GC15: =SUM(GC16:GC17) -> 0 | GD15: =+GB15+GC15 -> 0 | GE15: =SUM(GE16:GE17) -> 0 | GF15: =SUM(GF16:GF17) -> 0 | GG15: =SUM(GG16:GG17) -> 0 | GH15: =SUM(GH16:GH17) -> 0 | GI15: =SUM(GI16:GI17) -> 0 | GJ15: =SUM(GJ16:GJ17) -> 0 | GK15: =+GI15+GJ15 -> 0 | GL15: =SUM(GL16:GL17) -> 0 | GM15: =SUM(GM16:GM17) -> 0 | GN15: =SUM(GN16:GN17) -> 0 | GO15: =SUM(GO16:GO17) -> 0 | GP15: =SUM(GP16:GP17) -> 0 | GQ15: =SUM(GQ16:GQ17) -> 0 | GR15: =+GP15+GQ15 -> 0 | GS15: =SUM(GS16:GS17) -> 0 | GT15: =SUM(GT16:GT17) -> 0 | GU15: =SUM(GU16:GU17) -> 0 | GV15: =SUM(GV16:GV17) -> 0 | GW15: =SUM(GW16:GW17) -> 0 | GX15: =SUM(GX16:GX17) -> 0 | GY15: =+GW15+GX15 -> 0 | GZ15: =SUM(GZ16:GZ17) -> 0 | HA15: =SUM(HA16:HA17) -> 0 | HB15: =SUM(HB16:HB17) -> 0 | HC15: =SUM(HC16:HC17) -> 0 | HD15: =SUM(HD16:HD17) -> 0 | HE15: =SUM(HE16:HE17) -> 0 | HF15: =+HD15+HE15 -> 0 | HG15: =SUM(HG16:HG17) -> 0 | HH15: =SUM(HH16:HH17) -> 0 | HI15: =SUM(HI16:HI17) -> 0 | HJ15: =SUM(HJ16:HJ17) -> 0 | HK15: =SUM(HK16:HK17) -> 0 | HL15: =SUM(HL16:HL17) -> 0 | HM15: =+HK15+HL15 -> 0 | HN15: =SUM(HN16:HN17) -> 0 | HO15: =SUM(HO16:HO17) -> 0 | HP15: =SUM(HP16:HP17) -> 0 | HQ15: =SUM(HQ16:HQ17) -> 0 | HR15: =SUM(HR16:HR17) -> 0 | HS15: =SUM(HS16:HS17) -> 0 | HT15: =+HR15+HS15 -> 0 | HU15: =SUM(HU16:HU17) -> 0 | HV15: =SUM(HV16:HV17) -> 0 | HW15: =SUM(HW16:HW17) -> 0 | HX15: =SUM(HX16:HX17) -> 0 | HY15: =SUM(HY16:HY17) -> 0 | HZ15: =SUM(HZ16:HZ17) -> 0 | IA15: =+HY15+HZ15 -> 0 | IB15: =SUM(IB16:IB17) -> 0 | IC15: =SUM(IC16:IC17) -> 0 | ID15: =SUM(ID16:ID17) -> 0 | IE15: =SUM(IE16:IE17) -> 0 | IF15: =SUM(IF16:IF17) -> 0 | IG15: =SUM(IG16:IG17) -> 0 | IH15: =+IF15+IG15 -> 0 | II15: =SUM(II16:II17) -> 0 | IJ15: =SUM(IJ16:IJ17) -> 0 | IK15: =SUM(IK16:IK17) -> 0 | IL15: =SUM(IL16:IL17) -> 0 | IM15: =SUM(IM16:IM17) -> 0 | IN15: =SUM(IN16:IN17) -> 0 | IO15: =+IM15+IN15 -> 0 | IP15: =SUM(IP16:IP17) -> 0 | IQ15: =SUM(IQ16:IQ17) -> 0 | IR15: =SUM(IR16:IR17) -> 0 | IS15: =SUM(IS16:IS17) -> 0 | IT15: =SUM(IT16:IT17) -> 0 | IU15: =SUM(IU16:IU17) -> 0 | IV15: =+IT15+IU15 -> 0 | IW15: =SUM(IW16:IW17) -> 0 | IX15: =SUM(IX16:IX17) -> 0 | IY15: =SUM(IY16:JG17) -> 0 | IZ15: =SUM(IZ16:IZ17) -> 0 | JA15: =SUM(JA16:JA17) -> 0 | JB15: =SUM(JB16:JB17) -> 0 | JC15: =SUM(JC16:JC17) -> 0 | JD15: =+JA15+JB15+IZ15+JC15 -> 0 | JE15: =SUM(JE16:JE17) -> 0 | JF15: =SUM(JF16:JF17) -> 0
B16: a) | C16: adók (helyi, központi átengedett) | D16: =SUM(M16,U16,AC16,AK16,AR16,BH16,BP16,BX16,CN16,CU16,DB16,DI16,DP16,DW16,ED16,EK16)+SUM(ER16,EY16,FF16,FM16,FT16,GA16,GH16,GO16,GV16,HC16,HJ16,HQ16,HX16,IE16,IL16,IS16) -> 11084019 | E16: =SUM(W16,AE16,AM16,AT16,BJ16,BR16,BZ16,CP16,CW16,DD16,DK16,DR16,DY16,EF16,EM16)+SUM(ET16,FA16,FH16,FO16,FV16,GC16,GJ16,GQ16,GX16,HE16,HL16,HS16,HZ16,IG16,IN16,IU16) -> 0 | F16: =+N16+V16+AD16+AS16+BA16+CG16 -> 0 | G16: =+O16+W16+AE16+AT16+BB16+CH16 -> 0 | H16: =+P16+X16+AF16+AU16+BC16+CI16 -> 129000 | I16: =+Q16+Y16+AG16+AV16+BD16+CJ16 -> 11213019 | J16: =+R16+Z16+AH16+AW16+BE16+CK16 -> 8491019 | K16: =+S16+AA16+AI16+AX16+BF16+CL16 -> 2722000 | L16: =+T16+AB16 -> 0 | M16: 11084019 | P16: 129000 | Q16: =SUM(M16:P16) -> 11213019 | R16: =+Q16-S16 -> 8491019 | S16: =2752000-30000 -> 2722000 | Y16: =+V16+U16+W16+X16 -> 0 | Z16: =Y16-AA16-AB16 -> 0 | AG16: =+AD16+AE16+AC16+AF16 -> 0 | AH16: =AG16-AI16-AJ16 -> 0 | AV16: =+AS16+AT16+AR16+AU16 -> 0 | AW16: =AV16-AX16-AY16 -> 0 | AZ16: =SUM(BP16,BX16,BH16) -> 0 | BA16: =SUM(BQ16,BY16,BI16) -> 0 | BB16: =SUM(BR16,BZ16,BJ16) -> 0 | BC16: =SUM(BS16,CA16,BK16) -> 0 | BD16: =SUM(AZ16:BC16) -> 0 | BE16: =SUM(BU16,CC16,BM16) -> 0 | BF16: =SUM(BV16,CD16,BN16) -> 0 | BG16: =SUM(BW16,CE16,BO16) -> 0 | BL16: =+BI16+BJ16+BH16+BK16 -> 0 | BM16: =BL16-BN16-BO16 -> 0 | BT16: =+BQ16+BR16+BP16+BS16 -> 0 | BU16: =BT16-BV16-BW16 -> 0 | CB16: =SUM(BX16:BZ16)+CA16 -> 0 | CC16: =CB16-CD16-CE16 -> 0 | CF16: =SUM(CN16,CU16,DB16,DI16,DP16,DW16,ED16,EK16,ER16,EY16,FF16,FM16,FT16,GA16,GH16,GO16,GV16,HC16,HJ16,HQ16,HX16,IE16,IL16,IS16) -> 0 | CG16: =SUM(CO16,CV16,DC16,DJ16,DQ16,DX16,EE16,EL16,ES16,EZ16,FG16,FN16,FU16,GB16,GI16,GP16,GW16,HD16,HK16,HR16,HY16,IF16,IM16,IT16) -> 0 | CH16: =SUM(CP16,CW16,DD16,DK16,DR16,DY16,EF16,EM16,ET16,FA16,FH16,FO16,FV16,GC16,GJ16,GQ16,GX16,HE16,HL16,HS16,HZ16,IG16,IN16,IU16) -> 0 | CI16: =JC16 -> 0 | CJ16: =SUM(CQ16,CX16,DE16,DL16,DS16,DZ16,EG16,EN16,EU16,FB16,FI16,FP16,FW16,GD16,GK16,GR16,GY16,HF16,HM16,HT16,IA16,IH16,IO16,IV16)+JD16 -> 0 | CK16: =SUM(CR16,CY16,DF16,DM16,DT16,EA16,EH16,EO16,EV16,FC16,FJ16,FQ16,FX16,GE16,GL16,GS16,GZ16,HG16,HN16,HU16,IB16,II16,IP16,IW16)+JE16 -> 0 | CL16: =SUM(CS16,CZ16,DG16,DN16,DU16,EB16,EI16,EP16,EW16,FD16,FK16,FR16,FY16,GF16,GM16,GT16,HA16,HH16,HO16,HV16,IC16,IJ16,IQ16,IX16)+JF16 -> 0 | CM16: =SUM(CT16,DA16,DH16,DO16,DV16,EC16,EJ16,EQ16,EX16,FE16,FL16,FS16,FZ16,GG16,GN16,GU16,HB16,HI16,HP16,HW16,ID16,IK16,IR16,IY16)+JG16 -> 0 | CQ16: =+CO16+CP16 -> 0 | CR16: =CQ16-CS16-CT16 -> 0 | CX16: =+CV16+CW16 -> 0 | CY16: =CX16-CZ16-DA16 -> 0 | DE16: =+DC16+DD16 -> 0 | DF16: =DE16-DG16-DH16 -> 0 | DL16: =+DJ16+DK16 -> 0 | DM16: =DL16-DN16-DO16 -> 0 | DS16: =+DQ16+DR16 -> 0 | DT16: =DS16-DU16-DV16 -> 0 | DZ16: =+DX16+DY16 -> 0 | EA16: =DZ16-EB16-EC16 -> 0 | EG16: =+EE16+EF16 -> 0 | EH16: =EG16-EI16-EJ16 -> 0 | EN16: =+EL16+EM16 -> 0 | EO16: =EN16-EP16-EQ16 -> 0 | EU16: =+ES16+ET16 -> 0 | EV16: =EU16-EW16-EX16 -> 0 | FB16: =+EZ16+FA16 -> 0 | FC16: =FB16-FD16-FE16 -> 0 | FI16: =+FG16+FH16 -> 0 | FJ16: =FI16-FK16-FL16 -> 0 | FP16: =+FN16+FO16 -> 0 | FQ16: =FP16-FR16-FS16 -> 0 | FW16: =+FU16+FV16 -> 0 | FX16: =FW16-FY16-FZ16 -> 0 | GD16: =+GB16+GC16 -> 0 | GE16: =GD16-GF16-GG16 -> 0 | GK16: =+GI16+GJ16 -> 0 | GL16: =GK16-GM16-GN16 -> 0 | GR16: =+GP16+GQ16 -> 0 | GS16: =GR16-GT16-GU16 -> 0 | GY16: =+GW16+GX16 -> 0 | GZ16: =GY16-HA16-HB16 -> 0 | HF16: =+HD16+HE16 -> 0 | HG16: =HF16-HH16-HI16 -> 0 | HM16: =+HK16+HL16 -> 0 | HN16: =HM16-HO16-HP16 -> 0 | HT16: =+HR16+HS16 -> 0 | HU16: =HT16-HV16-HW16 -> 0 | IA16: =+HY16+HZ16 -> 0 | IB16: =IA16-IC16-ID16 -> 0 | IH16: =+IF16+IG16 -> 0 | II16: =IH16-IJ16-IK16 -> 0 | IO16: =+IM16+IN16 -> 0 | IP16: =IO16-IQ16-IR16 -> 0 | IV16: =+IT16+IU16 -> 0 | IW16: =IV16-IX16-IY16 -> 0 | JD16: =+JA16+JB16+IZ16+JC16 -> 0 | JE16: =JD16-JF16-JG16 -> 0
B17: b) | C17: egyéb közhatalmi bevételek | D17: =SUM(M17,U17,AC17,AK17,AR17,BH17,BP17,BX17,CN17,CU17,DB17,DI17,DP17,DW17,ED17,EK17)+SUM(ER17,EY17,FF17,FM17,FT17,GA17,GH17,GO17,GV17,HC17,HJ17,HQ17,HX17,IE17,IL17,IS17) -> 234200 | E17: =SUM(W17,AE17,AM17,AT17,BJ17,BR17,BZ17,CP17,CW17,DD17,DK17,DR17,DY17,EF17,EM17)+SUM(ET17,FA17,FH17,FO17,FV17,GC17,GJ17,GQ17,GX17,HE17,HL17,HS17,HZ17,IG17,IN17,IU17) -> 0 | F17: =+N17+V17+AD17+AS17+BA17+CG17 -> 0 | G17: =+O17+W17+AE17+AT17+BB17+CH17 -> 0 | H17: =+P17+X17+AF17+AU17+BC17+CI17 -> 0 | I17: =+Q17+Y17+AG17+AV17+BD17+CJ17 -> 234200 | J17: =+R17+Z17+AH17+AW17+BE17+CK17 -> 204200 | K17: =+S17+AA17+AI17+AX17+BF17+CL17 -> 30000 | L17: =+T17+AB17 -> 0 | M17: 209200 | Q17: =SUM(M17:P17) -> 209200 | R17: =+Q17-S17 -> 179200 | S17: 30000 | Y17: =+V17+U17+W17+X17 -> 0 | AG17: =+AD17+AE17+AC17+AF17 -> 0 | AH17: =AG17-AI17-AJ17 -> 0 | AR17: 25000 | AV17: =+AS17+AT17+AR17+AU17 -> 25000 | AW17: =AV17-AX17-AY17 -> 25000 | AZ17: =SUM(BP17,BX17,BH17) -> 0 | BA17: =SUM(BQ17,BY17,BI17) -> 0 | BB17: =SUM(BR17,BZ17,BJ17) -> 0 | BC17: =SUM(BS17,CA17,BK17) -> 0 | BD17: =SUM(AZ17:BC17) -> 0 | BE17: =SUM(BU17,CC17,BM17) -> 0 | BF17: =SUM(BV17,CD17,BN17) -> 0 | BG17: =SUM(BW17,CE17,BO17) -> 0 | BL17: =+BI17+BJ17+BH17+BK17 -> 0 | BM17: =BL17-BN17-BO17 -> 0 | BT17: =+BQ17+BR17+BP17+BS17 -> 0 | BU17: =BT17-BV17-BW17 -> 0 | CB17: =SUM(BX17:BZ17)+CA17 -> 0 | CC17: =CB17-CD17-CE17 -> 0 | CF17: =SUM(CN17,CU17,DB17,DI17,DP17,DW17,ED17,EK17,ER17,EY17,FF17,FM17,FT17,GA17,GH17,GO17,GV17,HC17,HJ17,HQ17,HX17,IE17,IL17,IS17) -> 0 | CG17: =SUM(CO17,CV17,DC17,DJ17,DQ17,DX17,EE17,EL17,ES17,EZ17,FG17,FN17,FU17,GB17,GI17,GP17,GW17,HD17,HK17,HR17,HY17,IF17,IM17,IT17) -> 0 | CH17: =SUM(CP17,CW17,DD17,DK17,DR17,DY17,EF17,EM17,ET17,FA17,FH17,FO17,FV17,GC17,GJ17,GQ17,GX17,HE17,HL17,HS17,HZ17,IG17,IN17,IU17) -> 0 | CI17: =JC17 -> 0 | CJ17: =SUM(CQ17,CX17,DE17,DL17,DS17,DZ17,EG17,EN17,EU17,FB17,FI17,FP17,FW17,GD17,GK17,GR17,GY17,HF17,HM17,HT17,IA17,IH17,IO17,IV17)+JD17 -> 0 | CK17: =SUM(CR17,CY17,DF17,DM17,DT17,EA17,EH17,EO17,EV17,FC17,FJ17,FQ17,FX17,GE17,GL17,GS17,GZ17,HG17,HN17,HU17,IB17,II17,IP17,IW17)+JE17 -> 0 | CL17: =SUM(CS17,CZ17,DG17,DN17,DU17,EB17,EI17,EP17,EW17,FD17,FK17,FR17,FY17,GF17,GM17,GT17,HA17,HH17,HO17,HV17,IC17,IJ17,IQ17,IX17)+JF17 -> 0 | CM17: =SUM(CT17,DA17,DH17,DO17,DV17,EC17,EJ17,EQ17,EX17,FE17,FL17,FS17,FZ17,GG17,GN17,GU17,HB17,HI17,HP17,HW17,ID17,IK17,IR17,IY17)+JG17 -> 0 | CQ17: =+CO17+CP17 -> 0 | CR17: =CQ17-CS17-CT17 -> 0 | CX17: =+CV17+CW17 -> 0 | CY17: =CX17-CZ17-DA17 -> 0 | DE17: =+DC17+DD17 -> 0 | DF17: =DE17-DG17-DH17 -> 0 | DL17: =+DJ17+DK17 -> 0 | DM17: =DL17-DN17-DO17 -> 0 | DS17: =+DQ17+DR17 -> 0 | DT17: =DS17-DU17-DV17 -> 0 | DZ17: =+DX17+DY17 -> 0 | EA17: =DZ17-EB17-EC17 -> 0 | EG17: =+EE17+EF17 -> 0 | EH17: =EG17-EI17-EJ17 -> 0 | EN17: =+EL17+EM17 -> 0 | EO17: =EN17-EP17-EQ17 -> 0 | EU17: =+ES17+ET17 -> 0 | EV17: =EU17-EW17-EX17 -> 0 | FB17: =+EZ17+FA17 -> 0 | FC17: =FB17-FD17-FE17 -> 0 | FI17: =+FG17+FH17 -> 0 | FJ17: =FI17-FK17-FL17 -> 0 | FP17: =+FN17+FO17 -> 0 | FQ17: =FP17-FR17-FS17 -> 0 | FW17: =+FU17+FV17 -> 0 | FX17: =FW17-FY17-FZ17 -> 0 | GD17: =+GB17+GC17 -> 0 | GE17: =GD17-GF17-GG17 -> 0 | GK17: =+GI17+GJ17 -> 0 | GL17: =GK17-GM17-GN17 -> 0 | GR17: =+GP17+GQ17 -> 0 | GS17: =GR17-GT17-GU17 -> 0 | GY17: =+GW17+GX17 -> 0 | GZ17: =GY17-HA17-HB17 -> 0 | HF17: =+HD17+HE17 -> 0 | HG17: =HF17-HH17-HI17 -> 0 | HM17: =+HK17+HL17 -> 0 | HN17: =HM17-HO17-HP17 -> 0 | HT17: =+HR17+HS17 -> 0 | HU17: =HT17-HV17-HW17 -> 0 | IA17: =+HY17+HZ17 -> 0 | IB17: =IA17-IC17-ID17 -> 0 | IH17: =+IF17+IG17 -> 0 | II17: =IH17-IJ17-IK17 -> 0 | IO17: =+IM17+IN17 -> 0 | IP17: =IO17-IQ17-IR17 -> 0 | IV17: =+IT17+IU17 -> 0 | IW17: =IV17-IX17-IY17 -> 0 | JD17: =+JA17+JB17+IZ17+JC17 -> 0 | JE17: =JD17-JF17-JG17 -> 0
A18: 3. | B18: Működési bevételek | D18: =SUM(M18,U18,AC18,AK18,AR18,BH18,BP18,BX18,CN18,CU18,DB18,DI18,DP18,DW18,ED18,EK18)+SUM(ER18,EY18,FF18,FM18,FT18,GA18,GH18,GO18,GV18,HC18,HJ18,HQ18,HX18,IE18,IL18,IS18) -> 5261733 | E18: 0 | F18: =+N18+V18+AD18+AS18+BA18+CG18 -> 350423 | G18: =+O18+W18+AE18+AT18+BB18+CH18 -> 276366 | H18: =+P18+X18+AF18+AU18+BC18+CI18 -> -282363 | I18: =+Q18+Y18+AG18+AV18+BD18+CJ18 -> 5606159 | J18: =+R18+Z18+AH18+AW18+BE18+CK18 -> 3018488 | K18: =+S18+AA18+AI18+AX18+BF18+CL18 -> 2568288 | L18: =+T18+AB18 -> 19383 | M18: 3953041 | N18: =188498+161925 -> 350423 | O18: 103714 | P18: 10822 | Q18: =SUM(M18:P18) -> 4418000 | R18: =+Q18-S18 -> 1903635 | S18: 2514365 | U18: 695173 | W18: 168000 | X18: -328574 | Y18: =+V18+U18+W18+X18 -> 534599 | Z18: =Y18-AA18-AB18 -> 512984 | AA18: 2232 | AB18: 19383 | AC18: 81855 | AE18: 4515 | AF18: 1316 | AG18: =+AD18+AE18+AC18+AF18 -> 87686 | AH18: =AG18-AI18-AJ18 -> 52148 | AI18: 35538 | AT18: 139 | AU18: 1374 | AV18: =+AS18+AT18+AR18+AU18 -> 1513 | AW18: =AV18-AX18-AY18 -> 1513 | AZ18: =SUM(BP18,BX18,BH18) -> 328176 | BA18: =SUM(BQ18,BY18,BI18) -> 0 | BB18: =SUM(BR18,BZ18,BJ18) -> 0 | BC18: =SUM(BS18,CA18,BK18) -> 28077 | BD18: =SUM(AZ18:BC18) -> 356253 | BE18: =SUM(BU18,CC18,BM18) -> 340100 | BF18: =SUM(BV18,CD18,BN18) -> 16153 | BG18: =SUM(BW18,CE18,BO18) -> 0 | BH18: 214058 | BK18: 1451 | BL18: =+BI18+BJ18+BH18+BK18 -> 215509 | BM18: =BL18-BN18-BO18 -> 215509 | BP18: 60 | BT18: =+BQ18+BR18+BP18+BS18 -> 60 | BU18: =BT18-BV18-BW18 -> 60 | BX18: 114058 | CA18: 26626 | CB18: =SUM(BX18:BZ18)+CA18 -> 140684 | CC18: =CB18-CD18-CE18 -> 124531 | CD18: 16153 | CF18: =SUM(CN18,CU18,DB18,DI18,DP18,DW18,ED18,EK18,ER18,EY18,FF18,FM18,FT18,GA18,GH18,GO18,GV18,HC18,HJ18,HQ18,HX18,IE18,IL18,IS18) -> 203488 | CG18: =SUM(CO18,CV18,DC18,DJ18,DQ18,DX18,EE18,EL18,ES18,EZ18,FG18,FN18,FU18,GB18,GI18,GP18,GW18,HD18,HK18,HR18,HY18,IF18,IM18,IT18) -> 0 | CH18: =SUM(CP18,CW18,DD18,DK18,DR18,DY18,EF18,EM18,ET18,FA18,FH18,FO18,FV18,GC18,GJ18,GQ18,GX18,HE18,HL18,HS18,HZ18,IG18,IN18,IU18)+JB18 -> -2 | CI18: =JC18 -> 4622 | CJ18: =SUM(CQ18,CX18,DE18,DL18,DS18,DZ18,EG18,EN18,EU18,FB18,FI18,FP18,FW18,GD18,GK18,GR18,GY18,HF18,HM18,HT18,IA18,IH18,IO18,IV18)+JD18 -> 208108 | CK18: =SUM(CR18,CY18,DF18,DM18,DT18,EA18,EH18,EO18,EV18,FC18,FJ18,FQ18,FX18,GE18,GL18,GS18,GZ18,HG18,HN18,HU18,IB18,II18,IP18,IW18)+JE18 -> 208108 | CL18: =SUM(CS18,CZ18,DG18,DN18,DU18,EB18,EI18,EP18,EW18,FD18,FK18,FR18,FY18,GF18,GM18,GT18,HA18,HH18,HO18,HV18,IC18,IJ18,IQ18,IX18)+JF18 -> 0 | CM18: =SUM(CT18,DA18,DH18,DO18,DV18,EC18,EJ18,EQ18,EX18,FE18,FL18,FS18,FZ18,GG18,GN18,GU18,HB18,HI18,HP18,HW18,ID18,IK18,IR18,IY18)+JG18 -> 0 | CN18: 3532 | CP18: -1167 | CQ18: =SUM(CN18:CP18) -> 2365 | CR18: =CQ18-CS18-CT18 -> 2365 | CU18: 10979 | CW18: -7715 | CX18: =SUM(CU18:CW18) -> 3264 | CY18: =CX18-CZ18-DA18 -> 3264 | DB18: 8718 | DD18: -4839 | DE18: =SUM(DB18:DD18) -> 3879 | DF18: =DE18-DG18-DH18 -> 3879 | DI18: 6891 | DK18: -3539 | DL18: =SUM(DI18:DK18) -> 3352 | DM18: =DL18-DN18-DO18 -> 3352 | DP18: 3603 | DR18: -2581 | DS18: =SUM(DP18:DR18) -> 1022 | DT18: =DS18-DU18-DV18 -> 1022 | DW18: 14092 | DY18: -7450 | DZ18: =SUM(DW18:DY18) -> 6642 | EA18: =DZ18-EB18-EC18 -> 6642 | ED18: 15210 | EF18: -7920 | EG18: =SUM(ED18:EF18) -> 7290 | EH18: =EG18-EI18-EJ18 -> 7290 | EK18: 8693 | EM18: -3787 | EN18: =SUM(EK18:EM18) -> 4906 | EO18: =EN18-EP18-EQ18 -> 4906 | ER18: 11655 | ET18: -7021 | EU18: =SUM(ER18:ET18) -> 4634 | EV18: =EU18-EW18-EX18 -> 4634 | EY18: 11244 | FA18: -5389 | FB18: =SUM(EY18:FA18) -> 5855 | FC18: =FB18-FD18-FE18 -> 5855 | FF18: 6306 | FH18: -2371 | FI18: =SUM(FF18:FH18) -> 3935 | FJ18: =FI18-FK18-FL18 -> 3935 | FM18: 7489 | FO18: -2845 | FP18: =SUM(FM18:FO18) -> 4644 | FQ18: =FP18-FR18-FS18 -> 4644 | FT18: 4437 | FV18: -1405 | FW18: =SUM(FT18:FV18) -> 3032 | FX18: =FW18-FY18-FZ18 -> 3032 | GA18: 9052 | GC18: -4536 | GD18: =SUM(GA18:GC18) -> 4516 | GE18: =GD18-GF18-GG18 -> 4516 | GH18: 9685 | GJ18: -4968 | GK18: =SUM(GH18:GJ18) -> 4717 | GL18: =GK18-GM18-GN18 -> 4717 | GO18: 5495 | GQ18: -2277 | GR18: =SUM(GO18:GQ18) -> 3218 | GS18: =GR18-GT18-GU18 -> 3218 | GV18: 9561 | GX18: -4779 | GY18: =SUM(GV18:GX18) -> 4782 | GZ18: =GY18-HA18-HB18 -> 4782 | HC18: 4090 | HE18: -1915 | HF18: =SUM(HC18:HE18) -> 2175 | HG18: =HF18-HH18-HI18 -> 2175 | HJ18: 3490 | HL18: -1533 | HM18: =SUM(HJ18:HL18) -> 1957 | HN18: =HM18-HO18-HP18 -> 1957 | HQ18: 4950 | HS18: -2234 | HT18: =SUM(HQ18:HS18) -> 2716 | HU18: =HT18-HV18-HW18 -> 2716 | HX18: 16996 | HZ18: -8948 | IA18: =SUM(HX18:HZ18) -> 8048 | IB18: =IA18-IC18-ID18 -> 8048 | IE18: 6729 | IG18: -3672 | IH18: =SUM(IE18:IG18) -> 3057 | II18: =IH18-IJ18-IK18 -> 3057 | IL18: 6178 | IN18: -2714 | IO18: =SUM(IL18:IN18) -> 3464 | IP18: =IO18-IQ18-IR18 -> 3464 | IS18: 14413 | IU18: -8047 | IV18: =SUM(IS18:IU18) -> 6366 | IW18: =IV18-IX18-IY18 -> 6366 | JB18: 103650 | JC18: 4622 | JD18: =+JA18+JB18+IZ18+JC18 -> 108272 | JE18: =JD18-JF18-JG18 -> 108272
A19: 4. | B19: Működési célú átvett pénzeszközök | D19: =SUM(M19,U19,AC19,AK19,AR19,BH19,BP19,BX19,CN19,CU19,DB19,DI19,DP19,DW19,ED19,EK19)+SUM(ER19,EY19,FF19,FM19,FT19,GA19,GH19,GO19,GV19,HC19,HJ19,HQ19,HX19,IE19,IL19,IS19) -> 118532 | E19: =SUM(E20:E21) -> 0 | F19: =+N19+V19+AD19+AS19+BA19+CG19 -> 0 | G19: =+O19+W19+AE19+AT19+BB19+CH19 -> 0 | H19: =+P19+X19+AF19+AU19+BC19+CI19 -> 0 | I19: =+Q19+Y19+AG19+AV19+BD19+CJ19 -> 118532 | J19: =+R19+Z19+AH19+AW19+BE19+CK19 -> 0 | K19: =+S19+AA19+AI19+AX19+BF19+CL19 -> 118532 | L19: =+T19+AB19 -> 0 | M19: =+M21+M20 -> 118532 | N19: =SUM(N20:N21) -> 0 | O19: =SUM(O20:O21) -> 0 | P19: =SUM(P20:P21) -> 0 | Q19: =SUM(M19:P19) -> 118532 | R19: =+Q19-S19 -> 0 | S19: =SUM(S20:S21) -> 118532 | T19: =SUM(T20:T21) -> 0 | U19: =SUM(U20:U21) -> 0 | V19: =SUM(V20:V21) -> 0 | W19: =SUM(W20:W21) -> 0 | X19: =SUM(X20:X21) -> 0 | Y19: =+V19+U19+W19+X19 -> 0 | Z19: =Y19-AA19-AB19 -> 0 | AA19: =SUM(AA20:AA21) -> 0 | AB19: =SUM(AB20:AB21) -> 0 | AC19: =SUM(AC20:AC21) -> 0 | AD19: =SUM(AD20:AD21) -> 0 | AE19: =SUM(AE20:AE21) -> 0 | AF19: =SUM(AF20:AF21) -> 0 | AG19: =+AD19+AE19+AC19+AF19 -> 0 | AH19: =SUM(AH20:AH21) -> 0 | AI19: =SUM(AI20:AI21) -> 0 | AJ19: =SUM(AJ20:AJ21) -> 0 | AR19: =SUM(AR20:AR21) -> 0 | AS19: =SUM(AS20:AS21) -> 0 | AT19: =SUM(AT20:AT21) -> 0 | AU19: =SUM(AU20:AU21) -> 0 | AV19: =+AS19+AT19+AR19+AU19 -> 0 | AW19: =SUM(AW20:AW21) -> 0 | AX19: =SUM(AX20:AX21) -> 0 | AY19: =SUM(AY20:AY21) -> 0 | AZ19: =SUM(AZ20:AZ21) -> 0 | BA19: =SUM(BA20:BA21) -> 0 | BB19: =SUM(BR19,BZ19,BJ19) -> 0 | BC19: =SUM(BS19,CA19,BK19) -> 0 | BD19: =SUM(AZ19:BC19) -> 0 | BE19: =SUM(BE20:BE21) -> 0 | BF19: =SUM(BF20:BF21) -> 0 | BG19: =SUM(BG20:BG21) -> 0 | BH19: =SUM(BH20:BH21) -> 0 | BI19: =SUM(BI20:BI21) -> 0 | BJ19: =SUM(BJ20:BJ21) -> 0 | BK19: =SUM(BK20:BK21) -> 0 | BL19: =+BI19+BJ19+BH19+BK19 -> 0 | BM19: =SUM(BM20:BM21) -> 0 | BN19: =SUM(BN20:BN21) -> 0 | BO19: =SUM(BO20:BO21) -> 0 | BP19: =SUM(BP20:BP21) -> 0 | BQ19: =SUM(BQ20:BQ21) -> 0 | BR19: =SUM(BR20:BR21) -> 0 | BS19: =SUM(BS20:BS21) -> 0 | BT19: =+BQ19+BR19+BP19+BS19 -> 0 | BU19: =SUM(BU20:BU21) -> 0 | BV19: =SUM(BV20:BV21) -> 0 | BW19: =SUM(BW20:BW21) -> 0 | BX19: =SUM(BX20:BX21) -> 0 | BY19: =SUM(BY20:BY21) -> 0 | BZ19: =SUM(BZ20:BZ21) -> 0 | CA19: =SUM(CA20:CA21) -> 0 | CB19: =SUM(BX19:BZ19)+CA19 -> 0 | CC19: =SUM(CC20:CC21) -> 0 | CD19: =SUM(CD20:CD21) -> 0 | CE19: =SUM(CE20:CE21) -> 0 | CF19: =SUM(CF20:CF21) -> 0 | CG19: =SUM(CG20:CG21) -> 0 | CH19: =SUM(CH20:CH21) -> 0 | CI19: =SUM(CI20:CI21) -> 0 | CJ19: =SUM(CQ19,CX19,DE19,DL19,DS19,DZ19,EG19,EN19,EU19,FB19,FI19,FP19,FW19,GD19,GK19,GR19,GY19,HF19,HM19,HT19,IA19,IH19,IO19,IV19)+JD19 -> 0 | CK19: =SUM(CR19,CY19,DF19,DM19,DT19,EA19,EH19,EO19,EV19,FC19,FJ19,FQ19,FX19,GE19,GL19,GS19,GZ19,HG19,HN19,HU19,IB19,II19,IP19,IW19)+JE19 -> 0 | CL19: =SUM(CS19,CZ19,DG19,DN19,DU19,EB19,EI19,EP19,EW19,FD19,FK19,FR19,FY19,GF19,GM19,GT19,HA19,HH19,HO19,HV19,IC19,IJ19,IQ19,IX19)+JF19 -> 0 | CM19: =SUM(CT19,DA19,DH19,DO19,DV19,EC19,EJ19,EQ19,EX19,FE19,FL19,FS19,FZ19,GG19,GN19,GU19,HB19,HI19,HP19,HW19,ID19,IK19,IR19,IY19)+JG19 -> 0 | CN19: =SUM(CN20:CN21) -> 0 | CO19: =SUM(CO20:CO21) -> 0 | CP19: =SUM(CP20:CP21) -> 0 | CQ19: =+CO19+CP19 -> 0 | CR19: =SUM(CR20:CR21) -> 0 | CS19: =SUM(CS20:CS21) -> 0 | CT19: =SUM(CT20:CT21) -> 0 | CU19: =SUM(CU20:CU21) -> 0 | CV19: =SUM(CV20:CV21) -> 0 | CW19: =SUM(CW20:CW21) -> 0 | CX19: =+CV19+CW19 -> 0 | CY19: =SUM(CY20:CY21) -> 0 | CZ19: =SUM(CZ20:CZ21) -> 0 | DA19: =SUM(DA20:DA21) -> 0 | DB19: =SUM(DB20:DB21) -> 0 | DC19: =SUM(DC20:DC21) -> 0 | DD19: =SUM(DD20:DD21) -> 0 | DE19: =+DC19+DD19 -> 0 | DF19: =SUM(DF20:DF21) -> 0 | DG19: =SUM(DG20:DG21) -> 0 | DH19: =SUM(DH20:DH21) -> 0 | DI19: =SUM(DI20:DI21) -> 0 | DJ19: =SUM(DJ20:DJ21) -> 0 | DK19: =SUM(DK20:DK21) -> 0 | DL19: =+DJ19+DK19 -> 0 | DM19: =SUM(DM20:DM21) -> 0 | DN19: =SUM(DN20:DN21) -> 0 | DO19: =SUM(DO20:DO21) -> 0 | DP19: =SUM(DP20:DP21) -> 0 | DQ19: =SUM(DQ20:DQ21) -> 0 | DR19: =SUM(DR20:DR21) -> 0 | DS19: =+DQ19+DR19 -> 0 | DT19: =SUM(DT20:DT21) -> 0 | DU19: =SUM(DU20:DU21) -> 0 | DV19: =SUM(DV20:DV21) -> 0 | DW19: =SUM(DW20:DW21) -> 0 | DX19: =SUM(DX20:DX21) -> 0 | DY19: =SUM(DY20:DY21) -> 0 | DZ19: =+DX19+DY19 -> 0 | EA19: =SUM(EA20:EA21) -> 0 | EB19: =SUM(EB20:EB21) -> 0 | EC19: =SUM(EC20:EC21) -> 0 | ED19: =SUM(ED20:ED21) -> 0 | EE19: =SUM(EE20:EE21) -> 0 | EF19: =SUM(EF20:EF21) -> 0 | EG19: =+EE19+EF19 -> 0 | EH19: =SUM(EH20:EH21) -> 0 | EI19: =SUM(EI20:EI21) -> 0 | EJ19: =SUM(EJ20:EJ21) -> 0 | EK19: =SUM(EK20:EK21) -> 0 | EL19: =SUM(EL20:EL21) -> 0 | EM19: =SUM(EM20:EM21) -> 0 | EN19: =+EL19+EM19 -> 0 | EO19: =SUM(EO20:EO21) -> 0 | EP19: =SUM(EP20:EP21) -> 0 | EQ19: =SUM(EQ20:EQ21) -> 0 | ER19: =SUM(ER20:ER21) -> 0 | ES19: =SUM(ES20:ES21) -> 0 | ET19: =SUM(ET20:ET21) -> 0 | EU19: =+ES19+ET19 -> 0 | EV19: =SUM(EV20:EV21) -> 0 | EW19: =SUM(EW20:EW21) -> 0 | EX19: =SUM(EX20:EX21) -> 0 | EY19: =SUM(EY20:EY21) -> 0 | EZ19: =SUM(EZ20:EZ21) -> 0 | FA19: =SUM(FA20:FA21) -> 0 | FB19: =+EZ19+FA19 -> 0 | FC19: =SUM(FC20:FC21) -> 0 | FD19: =SUM(FD20:FD21) -> 0 | FE19: =SUM(FE20:FE21) -> 0 | FF19: =SUM(FF20:FF21) -> 0 | FG19: =SUM(FG20:FG21) -> 0 | FH19: =SUM(FH20:FH21) -> 0 | FI19: =+FG19+FH19 -> 0 | FJ19: =SUM(FJ20:FJ21) -> 0 | FK19: =SUM(FK20:FK21) -> 0 | FL19: =SUM(FL20:FL21) -> 0 | FM19: =SUM(FM20:FM21) -> 0 | FN19: =SUM(FN20:FN21) -> 0 | FO19: =SUM(FO20:FO21) -> 0 | FP19: =+FN19+FO19 -> 0 | FQ19: =SUM(FQ20:FQ21) -> 0 | FR19: =SUM(FR20:FR21) -> 0 | FS19: =SUM(FS20:FS21) -> 0 | FT19: =SUM(FT20:FT21) -> 0 | FU19: =SUM(FU20:FU21) -> 0 | FV19: =SUM(FV20:FV21) -> 0 | FW19: =+FU19+FV19 -> 0 | FX19: =SUM(FX20:FX21) -> 0 | FY19: =SUM(FY20:FY21) -> 0 | FZ19: =SUM(FZ20:FZ21) -> 0 | GA19: =SUM(GA20:GA21) -> 0 | GB19: =SUM(GB20:GB21) -> 0 | GC19: =SUM(GC20:GC21) -> 0 | GD19: =+GB19+GC19 -> 0 | GE19: =SUM(GE20:GE21) -> 0 | GF19: =SUM(GF20:GF21) -> 0 | GG19: =SUM(GG20:GG21) -> 0 | GH19: =SUM(GH20:GH21) -> 0 | GI19: =SUM(GI20:GI21) -> 0 | GJ19: =SUM(GJ20:GJ21) -> 0 | GK19: =+GI19+GJ19 -> 0 | GL19: =SUM(GL20:GL21) -> 0 | GM19: =SUM(GM20:GM21) -> 0 | GN19: =SUM(GN20:GN21) -> 0 | GO19: =SUM(GO20:GO21) -> 0 | GP19: =SUM(GP20:GP21) -> 0 | GQ19: =SUM(GQ20:GQ21) -> 0 | GR19: =+GP19+GQ19 -> 0 | GS19: =SUM(GS20:GS21) -> 0 | GT19: =SUM(GT20:GT21) -> 0 | GU19: =SUM(GU20:GU21) -> 0 | GV19: =SUM(GV20:GV21) -> 0 | GW19: =SUM(GW20:GW21) -> 0 | GX19: =SUM(GX20:GX21) -> 0 | GY19: =+GW19+GX19 -> 0 | GZ19: =SUM(GZ20:GZ21) -> 0 | HA19: =SUM(HA20:HA21) -> 0 | HB19: =SUM(HB20:HB21) -> 0 | HC19: =SUM(HC20:HC21) -> 0 | HD19: =SUM(HD20:HD21) -> 0 | HE19: =SUM(HE20:HE21) -> 0 | HF19: =+HD19+HE19 -> 0 | HG19: =SUM(HG20:HG21) -> 0 | HH19: =SUM(HH20:HH21) -> 0 | HI19: =SUM(HI20:HI21) -> 0 | HJ19: =SUM(HJ20:HJ21) -> 0 | HK19: =SUM(HK20:HK21) -> 0 | HL19: =SUM(HL20:HL21) -> 0 | HM19: =+HK19+HL19 -> 0 | HN19: =SUM(HN20:HN21) -> 0 | HO19: =SUM(HO20:HO21) -> 0 | HP19: =SUM(HP20:HP21) -> 0 | HQ19: =SUM(HQ20:HQ21) -> 0 | HR19: =SUM(HR20:HR21) -> 0 | HS19: =SUM(HS20:HS21) -> 0 | HT19: =+HR19+HS19 -> 0 | HU19: =SUM(HU20:HU21) -> 0 | HV19: =SUM(HV20:HV21) -> 0 | HW19: =SUM(HW20:HW21) -> 0 | HX19: =SUM(HX20:HX21) -> 0 | HY19: =SUM(HY20:HY21) -> 0 | HZ19: =SUM(HZ20:HZ21) -> 0 | IA19: =+HY19+HZ19 -> 0 | IB19: =SUM(IB20:IB21) -> 0 | IC19: =SUM(IC20:IC21) -> 0 | ID19: =SUM(ID20:ID21) -> 0 | IE19: =SUM(IE20:IE21) -> 0 | IF19: =SUM(IF20:IF21) -> 0 | IG19: =SUM(IG20:IG21) -> 0 | IH19: =+IF19+IG19 -> 0 | II19: =SUM(II20:II21) -> 0 | IJ19: =SUM(IJ20:IJ21) -> 0 | IK19: =SUM(IK20:IK21) -> 0 | IL19: =SUM(IL20:IL21) -> 0 | IM19: =SUM(IM20:IM21) -> 0 | IN19: =SUM(IN20:IN21) -> 0 | IO19: =+IM19+IN19 -> 0 | IP19: =SUM(IP20:IP21) -> 0 | IQ19: =SUM(IQ20:IQ21) -> 0 | IR19: =SUM(IR20:IR21) -> 0 | IS19: =SUM(IS20:IS21) -> 0 | IT19: =SUM(IT20:IT21) -> 0 | IU19: =SUM(IU20:IU21) -> 0 | IV19: =+IT19+IU19 -> 0 | IW19: =SUM(IW20:IW21) -> 0 | IX19: =SUM(IX20:IX21) -> 0 | IY19: =SUM(IY20:JG21) -> 0 | IZ19: =SUM(IZ20:IZ21) -> 0 | JA19: =SUM(JA20:JA21) -> 0 | JB19: =SUM(JB20:JB21) -> 0 | JC19: =SUM(JC20:JC21) -> 0 | JD19: =+JA19+JB19+IZ19+JC19 -> 0 | JE19: =SUM(JE20:JE21) -> 0 | JF19: =SUM(JF20:JF21) -> 0
B20: a) | C20: visszatérítendő támogatás, kölcsön visszatérülése államháztartáson kívülről | D20: =SUM(M20,U20,AC20,AK20,AR20,BH20,BP20,BX20,CN20,CU20,DB20,DI20,DP20,DW20,ED20,EK20)+SUM(ER20,EY20,FF20,FM20,FT20,GA20,GH20,GO20,GV20,HC20,HJ20,HQ20,HX20,IE20,IL20,IS20) -> 2000 | E20: =SUM(W20,AE20,AM20,AT20,BJ20,BR20,BZ20,CP20,CW20,DD20,DK20,DR20,DY20,EF20,EM20)+SUM(ET20,FA20,FH20,FO20,FV20,GC20,GJ20,GQ20,GX20,HE20,HL20,HS20,HZ20,IG20,IN20,IU20) -> 0 | F20: =+N20+V20+AD20+AS20+BA20+CG20 -> 0 | G20: =+O20+W20+AE20+AT20+BB20+CH20 -> 0 | H20: =+P20+X20+AF20+AU20+BC20+CI20 -> 0 | I20: =+Q20+Y20+AG20+AV20+BD20+CJ20 -> 2000 | J20: =+R20+Z20+AH20+AW20+BE20+CK20 -> 0 | K20: =+S20+AA20+AI20+AX20+BF20+CL20 -> 2000 | L20: =+T20+AB20 -> 0 | M20: 2000 | Q20: =SUM(M20:P20) -> 2000 | R20: =+Q20-S20 -> 0 | S20: 2000 | Z20: =Y20-AA20-AB20 -> 0 | AG20: =+AD20+AE20+AC20+AF20 -> 0 | AH20: =AG20-AI20-AJ20 -> 0 | AV20: =+AS20+AT20+AR20+AU20 -> 0 | AW20: =AV20-AX20-AY20 -> 0 | AZ20: =SUM(BP20,BX20,BH20) -> 0 | BA20: =SUM(BQ20,BY20,BI20) -> 0 | BB20: =SUM(BR20,BZ20,BJ20) -> 0 | BC20: =SUM(BS20,CA20,BK20) -> 0 | BD20: =SUM(AZ20:BC20) -> 0 | BE20: =SUM(BU20,CC20,BM20) -> 0 | BF20: =SUM(BV20,CD20,BN20) -> 0 | BG20: =SUM(BW20,CE20,BO20) -> 0 | BL20: =+BI20+BJ20+BH20+BK20 -> 0 | BM20: =BL20-BN20-BO20 -> 0 | BT20: =+BQ20+BR20+BP20+BS20 -> 0 | BU20: =BT20-BV20-BW20 -> 0 | CB20: =SUM(BX20:BZ20)+CA20 -> 0 | CC20: =CB20-CD20-CE20 -> 0 | CF20: =SUM(CN20,CU20,DB20,DI20,DP20,DW20,ED20,EK20,ER20,EY20,FF20,FM20,FT20,GA20,GH20,GO20,GV20,HC20,HJ20,HQ20,HX20,IE20,IL20,IS20) -> 0 | CG20: =SUM(CO20,CV20,DC20,DJ20,DQ20,DX20,EE20,EL20,ES20,EZ20,FG20,FN20,FU20,GB20,GI20,GP20,GW20,HD20,HK20,HR20,HY20,IF20,IM20,IT20) -> 0 | CH20: =SUM(CP20,CW20,DD20,DK20,DR20,DY20,EF20,EM20,ET20,FA20,FH20,FO20,FV20,GC20,GJ20,GQ20,GX20,HE20,HL20,HS20,HZ20,IG20,IN20,IU20) -> 0 | CI20: =JC20 -> 0 | CJ20: =SUM(CQ20,CX20,DE20,DL20,DS20,DZ20,EG20,EN20,EU20,FB20,FI20,FP20,FW20,GD20,GK20,GR20,GY20,HF20,HM20,HT20,IA20,IH20,IO20,IV20)+JD20 -> 0 | CK20: =SUM(CR20,CY20,DF20,DM20,DT20,EA20,EH20,EO20,EV20,FC20,FJ20,FQ20,FX20,GE20,GL20,GS20,GZ20,HG20,HN20,HU20,IB20,II20,IP20,IW20)+JE20 -> 0 | CL20: =SUM(CS20,CZ20,DG20,DN20,DU20,EB20,EI20,EP20,EW20,FD20,FK20,FR20,FY20,GF20,GM20,GT20,HA20,HH20,HO20,HV20,IC20,IJ20,IQ20,IX20)+JF20 -> 0 | CM20: =SUM(CT20,DA20,DH20,DO20,DV20,EC20,EJ20,EQ20,EX20,FE20,FL20,FS20,FZ20,GG20,GN20,GU20,HB20,HI20,HP20,HW20,ID20,IK20,IR20,IY20)+JG20 -> 0 | CQ20: =+CO20+CP20 -> 0 | CR20: =CQ20-CS20-CT20 -> 0 | CX20: =+CV20+CW20 -> 0 | CY20: =CX20-CZ20-DA20 -> 0 | DE20: =+DC20+DD20 -> 0 | DF20: =DE20-DG20-DH20 -> 0 | DL20: =+DJ20+DK20 -> 0 | DM20: =DL20-DN20-DO20 -> 0 | DS20: =+DQ20+DR20 -> 0 | DT20: =DS20-DU20-DV20 -> 0 | DZ20: =+DX20+DY20 -> 0 | EA20: =DZ20-EB20-EC20 -> 0 | EG20: =+EE20+EF20 -> 0 | EH20: =EG20-EI20-EJ20 -> 0 | EN20: =+EL20+EM20 -> 0 | EO20: =EN20-EP20-EQ20 -> 0 | EU20: =+ES20+ET20 -> 0 | EV20: =EU20-EW20-EX20 -> 0 | FB20: =+EZ20+FA20 -> 0 | FC20: =FB20-FD20-FE20 -> 0 | FI20: =+FG20+FH20 -> 0 | FJ20: =FI20-FK20-FL20 -> 0 | FP20: =+FN20+FO20 -> 0 | FQ20: =FP20-FR20-FS20 -> 0 | FW20: =+FU20+FV20 -> 0 | FX20: =FW20-FY20-FZ20 -> 0 | GD20: =+GB20+GC20 -> 0 | GE20: =GD20-GF20-GG20 -> 0 | GK20: =+GI20+GJ20 -> 0 | GL20: =GK20-GM20-GN20 -> 0 | GR20: =+GP20+GQ20 -> 0 | GS20: =GR20-GT20-GU20 -> 0 | GY20: =+GW20+GX20 -> 0 | GZ20: =GY20-HA20-HB20 -> 0 | HF20: =+HD20+HE20 -> 0 | HG20: =HF20-HH20-HI20 -> 0 | HM20: =+HK20+HL20 -> 0 | HN20: =HM20-HO20-HP20 -> 0 | HT20: =+HR20+HS20 -> 0 | HU20: =HT20-HV20-HW20 -> 0 | IA20: =+HY20+HZ20 -> 0 | IB20: =IA20-IC20-ID20 -> 0 | IH20: =+IF20+IG20 -> 0 | II20: =IH20-IJ20-IK20 -> 0 | IO20: =+IM20+IN20 -> 0 | IP20: =IO20-IQ20-IR20 -> 0 | IV20: =+IT20+IU20 -> 0 | IW20: =IV20-IX20-IY20 -> 0 | JD20: =+JA20+JB20+IZ20+JC20 -> 0 | JE20: =JD20-JF20-JG20 -> 0
B21: b) | C21: egyéb átvett pénzeszköz államháztartáson kívülről | D21: =SUM(M21,U21,AC21,AK21,AR21,BH21,BP21,BX21,CN21,CU21,DB21,DI21,DP21,DW21,ED21,EK21)+SUM(ER21,EY21,FF21,FM21,FT21,GA21,GH21,GO21,GV21,HC21,HJ21,HQ21,HX21,IE21,IL21,IS21) -> 116532 | E21: =SUM(W21,AE21,AM21,AT21,BJ21,BR21,BZ21,CP21,CW21,DD21,DK21,DR21,DY21,EF21,EM21)+SUM(ET21,FA21,FH21,FO21,FV21,GC21,GJ21,GQ21,GX21,HE21,HL21,HS21,HZ21,IG21,IN21,IU21) -> 0 | F21: =+N21+V21+AD21+AS21+BA21+CG21 -> 0 | G21: =+O21+W21+AE21+AT21+BB21+CH21 -> 0 | H21: =+P21+X21+AF21+AU21+BC21+CI21 -> 0 | I21: =+Q21+Y21+AG21+AV21+BD21+CJ21 -> 116532 | J21: =+R21+Z21+AH21+AW21+BE21+CK21 -> 0 | K21: =+S21+AA21+AI21+AX21+BF21+CL21 -> 116532 | L21: =+T21+AB21 -> 0 | M21: 116532 | Q21: =SUM(M21:P21) -> 116532 | R21: =+Q21-S21 -> 0 | S21: 116532 | Z21: =Y21-AA21-AB21 -> 0 | AG21: =+AD21+AE21+AC21+AF21 -> 0 | AH21: =AG21-AI21-AJ21 -> 0 | AV21: =+AS21+AT21+AR21+AU21 -> 0 | AW21: =AV21-AX21-AY21 -> 0 | AZ21: =SUM(BP21,BX21,BH21) -> 0 | BA21: =SUM(BQ21,BY21,BI21) -> 0 | BB21: =SUM(BR21,BZ21,BJ21) -> 0 | BC21: =SUM(BS21,CA21,BK21) -> 0 | BD21: =SUM(AZ21:BC21) -> 0 | BE21: =SUM(BU21,CC21,BM21) -> 0 | BF21: =SUM(BV21,CD21,BN21) -> 0 | BG21: =SUM(BW21,CE21,BO21) -> 0 | BL21: =+BI21+BJ21+BH21+BK21 -> 0 | BM21: =BL21-BN21-BO21 -> 0 | BT21: =+BQ21+BR21+BP21+BS21 -> 0 | BU21: =BT21-BV21-BW21 -> 0 | CB21: =SUM(BX21:BZ21)+CA21 -> 0 | CC21: =CB21-CD21-CE21 -> 0 | CF21: =SUM(CN21,CU21,DB21,DI21,DP21,DW21,ED21,EK21,ER21,EY21,FF21,FM21,FT21,GA21,GH21,GO21,GV21,HC21,HJ21,HQ21,HX21,IE21,IL21,IS21) -> 0 | CG21: =SUM(CO21,CV21,DC21,DJ21,DQ21,DX21,EE21,EL21,ES21,EZ21,FG21,FN21,FU21,GB21,GI21,GP21,GW21,HD21,HK21,HR21,HY21,IF21,IM21,IT21) -> 0 | CH21: =SUM(CP21,CW21,DD21,DK21,DR21,DY21,EF21,EM21,ET21,FA21,FH21,FO21,FV21,GC21,GJ21,GQ21,GX21,HE21,HL21,HS21,HZ21,IG21,IN21,IU21) -> 0 | CI21: =JC21 -> 0 | CJ21: =SUM(CQ21,CX21,DE21,DL21,DS21,DZ21,EG21,EN21,EU21,FB21,FI21,FP21,FW21,GD21,GK21,GR21,GY21,HF21,HM21,HT21,IA21,IH21,IO21,IV21)+JD21 -> 0 | CK21: =SUM(CR21,CY21,DF21,DM21,DT21,EA21,EH21,EO21,EV21,FC21,FJ21,FQ21,FX21,GE21,GL21,GS21,GZ21,HG21,HN21,HU21,IB21,II21,IP21,IW21)+JE21 -> 0 | CL21: =SUM(CS21,CZ21,DG21,DN21,DU21,EB21,EI21,EP21,EW21,FD21,FK21,FR21,FY21,GF21,GM21,GT21,HA21,HH21,HO21,HV21,IC21,IJ21,IQ21,IX21)+JF21 -> 0 | CM21: =SUM(CT21,DA21,DH21,DO21,DV21,EC21,EJ21,EQ21,EX21,FE21,FL21,FS21,FZ21,GG21,GN21,GU21,HB21,HI21,HP21,HW21,ID21,IK21,IR21,IY21)+JG21 -> 0 | CQ21: =+CO21+CP21 -> 0 | CR21: =CQ21-CS21-CT21 -> 0 | CX21: =+CV21+CW21 -> 0 | CY21: =CX21-CZ21-DA21 -> 0 | DE21: =+DC21+DD21 -> 0 | DF21: =DE21-DG21-DH21 -> 0 | DL21: =+DJ21+DK21 -> 0 | DM21: =DL21-DN21-DO21 -> 0 | DS21: =+DQ21+DR21 -> 0 | DT21: =DS21-DU21-DV21 -> 0 | DZ21: =+DX21+DY21 -> 0 | EA21: =DZ21-EB21-EC21 -> 0 | EG21: =+EE21+EF21 -> 0 | EH21: =EG21-EI21-EJ21 -> 0 | EN21: =+EL21+EM21 -> 0 | EO21: =EN21-EP21-EQ21 -> 0 | EU21: =+ES21+ET21 -> 0 | EV21: =EU21-EW21-EX21 -> 0 | FB21: =+EZ21+FA21 -> 0 | FC21: =FB21-FD21-FE21 -> 0 | FI21: =+FG21+FH21 -> 0 | FJ21: =FI21-FK21-FL21 -> 0 | FP21: =+FN21+FO21 -> 0 | FQ21: =FP21-FR21-FS21 -> 0 | FW21: =+FU21+FV21 -> 0 | FX21: =FW21-FY21-FZ21 -> 0 | GD21: =+GB21+GC21 -> 0 | GE21: =GD21-GF21-GG21 -> 0 | GK21: =+GI21+GJ21 -> 0 | GL21: =GK21-GM21-GN21 -> 0 | GR21: =+GP21+GQ21 -> 0 | GS21: =GR21-GT21-GU21 -> 0 | GY21: =+GW21+GX21 -> 0 | GZ21: =GY21-HA21-HB21 -> 0 | HF21: =+HD21+HE21 -> 0 | HG21: =HF21-HH21-HI21 -> 0 | HM21: =+HK21+HL21 -> 0 | HN21: =HM21-HO21-HP21 -> 0 | HT21: =+HR21+HS21 -> 0 | HU21: =HT21-HV21-HW21 -> 0 | IA21: =+HY21+HZ21 -> 0 | IB21: =IA21-IC21-ID21 -> 0 | IH21: =+IF21+IG21 -> 0 | II21: =IH21-IJ21-IK21 -> 0 | IO21: =+IM21+IN21 -> 0 | IP21: =IO21-IQ21-IR21 -> 0 | IV21: =+IT21+IU21 -> 0 | IW21: =IV21-IX21-IY21 -> 0 | JD21: =+JA21+JB21+IZ21+JC21 -> 0 | JE21: =JD21-JF21-JG21 -> 0
A22: 5. | B22: Működési bevételek összesen (1+2+3+4) | D22: =SUM(M22,U22,AC22,AK22,AR22,BH22,BP22,BX22,CN22,CU22,DB22,DI22,DP22,DW22,ED22,EK22)+SUM(ER22,EY22,FF22,FM22,FT22,GA22,GH22,GO22,GV22,HC22,HJ22,HQ22,HX22,IE22,IL22,IS22) -> 32163689 | E22: 0 | F22: =+N22+V22+AD22+AS22+BA22+CG22 -> 496954 | G22: =+O22+W22+AE22+AT22+BB22+CH22 -> 986286 | H22: =+P22+X22+AF22+AU22+BC22+CI22 -> -6543161 | I22: =+Q22+Y22+AG22+AV22+BD22+CJ22 -> 27103768 | J22: =+R22+Z22+AH22+AW22+BE22+CK22 -> 20826616 | K22: =+S22+AA22+AI22+AX22+BF22+CL22 -> 6257769 | L22: =+T22+AB22 -> 19383 | M22: =+M19+M18+M15+M10 -> 28150804 | N22: =+N18+N19+N15+N10 -> 496954 | O22: =+O10+O18+O15+O19 -> 773634 | P22: =+P10+P18+P15+P19 -> -6601080 | Q22: =SUM(M22:P22) -> 22820312 | R22: =+Q22-S22 -> 17349722 | S22: =S10+S15+S18+S19 -> 5470590 | T22: =T10+T15+T18+T19 -> 0 | U22: =U10+U15+U18+U19 -> 700948 | V22: =V10+V15+V18+V19 -> 0 | W22: =W10+W15+W18+W19 -> 168000 | X22: =X10+X15+X18+X19 -> -328574 | Y22: =+V22+U22+W22+X22 -> 540374 | Z22: =Y22-AA22-AB22 -> 518759 | AA22: =AA10+AA15+AA18+AA19 -> 2232 | AB22: =AB10+AB15+AB18+AB19 -> 19383 | AC22: =AC10+AC15+AC18+AC19 -> 2740452 | AD22: =AD10+AD15+AD18+AD19 -> 0 | AE22: =AE10+AE15+AE18+AE19 -> 44515 | AF22: =AF10+AF15+AF18+AF19 -> 348635 | AG22: =+AD22+AE22+AC22+AF22 -> 3133602 | AH22: =AH10+AH15+AH18+AH19 -> 2379629 | AI22: =AI10+AI15+AI18+AI19 -> 753973 | AJ22: =AJ10+AJ15+AJ18+AJ19 -> 0 | AR22: =AR10+AR15+AR18+AR19 -> 25000 | AS22: =AS10+AS15+AS18+AS19 -> 0 | AT22: =AT10+AT15+AT18+AT19 -> 139 | AU22: =AU10+AU15+AU18+AU19 -> 1374 | AV22: =+AS22+AT22+AR22+AU22 -> 26513 | AW22: =AW10+AW15+AW18+AW19 -> 26513 | AX22: =AX10+AX15+AX18+AX19 -> 0 | AY22: =AY10+AY15+AY18+AY19 -> 0 | AZ22: =AZ10+AZ15+AZ18+AZ19 -> 342997 | BA22: =BA10+BA15+BA18+BA19 -> 0 | BB22: =SUM(BR22,BZ22,BJ22) -> 0 | BC22: =SUM(BS22,CA22,BK22) -> 28213 | BD22: =SUM(AZ22:BC22) -> 371210 | BE22: =BE10+BE15+BE18+BE19 -> 340236 | BF22: =BF10+BF15+BF18+BF19 -> 30974 | BG22: =BG10+BG15+BG18+BG19 -> 0 | BH22: =BH10+BH15+BH18+BH19 -> 214058 | BI22: =BI10+BI15+BI18+BI19 -> 0 | BJ22: =BJ10+BJ15+BJ18+BJ19 -> 0 | BK22: =BK10+BK15+BK18+BK19 -> 1451 | BL22: =+BI22+BJ22+BH22+BK22 -> 215509 | BM22: =BM10+BM15+BM18+BM19 -> 215509 | BN22: =BN10+BN15+BN18+BN19 -> 0 | BO22: =BO10+BO15+BO18+BO19 -> 0 | BP22: =BP10+BP15+BP18+BP19 -> 60 | BQ22: =BQ10+BQ15+BQ18+BQ19 -> 0 | BR22: =BR10+BR15+BR18+BR19 -> 0 | BS22: =BS10+BS15+BS18+BS19 -> 136 | BT22: =+BQ22+BR22+BP22+BS22 -> 196 | BU22: =BU10+BU15+BU18+BU19 -> 196 | BV22: =BV10+BV15+BV18+BV19 -> 0 | BW22: =BW10+BW15+BW18+BW19 -> 0 | BX22: =BX10+BX15+BX18+BX19 -> 128879 | BY22: =BY10+BY15+BY18+BY19 -> 0 | BZ22: =BZ10+BZ15+BZ18+BZ19 -> 0 | CA22: =CA10+CA15+CA18+CA19 -> 26626 | CB22: =SUM(BX22:BZ22)+CA22 -> 155505 | CC22: =CC10+CC15+CC18+CC19 -> 124531 | CD22: =CD10+CD15+CD18+CD19 -> 30974 | CE22: =CE10+CE15+CE18+CE19 -> 0 | CF22: =CF10+CF15+CF18+CF19 -> 203488 | CG22: =CG10+CG15+CG18+CG19 -> 0 | CH22: =CH10+CH15+CH18+CH19 -> -2 | CI22: =CI10+CI15+CI18+CI19 -> 8271 | CJ22: =SUM(CQ22,CX22,DE22,DL22,DS22,DZ22,EG22,EN22,EU22,FB22,FI22,FP22,FW22,GD22,GK22,GR22,GY22,HF22,HM22,HT22,IA22,IH22,IO22,IV22)+JD22 -> 211757 | CK22: =SUM(CR22,CY22,DF22,DM22,DT22,EA22,EH22,EO22,EV22,FC22,FJ22,FQ22,FX22,GE22,GL22,GS22,GZ22,HG22,HN22,HU22,IB22,II22,IP22,IW22)+JE22 -> 211757 | CL22: =SUM(CS22,CZ22,DG22,DN22,DU22,EB22,EI22,EP22,EW22,FD22,FK22,FR22,FY22,GF22,GM22,GT22,HA22,HH22,HO22,HV22,IC22,IJ22,IQ22,IX22)+JF22 -> 0 | CM22: =SUM(CT22,DA22,DH22,DO22,DV22,EC22,EJ22,EQ22,EX22,FE22,FL22,FS22,FZ22,GG22,GN22,GU22,HB22,HI22,HP22,HW22,ID22,IK22,IR22,IY22)+JG22 -> 10947 | CN22: =CN10+CN15+CN18+CN19 -> 3532 | CO22: =CO10+CO15+CO18+CO19 -> 0 | CP22: =CP10+CP15+CP18+CP19 -> -1167 | CQ22: =SUM(CN22:CP22) -> 2365 | CR22: =CR10+CR15+CR18+CR19 -> 2365 | CS22: =CS10+CS15+CS18+CS19 -> 0 | CT22: =CT10+CT15+CT18+CT19 -> 0 | CU22: =CU10+CU15+CU18+CU19 -> 10979 | CV22: =CV10+CV15+CV18+CV19 -> 0 | CW22: =CW10+CW15+CW18+CW19 -> -7715 | CX22: =SUM(CU22:CW22) -> 3264 | CY22: =CY10+CY15+CY18+CY19 -> 3264 | CZ22: =CZ10+CZ15+CZ18+CZ19 -> 0 | DA22: =DA10+DA15+DA18+DA19 -> 0 | DB22: =DB10+DB15+DB18+DB19 -> 8718 | DC22: =DC10+DC15+DC18+DC19 -> 0 | DD22: =DD10+DD15+DD18+DD19 -> -4839 | DE22: =SUM(DB22:DD22) -> 3879 | DF22: =DF10+DF15+DF18+DF19 -> 3879 | DG22: =DG10+DG15+DG18+DG19 -> 0 | DH22: =DH10+DH15+DH18+DH19 -> 0 | DI22: =DI10+DI15+DI18+DI19 -> 6891 | DJ22: =DJ10+DJ15+DJ18+DJ19 -> 0 | DK22: =DK10+DK15+DK18+DK19 -> -3539 | DL22: =SUM(DI22:DK22) -> 3352 | DM22: =DM10+DM15+DM18+DM19 -> 3352 | DN22: =DN10+DN15+DN18+DN19 -> 0 | DO22: =DO10+DO15+DO18+DO19 -> 0 | DP22: =DP10+DP15+DP18+DP19 -> 3603 | DQ22: =DQ10+DQ15+DQ18+DQ19 -> 0 | DR22: =DR10+DR15+DR18+DR19 -> -2581 | DS22: =SUM(DP22:DR22) -> 1022 | DT22: =DT10+DT15+DT18+DT19 -> 1022 | DU22: =DU10+DU15+DU18+DU19 -> 0 | DV22: =DV10+DV15+DV18+DV19 -> 0 | DW22: =DW10+DW15+DW18+DW19 -> 14092 | DX22: =DX10+DX15+DX18+DX19 -> 0 | DY22: =DY10+DY15+DY18+DY19 -> -7450 | DZ22: =SUM(DW22:DY22) -> 6642 | EA22: =EA10+EA15+EA18+EA19 -> 6642 | EB22: =EB10+EB15+EB18+EB19 -> 0 | EC22: =EC10+EC15+EC18+EC19 -> 0 | ED22: =ED10+ED15+ED18+ED19 -> 15210 | EE22: =EE10+EE15+EE18+EE19 -> 0 | EF22: =EF10+EF15+EF18+EF19 -> -7920 | EG22: =SUM(ED22:EF22) -> 7290 | EH22: =EH10+EH15+EH18+EH19 -> 7290 | EI22: =EI10+EI15+EI18+EI19 -> 0 | EJ22: =EJ10+EJ15+EJ18+EJ19 -> 0 | EK22: =EK10+EK15+EK18+EK19 -> 8693 | EL22: =EL10+EL15+EL18+EL19 -> 0 | EM22: =EM10+EM15+EM18+EM19 -> -3787 | EN22: =SUM(EK22:EM22) -> 4906 | EO22: =EO10+EO15+EO18+EO19 -> 4906 | EP22: =EP10+EP15+EP18+EP19 -> 0 | EQ22: =EQ10+EQ15+EQ18+EQ19 -> 0 | ER22: =ER10+ER15+ER18+ER19 -> 11655 | ES22: =ES10+ES15+ES18+ES19 -> 0 | ET22: =ET10+ET15+ET18+ET19 -> -7021 | EU22: =SUM(ER22:ET22) -> 4634 | EV22: =EV10+EV15+EV18+EV19 -> 4634 | EW22: =EW10+EW15+EW18+EW19 -> 0 | EX22: =EX10+EX15+EX18+EX19 -> 0 | EY22: =EY10+EY15+EY18+EY19 -> 11244 | EZ22: =EZ10+EZ15+EZ18+EZ19 -> 0 | FA22: =FA10+FA15+FA18+FA19 -> -5389 | FB22: =SUM(EY22:FA22) -> 5855 | FC22: =FC10+FC15+FC18+FC19 -> 5855 | FD22: =FD10+FD15+FD18+FD19 -> 0 | FE22: =FE10+FE15+FE18+FE19 -> 0 | FF22: =FF10+FF15+FF18+FF19 -> 6306 | FG22: =FG10+FG15+FG18+FG19 -> 0 | FH22: =FH10+FH15+FH18+FH19 -> -2371 | FI22: =SUM(FF22:FH22) -> 3935 | FJ22: =FJ10+FJ15+FJ18+FJ19 -> 3935 | FK22: =FK10+FK15+FK18+FK19 -> 0 | FL22: =FL10+FL15+FL18+FL19 -> 0 | FM22: =FM10+FM15+FM18+FM19 -> 7489 | FN22: =FN10+FN15+FN18+FN19 -> 0 | FO22: =FO10+FO15+FO18+FO19 -> -2845 | FP22: =SUM(FM22:FO22) -> 4644 | FQ22: =FQ10+FQ15+FQ18+FQ19 -> 4644 | FR22: =FR10+FR15+FR18+FR19 -> 0 | FS22: =FS10+FS15+FS18+FS19 -> 0 | FT22: =FT10+FT15+FT18+FT19 -> 4437 | FU22: =FU10+FU15+FU18+FU19 -> 0 | FV22: =FV10+FV15+FV18+FV19 -> -1405 | FW22: =SUM(FT22:FV22) -> 3032 | FX22: =FX10+FX15+FX18+FX19 -> 3032 | FY22: =FY10+FY15+FY18+FY19 -> 0 | FZ22: =FZ10+FZ15+FZ18+FZ19 -> 0 | GA22: =GA10+GA15+GA18+GA19 -> 9052 | GB22: =GB10+GB15+GB18+GB19 -> 0 | GC22: =GC10+GC15+GC18+GC19 -> -4536 | GD22: =SUM(GA22:GC22) -> 4516 | GE22: =GE10+GE15+GE18+GE19 -> 4516 | GF22: =GF10+GF15+GF18+GF19 -> 0 | GG22: =GG10+GG15+GG18+GG19 -> 0 | GH22: =GH10+GH15+GH18+GH19 -> 9685 | GI22: =GI10+GI15+GI18+GI19 -> 0 | GJ22: =GJ10+GJ15+GJ18+GJ19 -> -4968 | GK22: =SUM(GH22:GJ22) -> 4717 | GL22: =GL10+GL15+GL18+GL19 -> 4717 | GM22: =GM10+GM15+GM18+GM19 -> 0 | GN22: =GN10+GN15+GN18+GN19 -> 0 | GO22: =GO10+GO15+GO18+GO19 -> 5495 | GP22: =GP10+GP15+GP18+GP19 -> 0 | GQ22: =GQ10+GQ15+GQ18+GQ19 -> -2277 | GR22: =SUM(GO22:GQ22) -> 3218 | GS22: =GS10+GS15+GS18+GS19 -> 3218 | GT22: =GT10+GT15+GT18+GT19 -> 0 | GU22: =GU10+GU15+GU18+GU19 -> 0 | GV22: =GV10+GV15+GV18+GV19 -> 9561 | GW22: =GW10+GW15+GW18+GW19 -> 0 | GX22: =GX10+GX15+GX18+GX19 -> -4779 | GY22: =SUM(GV22:GX22) -> 4782 | GZ22: =GZ10+GZ15+GZ18+GZ19 -> 4782 | HA22: =HA10+HA15+HA18+HA19 -> 0 | HB22: =HB10+HB15+HB18+HB19 -> 0 | HC22: =HC10+HC15+HC18+HC19 -> 4090 | HD22: =HD10+HD15+HD18+HD19 -> 0 | HE22: =HE10+HE15+HE18+HE19 -> -1915 | HF22: =SUM(HC22:HE22) -> 2175 | HG22: =HG10+HG15+HG18+HG19 -> 2175 | HH22: =HH10+HH15+HH18+HH19 -> 0 | HI22: =HI10+HI15+HI18+HI19 -> 0 | HJ22: =HJ10+HJ15+HJ18+HJ19 -> 3490 | HK22: =HK10+HK15+HK18+HK19 -> 0 | HL22: =HL10+HL15+HL18+HL19 -> -1533 | HM22: =SUM(HJ22:HL22) -> 1957 | HN22: =HN10+HN15+HN18+HN19 -> 1957 | HO22: =HO10+HO15+HO18+HO19 -> 0 | HP22: =HP10+HP15+HP18+HP19 -> 0 | HQ22: =HQ10+HQ15+HQ18+HQ19 -> 4950 | HR22: =HR10+HR15+HR18+HR19 -> 0 | HS22: =HS10+HS15+HS18+HS19 -> -2234 | HT22: =SUM(HQ22:HS22) -> 2716 | HU22: =HU10+HU15+HU18+HU19 -> 2716 | HV22: =HV10+HV15+HV18+HV19 -> 0 | HW22: =HW10+HW15+HW18+HW19 -> 0 | HX22: =HX10+HX15+HX18+HX19 -> 16996 | HY22: =HY10+HY15+HY18+HY19 -> 0 | HZ22: =HZ10+HZ15+HZ18+HZ19 -> -8948 | IA22: =SUM(HX22:HZ22) -> 8048 | IB22: =IB10+IB15+IB18+IB19 -> 8048 | IC22: =IC10+IC15+IC18+IC19 -> 0 | ID22: =ID10+ID15+ID18+ID19 -> 0 | IE22: =IE10+IE15+IE18+IE19 -> 6729 | IF22: =IF10+IF15+IF18+IF19 -> 0 | IG22: =IG10+IG15+IG18+IG19 -> -3672 | IH22: =SUM(IE22:IG22) -> 3057 | II22: =II10+II15+II18+II19 -> 3057 | IJ22: =IJ10+IJ15+IJ18+IJ19 -> 0 | IK22: =IK10+IK15+IK18+IK19 -> 0 | IL22: =IL10+IL15+IL18+IL19 -> 6178 | IM22: =IM10+IM15+IM18+IM19 -> 0 | IN22: =IN10+IN15+IN18+IN19 -> -2714 | IO22: =SUM(IL22:IN22) -> 3464 | IP22: =IP10+IP15+IP18+IP19 -> 3464 | IQ22: =IQ10+IQ15+IQ18+IQ19 -> 0 | IR22: =IR10+IR15+IR18+IR19 -> 0 | IS22: =IS10+IS15+IS18+IS19 -> 14413 | IT22: =IT10+IT15+IT18+IT19 -> 0 | IU22: =IU10+IU15+IU18+IU19 -> -8047 | IV22: =SUM(IS22:IU22) -> 6366 | IW22: =IW10+IW15+IW18+IW19 -> 6366 | IX22: =IX10+IX15+IX18+IX19 -> 0 | IY22: =IY10+IY15+IY18+IY19 -> 10947 | IZ22: =IZ10+IZ15+IZ18+IZ19 -> 0 | JA22: =JA10+JA15+JA18+JA19 -> 0 | JB22: =JB10+JB15+JB18+JB19 -> 103650 | JC22: =JC10+JC15+JC18+JC19 -> 8271 | JD22: =+JA22+JB22+IZ22+JC22 -> 111921 | JE22: =JE10+JE15+JE18+JE19 -> 111921 | JF22: =JF10+JF15+JF18+JF19 -> 0 | JG22: =JG10+JG15+JG18+JG19 -> 0
A23: 6. | B23: Felhalmozási célú támogatások államháztartáson belülről | D23: =SUM(M23,U23,AC23,AK23,AR23,BH23,BP23,BX23,CN23,CU23,DB23,DI23,DP23,DW23,ED23,EK23)+SUM(ER23,EY23,FF23,FM23,FT23,GA23,GH23,GO23,GV23,HC23,HJ23,HQ23,HX23,IE23,IL23,IS23) -> 313931 | E23: =SUM(E24:E26) -> 0 | F23: =+N23+V23+AD23+AS23+BA23+CG23 -> 0 | G23: =+O23+W23+AE23+AT23+BB23+CH23 -> 283272.5 | H23: =+P23+X23+AF23+AU23+BC23+CI23 -> 300364 | I23: =+Q23+Y23+AG23+AV23+BD23+CJ23 -> 897567.5 | J23: =+R23+Z23+AH23+AW23+BE23+CK23 -> 54108.5 | K23: =+S23+AA23+AI23+AX23+BF23+CL23 -> 843459 | L23: =+T23+AB23 -> 0 | M23: =+M26 -> 313931 | N23: =SUM(N24:N26) -> 0 | O23: =SUM(O24:O26) -> 283272.5 | P23: =SUM(P24:P26) -> 300147 | Q23: =SUM(M23:P23) -> 897350.5 | R23: =+Q23-S23 -> 53891.5 | S23: =SUM(S24:S26) -> 843459 | T23: =SUM(T24:T26) -> 0 | U23: =SUM(U24:U26) -> 0 | V23: =SUM(V24:V26) -> 0 | W23: =SUM(W24:W26) -> 0 | X23: =SUM(X24:X26) -> 0 | Y23: =+V23+U23+W23+X23 -> 0 | Z23: =Y23-AA23-AB23 -> 0 | AA23: =SUM(AA24:AA26) -> 0 | AB23: =SUM(AB24:AB26) -> 0 | AC23: =SUM(AC24:AC26) -> 0 | AD23: =SUM(AD24:AD26) -> 0 | AE23: =SUM(AE24:AE26) -> 0 | AF23: =SUM(AF24:AF26) -> 217 | AG23: =+AD23+AE23+AC23+AF23 -> 217 | AH23: =SUM(AH24:AH26) -> 217 | AI23: =SUM(AI24:AI26) -> 0 | AJ23: =SUM(AJ24:AJ26) -> 0 | AR23: =SUM(AR24:AR26) -> 0 | AS23: =SUM(AS24:AS26) -> 0 | AT23: =SUM(AT24:AT26) -> 0 | AU23: =SUM(AU24:AU26) -> 0 | AV23: =+AS23+AT23+AR23+AU23 -> 0 | AW23: =SUM(AW24:AW26) -> 0 | AX23: =SUM(AX24:AX26) -> 0 | AY23: =SUM(AY24:AY26) -> 0 | AZ23: =SUM(AZ24:AZ26) -> 0 | BA23: =SUM(BA24:BA26) -> 0 | BB23: =SUM(BR23,BZ23,BJ23) -> 0 | BC23: =SUM(BS23,CA23,BK23) -> 0 | BD23: =SUM(AZ23:BC23) -> 0 | BE23: =SUM(BE24:BE26) -> 0 | BF23: =SUM(BF24:BF26) -> 0 | BG23: =SUM(BG24:BG26) -> 0 | BH23: =SUM(BH24:BH26) -> 0 | BI23: =SUM(BI24:BI26) -> 0 | BJ23: =SUM(BJ24:BJ26) -> 0 | BK23: =SUM(BK24:BK26) -> 0 | BL23: =+BI23+BJ23+BH23+BK23 -> 0 | BM23: =SUM(BM24:BM26) -> 0 | BN23: =SUM(BN24:BN26) -> 0 | BO23: =SUM(BO24:BO26) -> 0 | BP23: =SUM(BP24:BP26) -> 0 | BQ23: =SUM(BQ24:BQ26) -> 0 | BR23: =SUM(BR24:BR26) -> 0 | BS23: =SUM(BS24:BS26) -> 0 | BT23: =+BQ23+BR23+BP23+BS23 -> 0 | BU23: =SUM(BU24:BU26) -> 0 | BV23: =SUM(BV24:BV26) -> 0 | BW23: =SUM(BW24:BW26) -> 0 | BX23: =SUM(BX24:BX26) -> 0 | BY23: =SUM(BY24:BY26) -> 0 | BZ23: =SUM(BZ24:BZ26) -> 0 | CA23: =SUM(CA24:CA26) -> 0 | CB23: =SUM(BX23:BZ23)+CA23 -> 0 | CC23: =SUM(CC24:CC26) -> 0 | CD23: =SUM(CD24:CD26) -> 0 | CE23: =SUM(CE24:CE26) -> 0 | CF23: =SUM(CF24:CF26) -> 0 | CG23: =SUM(CG24:CG26) -> 0 | CH23: =SUM(CH24:CH26) -> 0 | CI23: =SUM(CI24:CI26) -> 0 | CJ23: =SUM(CQ23,CX23,DE23,DL23,DS23,DZ23,EG23,EN23,EU23,FB23,FI23,FP23,FW23,GD23,GK23,GR23,GY23,HF23,HM23,HT23,IA23,IH23,IO23,IV23)+JD23 -> 0 | CK23: =SUM(CR23,CY23,DF23,DM23,DT23,EA23,EH23,EO23,EV23,FC23,FJ23,FQ23,FX23,GE23,GL23,GS23,GZ23,HG23,HN23,HU23,IB23,II23,IP23,IW23)+JE23 -> 0 | CL23: =SUM(CS23,CZ23,DG23,DN23,DU23,EB23,EI23,EP23,EW23,FD23,FK23,FR23,FY23,GF23,GM23,GT23,HA23,HH23,HO23,HV23,IC23,IJ23,IQ23,IX23)+JF23 -> 0 | CM23: =SUM(CT23,DA23,DH23,DO23,DV23,EC23,EJ23,EQ23,EX23,FE23,FL23,FS23,FZ23,GG23,GN23,GU23,HB23,HI23,HP23,HW23,ID23,IK23,IR23,IY23)+JG23 -> 0 | CN23: =SUM(CN24:CN26) -> 0 | CO23: =SUM(CO24:CO26) -> 0 | CP23: =SUM(CP24:CP26) -> 0 | CQ23: =+CO23+CP23 -> 0 | CR23: =SUM(CR24:CR26) -> 0 | CS23: =SUM(CS24:CS26) -> 0 | CT23: =SUM(CT24:CT26) -> 0 | CU23: =SUM(CU24:CU26) -> 0 | CV23: =SUM(CV24:CV26) -> 0 | CW23: =SUM(CW24:CW26) -> 0 | CX23: =+CV23+CW23 -> 0 | CY23: =SUM(CY24:CY26) -> 0 | CZ23: =SUM(CZ24:CZ26) -> 0 | DA23: =SUM(DA24:DA26) -> 0 | DB23: =SUM(DB24:DB26) -> 0 | DC23: =SUM(DC24:DC26) -> 0 | DD23: =SUM(DD24:DD26) -> 0 | DE23: =+DC23+DD23 -> 0 | DF23: =SUM(DF24:DF26) -> 0 | DG23: =SUM(DG24:DG26) -> 0 | DH23: =SUM(DH24:DH26) -> 0 | DI23: =SUM(DI24:DI26) -> 0 | DJ23: =SUM(DJ24:DJ26) -> 0 | DK23: =SUM(DK24:DK26) -> 0 | DL23: =+DJ23+DK23 -> 0 | DM23: =SUM(DM24:DM26) -> 0 | DN23: =SUM(DN24:DN26) -> 0 | DO23: =SUM(DO24:DO26) -> 0 | DP23: =SUM(DP24:DP26) -> 0 | DQ23: =SUM(DQ24:DQ26) -> 0 | DR23: =SUM(DR24:DR26) -> 0 | DS23: =+DQ23+DR23 -> 0 | DT23: =SUM(DT24:DT26) -> 0 | DU23: =SUM(DU24:DU26) -> 0 | DV23: =SUM(DV24:DV26) -> 0 | DW23: =SUM(DW24:DW26) -> 0 | DX23: =SUM(DX24:DX26) -> 0 | DY23: =SUM(DY24:DY26) -> 0 | DZ23: =+DX23+DY23 -> 0 | EA23: =SUM(EA24:EA26) -> 0 | EB23: =SUM(EB24:EB26) -> 0 | EC23: =SUM(EC24:EC26) -> 0 | ED23: =SUM(ED24:ED26) -> 0 | EE23: =SUM(EE24:EE26) -> 0 | EF23: =SUM(EF24:EF26) -> 0 | EG23: =+EE23+EF23 -> 0 | EH23: =SUM(EH24:EH26) -> 0 | EI23: =SUM(EI24:EI26) -> 0 | EJ23: =SUM(EJ24:EJ26) -> 0 | EK23: =SUM(EK24:EK26) -> 0 | EL23: =SUM(EL24:EL26) -> 0 | EM23: =SUM(EM24:EM26) -> 0 | EN23: =+EL23+EM23 -> 0 | EO23: =SUM(EO24:EO26) -> 0 | EP23: =SUM(EP24:EP26) -> 0 | EQ23: =SUM(EQ24:EQ26) -> 0 | ER23: =SUM(ER24:ER26) -> 0 | ES23: =SUM(ES24:ES26) -> 0 | ET23: =SUM(ET24:ET26) -> 0 | EU23: =+ES23+ET23 -> 0 | EV23: =SUM(EV24:EV26) -> 0 | EW23: =SUM(EW24:EW26) -> 0 | EX23: =SUM(EX24:EX26) -> 0 | EY23: =SUM(EY24:EY26) -> 0 | EZ23: =SUM(EZ24:EZ26) -> 0 | FA23: =SUM(FA24:FA26) -> 0 | FB23: =+EZ23+FA23 -> 0 | FC23: =SUM(FC24:FC26) -> 0 | FD23: =SUM(FD24:FD26) -> 0 | FE23: =SUM(FE24:FE26) -> 0 | FF23: =SUM(FF24:FF26) -> 0 | FG23: =SUM(FG24:FG26) -> 0 | FH23: =SUM(FH24:FH26) -> 0 | FI23: =+FG23+FH23 -> 0 | FJ23: =SUM(FJ24:FJ26) -> 0 | FK23: =SUM(FK24:FK26) -> 0 | FL23: =SUM(FL24:FL26) -> 0 | FM23: =SUM(FM24:FM26) -> 0 | FN23: =SUM(FN24:FN26) -> 0 | FO23: =SUM(FO24:FO26) -> 0 | FP23: =+FN23+FO23 -> 0 | FQ23: =SUM(FQ24:FQ26) -> 0 | FR23: =SUM(FR24:FR26) -> 0 | FS23: =SUM(FS24:FS26) -> 0 | FT23: =SUM(FT24:FT26) -> 0 | FU23: =SUM(FU24:FU26) -> 0 | FV23: =SUM(FV24:FV26) -> 0 | FW23: =+FU23+FV23 -> 0 | FX23: =SUM(FX24:FX26) -> 0 | FY23: =SUM(FY24:FY26) -> 0 | FZ23: =SUM(FZ24:FZ26) -> 0 | GA23: =SUM(GA24:GA26) -> 0 | GB23: =SUM(GB24:GB26) -> 0 | GC23: =SUM(GC24:GC26) -> 0 | GD23: =+GB23+GC23 -> 0 | GE23: =SUM(GE24:GE26) -> 0 | GF23: =SUM(GF24:GF26) -> 0 | GG23: =SUM(GG24:GG26) -> 0 | GH23: =SUM(GH24:GH26) -> 0 | GI23: =SUM(GI24:GI26) -> 0 | GJ23: =SUM(GJ24:GJ26) -> 0 | GK23: =+GI23+GJ23 -> 0 | GL23: =SUM(GL24:GL26) -> 0 | GM23: =SUM(GM24:GM26) -> 0 | GN23: =SUM(GN24:GN26) -> 0 | GO23: =SUM(GO24:GO26) -> 0 | GP23: =SUM(GP24:GP26) -> 0 | GQ23: =SUM(GQ24:GQ26) -> 0 | GR23: =+GP23+GQ23 -> 0 | GS23: =SUM(GS24:GS26) -> 0 | GT23: =SUM(GT24:GT26) -> 0 | GU23: =SUM(GU24:GU26) -> 0 | GV23: =SUM(GV24:GV26) -> 0 | GW23: =SUM(GW24:GW26) -> 0 | GX23: =SUM(GX24:GX26) -> 0 | GY23: =+GW23+GX23 -> 0 | GZ23: =SUM(GZ24:GZ26) -> 0 | HA23: =SUM(HA24:HA26) -> 0 | HB23: =SUM(HB24:HB26) -> 0 | HC23: =SUM(HC24:HC26) -> 0 | HD23: =SUM(HD24:HD26) -> 0 | HE23: =SUM(HE24:HE26) -> 0 | HF23: =+HD23+HE23 -> 0 | HG23: =SUM(HG24:HG26) -> 0 | HH23: =SUM(HH24:HH26) -> 0 | HI23: =SUM(HI24:HI26) -> 0 | HJ23: =SUM(HJ24:HJ26) -> 0 | HK23: =SUM(HK24:HK26) -> 0 | HL23: =SUM(HL24:HL26) -> 0 | HM23: =+HK23+HL23 -> 0 | HN23: =SUM(HN24:HN26) -> 0 | HO23: =SUM(HO24:HO26) -> 0 | HP23: =SUM(HP24:HP26) -> 0 | HQ23: =SUM(HQ24:HQ26) -> 0 | HR23: =SUM(HR24:HR26) -> 0 | HS23: =SUM(HS24:HS26) -> 0 | HT23: =+HR23+HS23 -> 0 | HU23: =SUM(HU24:HU26) -> 0 | HV23: =SUM(HV24:HV26) -> 0 | HW23: =SUM(HW24:HW26) -> 0 | HX23: =SUM(HX24:HX26) -> 0 | HY23: =SUM(HY24:HY26) -> 0 | HZ23: =SUM(HZ24:HZ26) -> 0 | IA23: =+HY23+HZ23 -> 0 | IB23: =SUM(IB24:IB26) -> 0 | IC23: =SUM(IC24:IC26) -> 0 | ID23: =SUM(ID24:ID26) -> 0 | IE23: =SUM(IE24:IE26) -> 0 | IF23: =SUM(IF24:IF26) -> 0 | IG23: =SUM(IG24:IG26) -> 0 | IH23: =+IF23+IG23 -> 0 | II23: =SUM(II24:II26) -> 0 | IJ23: =SUM(IJ24:IJ26) -> 0 | IK23: =SUM(IK24:IK26) -> 0 | IL23: =SUM(IL24:IL26) -> 0 | IM23: =SUM(IM24:IM26) -> 0 | IN23: =SUM(IN24:IN26) -> 0 | IO23: =+IM23+IN23 -> 0 | IP23: =SUM(IP24:IP26) -> 0 | IQ23: =SUM(IQ24:IQ26) -> 0 | IR23: =SUM(IR24:IR26) -> 0 | IS23: =SUM(IS24:IS26) -> 0 | IT23: =SUM(IT24:IT26) -> 0 | IU23: =SUM(IU24:IU26) -> 0 | IV23: =+IT23+IU23 -> 0 | IW23: =SUM(IW24:IW26) -> 0 | IX23: =SUM(IX24:IX26) -> 0 | IY23: =SUM(IY24:JG26) -> 0 | IZ23: =SUM(IZ24:IZ26) -> 0 | JA23: =SUM(JA24:JA26) -> 0 | JB23: =SUM(JB24:JB26) -> 0 | JC23: =SUM(JC24:JC26) -> 0 | JD23: =+JA23+JB23+IZ23+JC23 -> 0 | JE23: =SUM(JE24:JE26) -> 0 | JF23: =SUM(JF24:JF26) -> 0
B24: a) | C24: helyi önkormányzatok felhalmozási támogatásai | D24: =SUM(M24,U24,AC24,AK24,AR24,BH24,BP24,BX24,CN24,CU24,DB24,DI24,DP24,DW24,ED24,EK24)+SUM(ER24,EY24,FF24,FM24,FT24,GA24,GH24,GO24,GV24,HC24,HJ24,HQ24,HX24,IE24,IL24,IS24) -> 0 | E24: =SUM(W24,AE24,AM24,AT24,BJ24,BR24,BZ24,CP24,CW24,DD24,DK24,DR24,DY24,EF24,EM24)+SUM(ET24,FA24,FH24,FO24,FV24,GC24,GJ24,GQ24,GX24,HE24,HL24,HS24,HZ24,IG24,IN24,IU24) -> 0 | F24: =+N24+V24+AD24+AS24+BA24+CG24 -> 0 | G24: =+O24+W24+AE24+AT24+BB24+CH24 -> 0 | H24: =+P24+X24+AF24+AU24+BC24+CI24 -> 0 | I24: =+Q24+Y24+AG24+AV24+BD24+CJ24 -> 0 | J24: =+R24+Z24+AH24+AW24+BE24+CK24 -> 0 | K24: =+S24+AA24+AI24+AX24+BF24+CL24 -> 0 | L24: =+T24+AB24 -> 0 | Q24: =SUM(M24:P24) -> 0 | R24: =+Q24-S24 -> 0 | Z24: =Y24-AA24-AB24 -> 0 | AG24: =+AD24+AE24+AC24+AF24 -> 0 | AH24: =AG24-AI24-AJ24 -> 0 | AV24: =+AS24+AT24+AR24+AU24 -> 0 | AW24: =AV24-AX24-AY24 -> 0 | AZ24: =SUM(BP24,BX24,BH24) -> 0 | BA24: =SUM(BQ24,BY24,BI24) -> 0 | BB24: =SUM(BR24,BZ24,BJ24) -> 0 | BC24: =SUM(BS24,CA24,BK24) -> 0 | BD24: =SUM(AZ24:BC24) -> 0 | BE24: =SUM(BU24,CC24,BM24) -> 0 | BF24: =SUM(BV24,CD24,BN24) -> 0 | BG24: =SUM(BW24,CE24,BO24) -> 0 | BL24: =+BI24+BJ24+BH24+BK24 -> 0 | BM24: =BL24-BN24-BO24 -> 0 | BT24: =+BQ24+BR24+BP24+BS24 -> 0 | BU24: =BT24-BV24-BW24 -> 0 | CB24: =SUM(BX24:BZ24)+CA24 -> 0 | CC24: =CB24-CD24-CE24 -> 0 | CF24: =SUM(CN24,CU24,DB24,DI24,DP24,DW24,ED24,EK24,ER24,EY24,FF24,FM24,FT24,GA24,GH24,GO24,GV24,HC24,HJ24,HQ24,HX24,IE24,IL24,IS24) -> 0 | CG24: =SUM(CO24,CV24,DC24,DJ24,DQ24,DX24,EE24,EL24,ES24,EZ24,FG24,FN24,FU24,GB24,GI24,GP24,GW24,HD24,HK24,HR24,HY24,IF24,IM24,IT24) -> 0 | CH24: =SUM(CP24,CW24,DD24,DK24,DR24,DY24,EF24,EM24,ET24,FA24,FH24,FO24,FV24,GC24,GJ24,GQ24,GX24,HE24,HL24,HS24,HZ24,IG24,IN24,IU24) -> 0 | CI24: =JC24 -> 0 | CJ24: =SUM(CQ24,CX24,DE24,DL24,DS24,DZ24,EG24,EN24,EU24,FB24,FI24,FP24,FW24,GD24,GK24,GR24,GY24,HF24,HM24,HT24,IA24,IH24,IO24,IV24)+JD24 -> 0 | CK24: =SUM(CR24,CY24,DF24,DM24,DT24,EA24,EH24,EO24,EV24,FC24,FJ24,FQ24,FX24,GE24,GL24,GS24,GZ24,HG24,HN24,HU24,IB24,II24,IP24,IW24)+JE24 -> 0 | CL24: =SUM(CS24,CZ24,DG24,DN24,DU24,EB24,EI24,EP24,EW24,FD24,FK24,FR24,FY24,GF24,GM24,GT24,HA24,HH24,HO24,HV24,IC24,IJ24,IQ24,IX24)+JF24 -> 0 | CM24: =SUM(CT24,DA24,DH24,DO24,DV24,EC24,EJ24,EQ24,EX24,FE24,FL24,FS24,FZ24,GG24,GN24,GU24,HB24,HI24,HP24,HW24,ID24,IK24,IR24,IY24)+JG24 -> 0 | CQ24: =+CO24+CP24 -> 0 | CR24: =CQ24-CS24-CT24 -> 0 | CX24: =+CV24+CW24 -> 0 | CY24: =CX24-CZ24-DA24 -> 0 | DE24: =+DC24+DD24 -> 0 | DF24: =DE24-DG24-DH24 -> 0 | DL24: =+DJ24+DK24 -> 0 | DM24: =DL24-DN24-DO24 -> 0 | DS24: =+DQ24+DR24 -> 0 | DT24: =DS24-DU24-DV24 -> 0 | DZ24: =+DX24+DY24 -> 0 | EA24: =DZ24-EB24-EC24 -> 0 | EG24: =+EE24+EF24 -> 0 | EH24: =EG24-EI24-EJ24 -> 0 | EN24: =+EL24+EM24 -> 0 | EO24: =EN24-EP24-EQ24 -> 0 | EU24: =+ES24+ET24 -> 0 | EV24: =EU24-EW24-EX24 -> 0 | FB24: =+EZ24+FA24 -> 0 | FC24: =FB24-FD24-FE24 -> 0 | FI24: =+FG24+FH24 -> 0 | FJ24: =FI24-FK24-FL24 -> 0 | FP24: =+FN24+FO24 -> 0 | FQ24: =FP24-FR24-FS24 -> 0 | FW24: =+FU24+FV24 -> 0 | FX24: =FW24-FY24-FZ24 -> 0 | GD24: =+GB24+GC24 -> 0 | GE24: =GD24-GF24-GG24 -> 0 | GK24: =+GI24+GJ24 -> 0 | GL24: =GK24-GM24-GN24 -> 0 | GR24: =+GP24+GQ24 -> 0 | GS24: =GR24-GT24-GU24 -> 0 | GY24: =+GW24+GX24 -> 0 | GZ24: =GY24-HA24-HB24 -> 0 | HF24: =+HD24+HE24 -> 0 | HG24: =HF24-HH24-HI24 -> 0 | HM24: =+HK24+HL24 -> 0 | HN24: =HM24-HO24-HP24 -> 0 | HT24: =+HR24+HS24 -> 0 | HU24: =HT24-HV24-HW24 -> 0 | IA24: =+HY24+HZ24 -> 0 | IB24: =IA24-IC24-ID24 -> 0 | IH24: =+IF24+IG24 -> 0 | II24: =IH24-IJ24-IK24 -> 0 | IO24: =+IM24+IN24 -> 0 | IP24: =IO24-IQ24-IR24 -> 0 | IV24: =+IT24+IU24 -> 0 | IW24: =IV24-IX24-IY24 -> 0 | JD24: =+JA24+JB24+IZ24+JC24 -> 0 | JE24: =JD24-JF24-JG24 -> 0
B25: b) | C25: visszatérítendő támogatás, kölcsön visszatérülése, igénybevétele államháztartáson belülről | D25: =SUM(M25,U25,AC25,AK25,AR25,BH25,BP25,BX25,CN25,CU25,DB25,DI25,DP25,DW25,ED25,EK25)+SUM(ER25,EY25,FF25,FM25,FT25,GA25,GH25,GO25,GV25,HC25,HJ25,HQ25,HX25,IE25,IL25,IS25) -> 0 | E25: =SUM(W25,AE25,AM25,AT25,BJ25,BR25,BZ25,CP25,CW25,DD25,DK25,DR25,DY25,EF25,EM25)+SUM(ET25,FA25,FH25,FO25,FV25,GC25,GJ25,GQ25,GX25,HE25,HL25,HS25,HZ25,IG25,IN25,IU25) -> 0 | F25: =+N25+V25+AD25+AS25+BA25+CG25 -> 0 | G25: =+O25+W25+AE25+AT25+BB25+CH25 -> 0 | H25: =+P25+X25+AF25+AU25+BC25+CI25 -> 0 | I25: =+Q25+Y25+AG25+AV25+BD25+CJ25 -> 0 | J25: =+R25+Z25+AH25+AW25+BE25+CK25 -> 0 | K25: =+S25+AA25+AI25+AX25+BF25+CL25 -> 0 | L25: =+T25+AB25 -> 0 | Q25: =SUM(M25:P25) -> 0 | R25: =+Q25-S25 -> 0 | Z25: =Y25-AA25-AB25 -> 0 | AG25: =+AD25+AE25+AC25+AF25 -> 0 | AH25: =AG25-AI25-AJ25 -> 0 | AV25: =+AS25+AT25+AR25+AU25 -> 0 | AW25: =AV25-AX25-AY25 -> 0 | AZ25: =SUM(BP25,BX25,BH25) -> 0 | BA25: =SUM(BQ25,BY25,BI25) -> 0 | BB25: =SUM(BR25,BZ25,BJ25) -> 0 | BC25: =SUM(BS25,CA25,BK25) -> 0 | BD25: =SUM(AZ25:BC25) -> 0 | BE25: =SUM(BU25,CC25,BM25) -> 0 | BF25: =SUM(BV25,CD25,BN25) -> 0 | BG25: =SUM(BW25,CE25,BO25) -> 0 | BL25: =+BI25+BJ25+BH25+BK25 -> 0 | BM25: =BL25-BN25-BO25 -> 0 | BT25: =+BQ25+BR25+BP25+BS25 -> 0 | BU25: =BT25-BV25-BW25 -> 0 | CB25: =SUM(BX25:BZ25)+CA25 -> 0 | CC25: =CB25-CD25-CE25 -> 0 | CF25: =SUM(CN25,CU25,DB25,DI25,DP25,DW25,ED25,EK25,ER25,EY25,FF25,FM25,FT25,GA25,GH25,GO25,GV25,HC25,HJ25,HQ25,HX25,IE25,IL25,IS25) -> 0 | CG25: =SUM(CO25,CV25,DC25,DJ25,DQ25,DX25,EE25,EL25,ES25,EZ25,FG25,FN25,FU25,GB25,GI25,GP25,GW25,HD25,HK25,HR25,HY25,IF25,IM25,IT25) -> 0 | CH25: =SUM(CP25,CW25,DD25,DK25,DR25,DY25,EF25,EM25,ET25,FA25,FH25,FO25,FV25,GC25,GJ25,GQ25,GX25,HE25,HL25,HS25,HZ25,IG25,IN25,IU25) -> 0 | CI25: =JC25 -> 0 | CJ25: =SUM(CQ25,CX25,DE25,DL25,DS25,DZ25,EG25,EN25,EU25,FB25,FI25,FP25,FW25,GD25,GK25,GR25,GY25,HF25,HM25,HT25,IA25,IH25,IO25,IV25)+JD25 -> 0 | CK25: =SUM(CR25,CY25,DF25,DM25,DT25,EA25,EH25,EO25,EV25,FC25,FJ25,FQ25,FX25,GE25,GL25,GS25,GZ25,HG25,HN25,HU25,IB25,II25,IP25,IW25)+JE25 -> 0 | CL25: =SUM(CS25,CZ25,DG25,DN25,DU25,EB25,EI25,EP25,EW25,FD25,FK25,FR25,FY25,GF25,GM25,GT25,HA25,HH25,HO25,HV25,IC25,IJ25,IQ25,IX25)+JF25 -> 0 | CM25: =SUM(CT25,DA25,DH25,DO25,DV25,EC25,EJ25,EQ25,EX25,FE25,FL25,FS25,FZ25,GG25,GN25,GU25,HB25,HI25,HP25,HW25,ID25,IK25,IR25,IY25)+JG25 -> 0 | CQ25: =+CO25+CP25 -> 0 | CR25: =CQ25-CS25-CT25 -> 0 | CX25: =+CV25+CW25 -> 0 | CY25: =CX25-CZ25-DA25 -> 0 | DE25: =+DC25+DD25 -> 0 | DF25: =DE25-DG25-DH25 -> 0 | DL25: =+DJ25+DK25 -> 0 | DM25: =DL25-DN25-DO25 -> 0 | DS25: =+DQ25+DR25 -> 0 | DT25: =DS25-DU25-DV25 -> 0 | DZ25: =+DX25+DY25 -> 0 | EA25: =DZ25-EB25-EC25 -> 0 | EG25: =+EE25+EF25 -> 0 | EH25: =EG25-EI25-EJ25 -> 0 | EN25: =+EL25+EM25 -> 0 | EO25: =EN25-EP25-EQ25 -> 0 | EU25: =+ES25+ET25 -> 0 | EV25: =EU25-EW25-EX25 -> 0 | FB25: =+EZ25+FA25 -> 0 | FC25: =FB25-FD25-FE25 -> 0 | FI25: =+FG25+FH25 -> 0 | FJ25: =FI25-FK25-FL25 -> 0 | FP25: =+FN25+FO25 -> 0 | FQ25: =FP25-FR25-FS25 -> 0 | FW25: =+FU25+FV25 -> 0 | FX25: =FW25-FY25-FZ25 -> 0 | GD25: =+GB25+GC25 -> 0 | GE25: =GD25-GF25-GG25 -> 0 | GK25: =+GI25+GJ25 -> 0 | GL25: =GK25-GM25-GN25 -> 0 | GR25: =+GP25+GQ25 -> 0 | GS25: =GR25-GT25-GU25 -> 0 | GY25: =+GW25+GX25 -> 0 | GZ25: =GY25-HA25-HB25 -> 0 | HF25: =+HD25+HE25 -> 0 | HG25: =HF25-HH25-HI25 -> 0 | HM25: =+HK25+HL25 -> 0 | HN25: =HM25-HO25-HP25 -> 0 | HT25: =+HR25+HS25 -> 0 | HU25: =HT25-HV25-HW25 -> 0 | IA25: =+HY25+HZ25 -> 0 | IB25: =IA25-IC25-ID25 -> 0 | IH25: =+IF25+IG25 -> 0 | II25: =IH25-IJ25-IK25 -> 0 | IO25: =+IM25+IN25 -> 0 | IP25: =IO25-IQ25-IR25 -> 0 | IV25: =+IT25+IU25 -> 0 | IW25: =IV25-IX25-IY25 -> 0 | JD25: =+JA25+JB25+IZ25+JC25 -> 0 | JE25: =JD25-JF25-JG25 -> 0
B26: c) | C26: egyéb támogatások bevételei államháztartáson belülről | D26: =SUM(M26,U26,AC26,AK26,AR26,BH26,BP26,BX26,CN26,CU26,DB26,DI26,DP26,DW26,ED26,EK26)+SUM(ER26,EY26,FF26,FM26,FT26,GA26,GH26,GO26,GV26,HC26,HJ26,HQ26,HX26,IE26,IL26,IS26) -> 313931 | E26: =SUM(W26,AE26,AM26,AT26,BJ26,BR26,BZ26,CP26,CW26,DD26,DK26,DR26,DY26,EF26,EM26)+SUM(ET26,FA26,FH26,FO26,FV26,GC26,GJ26,GQ26,GX26,HE26,HL26,HS26,HZ26,IG26,IN26,IU26) -> 0 | F26: =+N26+V26+AD26+AS26+BA26+CG26 -> 0 | G26: =+O26+W26+AE26+AT26+BB26+CH26 -> 283272.5 | H26: =+P26+X26+AF26+AU26+BC26+CI26 -> 300364 | I26: =+Q26+Y26+AG26+AV26+BD26+CJ26 -> 897567.5 | J26: =+R26+Z26+AH26+AW26+BE26+CK26 -> 54108.5 | K26: =+S26+AA26+AI26+AX26+BF26+CL26 -> 843459 | L26: =+T26+AB26 -> 0 | M26: 313931 | O26: =229132+54140.5 -> 283272.5 | P26: 300147 | Q26: =SUM(M26:P26) -> 897350.5 | R26: =+Q26-S26 -> 53891.5 | S26: 843459 | Z26: =Y26-AA26-AB26 -> 0 | AF26: 217 | AG26: =+AD26+AE26+AC26+AF26 -> 217 | AH26: =AG26-AI26-AJ26 -> 217 | AI26: 0 | AV26: =+AS26+AT26+AR26+AU26 -> 0 | AW26: =AV26-AX26-AY26 -> 0 | AZ26: =SUM(BP26,BX26,BH26) -> 0 | BA26: =SUM(BQ26,BY26,BI26) -> 0 | BB26: =SUM(BR26,BZ26,BJ26) -> 0 | BC26: =SUM(BS26,CA26,BK26) -> 0 | BD26: =SUM(AZ26:BC26) -> 0 | BE26: =SUM(BU26,CC26,BM26) -> 0 | BF26: =SUM(BV26,CD26,BN26) -> 0 | BG26: =SUM(BW26,CE26,BO26) -> 0 | BL26: =+BI26+BJ26+BH26+BK26 -> 0 | BM26: =BL26-BN26-BO26 -> 0 | BT26: =+BQ26+BR26+BP26+BS26 -> 0 | BU26: =BT26-BV26-BW26 -> 0 | CB26: =SUM(BX26:BZ26)+CA26 -> 0 | CC26: =CB26-CD26-CE26 -> 0 | CF26: =SUM(CN26,CU26,DB26,DI26,DP26,DW26,ED26,EK26,ER26,EY26,FF26,FM26,FT26,GA26,GH26,GO26,GV26,HC26,HJ26,HQ26,HX26,IE26,IL26,IS26) -> 0 | CG26: =SUM(CO26,CV26,DC26,DJ26,DQ26,DX26,EE26,EL26,ES26,EZ26,FG26,FN26,FU26,GB26,GI26,GP26,GW26,HD26,HK26,HR26,HY26,IF26,IM26,IT26) -> 0 | CH26: =SUM(CP26,CW26,DD26,DK26,DR26,DY26,EF26,EM26,ET26,FA26,FH26,FO26,FV26,GC26,GJ26,GQ26,GX26,HE26,HL26,HS26,HZ26,IG26,IN26,IU26) -> 0 | CI26: =JC26 -> 0 | CJ26: =SUM(CQ26,CX26,DE26,DL26,DS26,DZ26,EG26,EN26,EU26,FB26,FI26,FP26,FW26,GD26,GK26,GR26,GY26,HF26,HM26,HT26,IA26,IH26,IO26,IV26)+JD26 -> 0 | CK26: =SUM(CR26,CY26,DF26,DM26,DT26,EA26,EH26,EO26,EV26,FC26,FJ26,FQ26,FX26,GE26,GL26,GS26,GZ26,HG26,HN26,HU26,IB26,II26,IP26,IW26)+JE26 -> 0 | CL26: =SUM(CS26,CZ26,DG26,DN26,DU26,EB26,EI26,EP26,EW26,FD26,FK26,FR26,FY26,GF26,GM26,GT26,HA26,HH26,HO26,HV26,IC26,IJ26,IQ26,IX26)+JF26 -> 0 | CM26: =SUM(CT26,DA26,DH26,DO26,DV26,EC26,EJ26,EQ26,EX26,FE26,FL26,FS26,FZ26,GG26,GN26,GU26,HB26,HI26,HP26,HW26,ID26,IK26,IR26,IY26)+JG26 -> 0 | CQ26: =+CO26+CP26 -> 0 | CR26: =CQ26-CS26-CT26 -> 0 | CX26: =+CV26+CW26 -> 0 | CY26: =CX26-CZ26-DA26 -> 0 | DE26: =+DC26+DD26 -> 0 | DF26: =DE26-DG26-DH26 -> 0 | DL26: =+DJ26+DK26 -> 0 | DM26: =DL26-DN26-DO26 -> 0 | DS26: =+DQ26+DR26 -> 0 | DT26: =DS26-DU26-DV26 -> 0 | DZ26: =+DX26+DY26 -> 0 | EA26: =DZ26-EB26-EC26 -> 0 | EG26: =+EE26+EF26 -> 0 | EH26: =EG26-EI26-EJ26 -> 0 | EN26: =+EL26+EM26 -> 0 | EO26: =EN26-EP26-EQ26 -> 0 | EU26: =+ES26+ET26 -> 0 | EV26: =EU26-EW26-EX26 -> 0 | FB26: =+EZ26+FA26 -> 0 | FC26: =FB26-FD26-FE26 -> 0 | FI26: =+FG26+FH26 -> 0 | FJ26: =FI26-FK26-FL26 -> 0 | FP26: =+FN26+FO26 -> 0 | FQ26: =FP26-FR26-FS26 -> 0 | FW26: =+FU26+FV26 -> 0 | FX26: =FW26-FY26-FZ26 -> 0 | GD26: =+GB26+GC26 -> 0 | GE26: =GD26-GF26-GG26 -> 0 | GK26: =+GI26+GJ26 -> 0 | GL26: =GK26-GM26-GN26 -> 0 | GR26: =+GP26+GQ26 -> 0 | GS26: =GR26-GT26-GU26 -> 0 | GY26: =+GW26+GX26 -> 0 | GZ26: =GY26-HA26-HB26 -> 0 | HF26: =+HD26+HE26 -> 0 | HG26: =HF26-HH26-HI26 -> 0 | HM26: =+HK26+HL26 -> 0 | HN26: =HM26-HO26-HP26 -> 0 | HT26: =+HR26+HS26 -> 0 | HU26: =HT26-HV26-HW26 -> 0 | IA26: =+HY26+HZ26 -> 0 | IB26: =IA26-IC26-ID26 -> 0 | IH26: =+IF26+IG26 -> 0 | II26: =IH26-IJ26-IK26 -> 0 | IO26: =+IM26+IN26 -> 0 | IP26: =IO26-IQ26-IR26 -> 0 | IV26: =+IT26+IU26 -> 0 | IW26: =IV26-IX26-IY26 -> 0 | JD26: =+JA26+JB26+IZ26+JC26 -> 0 | JE26: =JD26-JF26-JG26 -> 0
A27: 7. | B27: Felhalmozási bevételek | D27: =SUM(M27,U27,AC27,AK27,AR27,BH27,BP27,BX27,CN27,CU27,DB27,DI27,DP27,DW27,ED27,EK27)+SUM(ER27,EY27,FF27,FM27,FT27,GA27,GH27,GO27,GV27,HC27,HJ27,HQ27,HX27,IE27,IL27,IS27) -> 1838999 | E27: =SUM(W27,AE27,AM27,AT27,BJ27,BR27,BZ27,CP27,CW27,DD27,DK27,DR27,DY27,EF27,EM27)+SUM(ET27,FA27,FH27,FO27,FV27,GC27,GJ27,GQ27,GX27,HE27,HL27,HS27,HZ27,IG27,IN27,IU27) -> 0 | F27: =+N27+V27+AD27+AS27+BA27+CG27 -> 0 | G27: =+O27+W27+AE27+AT27+BB27+CH27 -> 0 | H27: =+P27+X27+AF27+AU27+BC27+CI27 -> -566836 | I27: =+Q27+Y27+AG27+AV27+BD27+CJ27 -> 1272163 | J27: =+R27+Z27+AH27+AW27+BE27+CK27 -> 1500 | K27: =+S27+AA27+AI27+AX27+BF27+CL27 -> 1270663 | L27: =+T27+AB27 -> 0 | M27: 1835849 | P27: -565418 | Q27: =SUM(M27:P27) -> 1270431 | R27: =+Q27-S27 -> 0 | S27: 1270431 | U27: 3150 | X27: -2918 | Y27: =+V27+U27+W27+X27 -> 232 | Z27: =Y27-AA27-AB27 -> 0 | AA27: 232 | AG27: =+AD27+AE27+AC27+AF27 -> 0 | AH27: =AG27-AI27-AJ27 -> 0 | AU27: 1500 | AV27: =+AS27+AT27+AR27+AU27 -> 1500 | AW27: =AV27-AX27-AY27 -> 1500 | AZ27: =SUM(BP27,BX27,BH27) -> 0 | BA27: =SUM(BQ27,BY27,BI27) -> 0 | BB27: =SUM(BR27,BZ27,BJ27) -> 0 | BC27: =SUM(BS27,CA27,BK27) -> 0 | BD27: =SUM(AZ27:BC27) -> 0 | BE27: =SUM(BU27,CC27,BM27) -> 0 | BF27: =SUM(BV27,CD27,BN27) -> 0 | BG27: =SUM(BW27,CE27,BO27) -> 0 | BL27: =+BI27+BJ27+BH27+BK27 -> 0 | BM27: =BL27-BN27-BO27 -> 0 | BT27: =+BQ27+BR27+BP27+BS27 -> 0 | BU27: =BT27-BV27-BW27 -> 0 | CB27: =SUM(BX27:BZ27)+CA27 -> 0 | CC27: =CB27-CD27-CE27 -> 0 | CF27: =SUM(CN27,CU27,DB27,DI27,DP27,DW27,ED27,EK27,ER27,EY27,FF27,FM27,FT27,GA27,GH27,GO27,GV27,HC27,HJ27,HQ27,HX27,IE27,IL27,IS27) -> 0 | CG27: =SUM(CO27,CV27,DC27,DJ27,DQ27,DX27,EE27,EL27,ES27,EZ27,FG27,FN27,FU27,GB27,GI27,GP27,GW27,HD27,HK27,HR27,HY27,IF27,IM27,IT27) -> 0 | CH27: =SUM(CP27,CW27,DD27,DK27,DR27,DY27,EF27,EM27,ET27,FA27,FH27,FO27,FV27,GC27,GJ27,GQ27,GX27,HE27,HL27,HS27,HZ27,IG27,IN27,IU27) -> 0 | CI27: =JC27 -> 0 | CJ27: =SUM(CQ27,CX27,DE27,DL27,DS27,DZ27,EG27,EN27,EU27,FB27,FI27,FP27,FW27,GD27,GK27,GR27,GY27,HF27,HM27,HT27,IA27,IH27,IO27,IV27)+JD27 -> 0 | CK27: =SUM(CR27,CY27,DF27,DM27,DT27,EA27,EH27,EO27,EV27,FC27,FJ27,FQ27,FX27,GE27,GL27,GS27,GZ27,HG27,HN27,HU27,IB27,II27,IP27,IW27)+JE27 -> 0 | CL27: =SUM(CS27,CZ27,DG27,DN27,DU27,EB27,EI27,EP27,EW27,FD27,FK27,FR27,FY27,GF27,GM27,GT27,HA27,HH27,HO27,HV27,IC27,IJ27,IQ27,IX27)+JF27 -> 0 | CM27: =SUM(CT27,DA27,DH27,DO27,DV27,EC27,EJ27,EQ27,EX27,FE27,FL27,FS27,FZ27,GG27,GN27,GU27,HB27,HI27,HP27,HW27,ID27,IK27,IR27,IY27)+JG27 -> 0 | CQ27: =+CO27+CP27 -> 0 | CR27: =CQ27-CS27-CT27 -> 0 | CX27: =+CV27+CW27 -> 0 | CY27: =CX27-CZ27-DA27 -> 0 | DE27: =+DC27+DD27 -> 0 | DF27: =DE27-DG27-DH27 -> 0 | DL27: =+DJ27+DK27 -> 0 | DM27: =DL27-DN27-DO27 -> 0 | DS27: =+DQ27+DR27 -> 0 | DT27: =DS27-DU27-DV27 -> 0 | DZ27: =+DX27+DY27 -> 0 | EA27: =DZ27-EB27-EC27 -> 0 | EG27: =+EE27+EF27 -> 0 | EH27: =EG27-EI27-EJ27 -> 0 | EN27: =+EL27+EM27 -> 0 | EO27: =EN27-EP27-EQ27 -> 0 | EU27: =+ES27+ET27 -> 0 | EV27: =EU27-EW27-EX27 -> 0 | FB27: =+EZ27+FA27 -> 0 | FC27: =FB27-FD27-FE27 -> 0 | FI27: =+FG27+FH27 -> 0 | FJ27: =FI27-FK27-FL27 -> 0 | FP27: =+FN27+FO27 -> 0 | FQ27: =FP27-FR27-FS27 -> 0 | FW27: =+FU27+FV27 -> 0 | FX27: =FW27-FY27-FZ27 -> 0 | GD27: =+GB27+GC27 -> 0 | GE27: =GD27-GF27-GG27 -> 0 | GK27: =+GI27+GJ27 -> 0 | GL27: =GK27-GM27-GN27 -> 0 | GR27: =+GP27+GQ27 -> 0 | GS27: =GR27-GT27-GU27 -> 0 | GY27: =+GW27+GX27 -> 0 | GZ27: =GY27-HA27-HB27 -> 0 | HF27: =+HD27+HE27 -> 0 | HG27: =HF27-HH27-HI27 -> 0 | HM27: =+HK27+HL27 -> 0 | HN27: =HM27-HO27-HP27 -> 0 | HT27: =+HR27+HS27 -> 0 | HU27: =HT27-HV27-HW27 -> 0 | IA27: =+HY27+HZ27 -> 0 | IB27: =IA27-IC27-ID27 -> 0 | IH27: =+IF27+IG27 -> 0 | II27: =IH27-IJ27-IK27 -> 0 | IO27: =+IM27+IN27 -> 0 | IP27: =IO27-IQ27-IR27 -> 0 | IV27: =+IT27+IU27 -> 0 | IW27: =IV27-IX27-IY27 -> 0 | JD27: =+JA27+JB27+IZ27+JC27 -> 0 | JE27: =JD27-JF27-JG27 -> 0
A28: 8. | B28: Felhalmozási célú átvett pénzeszközök | D28: =SUM(M28,U28,AC28,AK28,AR28,BH28,BP28,BX28,CN28,CU28,DB28,DI28,DP28,DW28,ED28,EK28)+SUM(ER28,EY28,FF28,FM28,FT28,GA28,GH28,GO28,GV28,HC28,HJ28,HQ28,HX28,IE28,IL28,IS28) -> 542370 | E28: =SUM(E29:E30) -> 0 | F28: =+N28+V28+AD28+AS28+BA28+CG28 -> 0 | G28: =+O28+W28+AE28+AT28+BB28+CH28 -> 0 | H28: =+P28+X28+AF28+AU28+BC28+CI28 -> -226357 | I28: =+Q28+Y28+AG28+AV28+BD28+CJ28 -> 316013 | J28: =+R28+Z28+AH28+AW28+BE28+CK28 -> 0 | K28: =+S28+AA28+AI28+AX28+BF28+CL28 -> 316013 | L28: =+T28+AB28 -> 0 | M28: =+M30+M29 -> 542370 | N28: =SUM(N29:N30) -> 0 | O28: =SUM(O29:O30) -> 0 | P28: =SUM(P29:P30) -> -226357 | Q28: =SUM(M28:P28) -> 316013 | R28: =+Q28-S28 -> 0 | S28: =SUM(S29:S30) -> 316013 | T28: =SUM(T29:T30) -> 0 | U28: =SUM(U29:U30) -> 0 | V28: =SUM(V29:V30) -> 0 | W28: =SUM(W29:W30) -> 0 | X28: =SUM(X29:X30) -> 0 | Y28: =+V28+U28+W28+X28 -> 0 | Z28: =Y28-AA28-AB28 -> 0 | AA28: =SUM(AA29:AA30) -> 0 | AB28: =SUM(AB29:AB30) -> 0 | AC28: =SUM(AC29:AC30) -> 0 | AD28: =SUM(AD29:AD30) -> 0 | AE28: =SUM(AE29:AE30) -> 0 | AF28: =SUM(AF29:AF30) -> 0 | AG28: =+AD28+AE28+AC28+AF28 -> 0 | AH28: =SUM(AH29:AH30) -> 0 | AI28: =SUM(AI29:AI30) -> 0 | AJ28: =SUM(AJ29:AJ30) -> 0 | AR28: =SUM(AR29:AR30) -> 0 | AS28: =SUM(AS29:AS30) -> 0 | AT28: =SUM(AT29:AT30) -> 0 | AU28: =SUM(AU29:AU30) -> 0 | AV28: =+AS28+AT28+AR28+AU28 -> 0 | AW28: =SUM(AW29:AW30) -> 0 | AX28: =SUM(AX29:AX30) -> 0 | AY28: =SUM(AY29:AY30) -> 0 | AZ28: =SUM(AZ29:AZ30) -> 0 | BA28: =SUM(BA29:BA30) -> 0 | BB28: =SUM(BR28,BZ28,BJ28) -> 0 | BC28: =SUM(BS28,CA28,BK28) -> 0 | BD28: =SUM(AZ28:BC28) -> 0 | BE28: =SUM(BE29:BE30) -> 0 | BF28: =SUM(BF29:BF30) -> 0 | BG28: =SUM(BG29:BG30) -> 0 | BH28: =SUM(BH29:BH30) -> 0 | BI28: =SUM(BI29:BI30) -> 0 | BJ28: =SUM(BJ29:BJ30) -> 0 | BK28: =SUM(BK29:BK30) -> 0 | BL28: =+BI28+BJ28+BH28+BK28 -> 0 | BM28: =SUM(BM29:BM30) -> 0 | BN28: =SUM(BN29:BN30) -> 0 | BO28: =SUM(BO29:BO30) -> 0 | BP28: =SUM(BP29:BP30) -> 0 | BQ28: =SUM(BQ29:BQ30) -> 0 | BR28: =SUM(BR29:BR30) -> 0 | BS28: =SUM(BS29:BS30) -> 0 | BT28: =+BQ28+BR28+BP28+BS28 -> 0 | BU28: =SUM(BU29:BU30) -> 0 | BV28: =SUM(BV29:BV30) -> 0 | BW28: =SUM(BW29:BW30) -> 0 | BX28: =SUM(BX29:BX30) -> 0 | BY28: =SUM(BY29:BY30) -> 0 | BZ28: =SUM(BZ29:BZ30) -> 0 | CA28: =SUM(CA29:CA30) -> 0 | CB28: =SUM(BX28:BZ28)+CA28 -> 0 | CC28: =SUM(CC29:CC30) -> 0 | CD28: =SUM(CD29:CD30) -> 0 | CE28: =SUM(CE29:CE30) -> 0 | CF28: =SUM(CF29:CF30) -> 0 | CG28: =SUM(CG29:CG30) -> 0 | CH28: =SUM(CH29:CH30) -> 0 | CI28: =SUM(CI29:CI30) -> 0 | CJ28: =SUM(CQ28,CX28,DE28,DL28,DS28,DZ28,EG28,EN28,EU28,FB28,FI28,FP28,FW28,GD28,GK28,GR28,GY28,HF28,HM28,HT28,IA28,IH28,IO28,IV28)+JD28 -> 0 | CK28: =SUM(CR28,CY28,DF28,DM28,DT28,EA28,EH28,EO28,EV28,FC28,FJ28,FQ28,FX28,GE28,GL28,GS28,GZ28,HG28,HN28,HU28,IB28,II28,IP28,IW28)+JE28 -> 0 | CL28: =SUM(CS28,CZ28,DG28,DN28,DU28,EB28,EI28,EP28,EW28,FD28,FK28,FR28,FY28,GF28,GM28,GT28,HA28,HH28,HO28,HV28,IC28,IJ28,IQ28,IX28)+JF28 -> 0 | CM28: =SUM(CT28,DA28,DH28,DO28,DV28,EC28,EJ28,EQ28,EX28,FE28,FL28,FS28,FZ28,GG28,GN28,GU28,HB28,HI28,HP28,HW28,ID28,IK28,IR28,IY28)+JG28 -> 0 | CN28: =SUM(CN29:CN30) -> 0 | CO28: =SUM(CO29:CO30) -> 0 | CP28: =SUM(CP29:CP30) -> 0 | CQ28: =+CO28+CP28 -> 0 | CR28: =SUM(CR29:CR30) -> 0 | CS28: =SUM(CS29:CS30) -> 0 | CT28: =SUM(CT29:CT30) -> 0 | CU28: =SUM(CU29:CU30) -> 0 | CV28: =SUM(CV29:CV30) -> 0 | CW28: =SUM(CW29:CW30) -> 0 | CX28: =+CV28+CW28 -> 0 | CY28: =SUM(CY29:CY30) -> 0 | CZ28: =SUM(CZ29:CZ30) -> 0 | DA28: =SUM(DA29:DA30) -> 0 | DB28: =SUM(DB29:DB30) -> 0 | DC28: =SUM(DC29:DC30) -> 0 | DD28: =SUM(DD29:DD30) -> 0 | DE28: =+DC28+DD28 -> 0 | DF28: =SUM(DF29:DF30) -> 0 | DG28: =SUM(DG29:DG30) -> 0 | DH28: =SUM(DH29:DH30) -> 0 | DI28: =SUM(DI29:DI30) -> 0 | DJ28: =SUM(DJ29:DJ30) -> 0 | DK28: =SUM(DK29:DK30) -> 0 | DL28: =+DJ28+DK28 -> 0 | DM28: =SUM(DM29:DM30) -> 0 | DN28: =SUM(DN29:DN30) -> 0 | DO28: =SUM(DO29:DO30) -> 0 | DP28: =SUM(DP29:DP30) -> 0 | DQ28: =SUM(DQ29:DQ30) -> 0 | DR28: =SUM(DR29:DR30) -> 0 | DS28: =+DQ28+DR28 -> 0 | DT28: =SUM(DT29:DT30) -> 0 | DU28: =SUM(DU29:DU30) -> 0 | DV28: =SUM(DV29:DV30) -> 0 | DW28: =SUM(DW29:DW30) -> 0 | DX28: =SUM(DX29:DX30) -> 0 | DY28: =SUM(DY29:DY30) -> 0 | DZ28: =+DX28+DY28 -> 0 | EA28: =SUM(EA29:EA30) -> 0 | EB28: =SUM(EB29:EB30) -> 0 | EC28: =SUM(EC29:EC30) -> 0 | ED28: =SUM(ED29:ED30) -> 0 | EE28: =SUM(EE29:EE30) -> 0 | EF28: =SUM(EF29:EF30) -> 0 | EG28: =+EE28+EF28 -> 0 | EH28: =SUM(EH29:EH30) -> 0 | EI28: =SUM(EI29:EI30) -> 0 | EJ28: =SUM(EJ29:EJ30) -> 0 | EK28: =SUM(EK29:EK30) -> 0 | EL28: =SUM(EL29:EL30) -> 0 | EM28: =SUM(EM29:EM30) -> 0 | EN28: =+EL28+EM28 -> 0 | EO28: =SUM(EO29:EO30) -> 0 | EP28: =SUM(EP29:EP30) -> 0 | EQ28: =SUM(EQ29:EQ30) -> 0 | ER28: =SUM(ER29:ER30) -> 0 | ES28: =SUM(ES29:ES30) -> 0 | ET28: =SUM(ET29:ET30) -> 0 | EU28: =+ES28+ET28 -> 0 | EV28: =SUM(EV29:EV30) -> 0 | EW28: =SUM(EW29:EW30) -> 0 | EX28: =SUM(EX29:EX30) -> 0 | EY28: =SUM(EY29:EY30) -> 0 | EZ28: =SUM(EZ29:EZ30) -> 0 | FA28: =SUM(FA29:FA30) -> 0 | FB28: =+EZ28+FA28 -> 0 | FC28: =SUM(FC29:FC30) -> 0 | FD28: =SUM(FD29:FD30) -> 0 | FE28: =SUM(FE29:FE30) -> 0 | FF28: =SUM(FF29:FF30) -> 0 | FG28: =SUM(FG29:FG30) -> 0 | FH28: =SUM(FH29:FH30) -> 0 | FI28: =+FG28+FH28 -> 0 | FJ28: =SUM(FJ29:FJ30) -> 0 | FK28: =SUM(FK29:FK30) -> 0 | FL28: =SUM(FL29:FL30) -> 0 | FM28: =SUM(FM29:FM30) -> 0 | FN28: =SUM(FN29:FN30) -> 0 | FO28: =SUM(FO29:FO30) -> 0 | FP28: =+FN28+FO28 -> 0 | FQ28: =SUM(FQ29:FQ30) -> 0 | FR28: =SUM(FR29:FR30) -> 0 | FS28: =SUM(FS29:FS30) -> 0 | FT28: =SUM(FT29:FT30) -> 0 | FU28: =SUM(FU29:FU30) -> 0 | FV28: =SUM(FV29:FV30) -> 0 | FW28: =+FU28+FV28 -> 0 | FX28: =SUM(FX29:FX30) -> 0 | FY28: =SUM(FY29:FY30) -> 0 | FZ28: =SUM(FZ29:FZ30) -> 0 | GA28: =SUM(GA29:GA30) -> 0 | GB28: =SUM(GB29:GB30) -> 0 | GC28: =SUM(GC29:GC30) -> 0 | GD28: =+GB28+GC28 -> 0 | GE28: =SUM(GE29:GE30) -> 0 | GF28: =SUM(GF29:GF30) -> 0 | GG28: =SUM(GG29:GG30) -> 0 | GH28: =SUM(GH29:GH30) -> 0 | GI28: =SUM(GI29:GI30) -> 0 | GJ28: =SUM(GJ29:GJ30) -> 0 | GK28: =+GI28+GJ28 -> 0 | GL28: =SUM(GL29:GL30) -> 0 | GM28: =SUM(GM29:GM30) -> 0 | GN28: =SUM(GN29:GN30) -> 0 | GO28: =SUM(GO29:GO30) -> 0 | GP28: =SUM(GP29:GP30) -> 0 | GQ28: =SUM(GQ29:GQ30) -> 0 | GR28: =+GP28+GQ28 -> 0 | GS28: =SUM(GS29:GS30) -> 0 | GT28: =SUM(GT29:GT30) -> 0 | GU28: =SUM(GU29:GU30) -> 0 | GV28: =SUM(GV29:GV30) -> 0 | GW28: =SUM(GW29:GW30) -> 0 | GX28: =SUM(GX29:GX30) -> 0 | GY28: =+GW28+GX28 -> 0 | GZ28: =SUM(GZ29:GZ30) -> 0 | HA28: =SUM(HA29:HA30) -> 0 | HB28: =SUM(HB29:HB30) -> 0 | HC28: =SUM(HC29:HC30) -> 0 | HD28: =SUM(HD29:HD30) -> 0 | HE28: =SUM(HE29:HE30) -> 0 | HF28: =+HD28+HE28 -> 0 | HG28: =SUM(HG29:HG30) -> 0 | HH28: =SUM(HH29:HH30) -> 0 | HI28: =SUM(HI29:HI30) -> 0 | HJ28: =SUM(HJ29:HJ30) -> 0 | HK28: =SUM(HK29:HK30) -> 0 | HL28: =SUM(HL29:HL30) -> 0 | HM28: =+HK28+HL28 -> 0 | HN28: =SUM(HN29:HN30) -> 0 | HO28: =SUM(HO29:HO30) -> 0 | HP28: =SUM(HP29:HP30) -> 0 | HQ28: =SUM(HQ29:HQ30) -> 0 | HR28: =SUM(HR29:HR30) -> 0 | HS28: =SUM(HS29:HS30) -> 0 | HT28: =+HR28+HS28 -> 0 | HU28: =SUM(HU29:HU30) -> 0 | HV28: =SUM(HV29:HV30) -> 0 | HW28: =SUM(HW29:HW30) -> 0 | HX28: =SUM(HX29:HX30) -> 0 | HY28: =SUM(HY29:HY30) -> 0 | HZ28: =SUM(HZ29:HZ30) -> 0 | IA28: =+HY28+HZ28 -> 0 | IB28: =SUM(IB29:IB30) -> 0 | IC28: =SUM(IC29:IC30) -> 0 | ID28: =SUM(ID29:ID30) -> 0 | IE28: =SUM(IE29:IE30) -> 0 | IF28: =SUM(IF29:IF30) -> 0 | IG28: =SUM(IG29:IG30) -> 0 | IH28: =+IF28+IG28 -> 0 | II28: =SUM(II29:II30) -> 0 | IJ28: =SUM(IJ29:IJ30) -> 0 | IK28: =SUM(IK29:IK30) -> 0 | IL28: =SUM(IL29:IL30) -> 0 | IM28: =SUM(IM29:IM30) -> 0 | IN28: =SUM(IN29:IN30) -> 0 | IO28: =+IM28+IN28 -> 0 | IP28: =SUM(IP29:IP30) -> 0 | IQ28: =SUM(IQ29:IQ30) -> 0 | IR28: =SUM(IR29:IR30) -> 0 | IS28: =SUM(IS29:IS30) -> 0 | IT28: =SUM(IT29:IT30) -> 0 | IU28: =SUM(IU29:IU30) -> 0 | IV28: =+IT28+IU28 -> 0 | IW28: =SUM(IW29:IW30) -> 0 | IX28: =SUM(IX29:IX30) -> 0 | IY28: =SUM(IY29:JG30) -> 0 | IZ28: =SUM(IZ29:IZ30) -> 0 | JA28: =SUM(JA29:JA30) -> 0 | JB28: =SUM(JB29:JB30) -> 0 | JC28: =SUM(JC29:JC30) -> 0 | JD28: =+JA28+JB28+IZ28+JC28 -> 0 | JE28: =SUM(JE29:JE30) -> 0 | JF28: =SUM(JF29:JF30) -> 0
B29: a) | C29: visszatérítendő támogatás, kölcsön visszatérülése államháztartáson kívülről | D29: =SUM(M29,U29,AC29,AK29,AR29,BH29,BP29,BX29,CN29,CU29,DB29,DI29,DP29,DW29,ED29,EK29)+SUM(ER29,EY29,FF29,FM29,FT29,GA29,GH29,GO29,GV29,HC29,HJ29,HQ29,HX29,IE29,IL29,IS29) -> 3000 | E29: =SUM(W29,AE29,AM29,AT29,BJ29,BR29,BZ29,CP29,CW29,DD29,DK29,DR29,DY29,EF29,EM29)+SUM(ET29,FA29,FH29,FO29,FV29,GC29,GJ29,GQ29,GX29,HE29,HL29,HS29,HZ29,IG29,IN29,IU29) -> 0 | F29: =+N29+V29+AD29+AS29+BA29+CG29 -> 0 | G29: =+O29+W29+AE29+AT29+BB29+CH29 -> 0 | H29: =+P29+X29+AF29+AU29+BC29+CI29 -> 0 | I29: =+Q29+Y29+AG29+AV29+BD29+CJ29 -> 3000 | J29: =+R29+Z29+AH29+AW29+BE29+CK29 -> 0 | K29: =+S29+AA29+AI29+AX29+BF29+CL29 -> 3000 | L29: =+T29+AB29 -> 0 | M29: 3000 | Q29: =SUM(M29:P29) -> 3000 | R29: =+Q29-S29 -> 0 | S29: 3000 | Z29: =Y29-AA29-AB29 -> 0 | AG29: =+AD29+AE29+AC29+AF29 -> 0 | AH29: =AG29-AI29-AJ29 -> 0 | AV29: =+AS29+AT29+AR29+AU29 -> 0 | AW29: =AV29-AX29-AY29 -> 0 | AZ29: =SUM(BP29,BX29,BH29) -> 0 | BA29: =SUM(BQ29,BY29,BI29) -> 0 | BB29: =SUM(BR29,BZ29,BJ29) -> 0 | BC29: =SUM(BS29,CA29,BK29) -> 0 | BD29: =SUM(AZ29:BC29) -> 0 | BE29: =SUM(BU29,CC29,BM29) -> 0 | BF29: =SUM(BV29,CD29,BN29) -> 0 | BG29: =SUM(BW29,CE29,BO29) -> 0 | BL29: =+BI29+BJ29+BH29+BK29 -> 0 | BM29: =BL29-BN29-BO29 -> 0 | BT29: =+BQ29+BR29+BP29+BS29 -> 0 | BU29: =BT29-BV29-BW29 -> 0 | CB29: =SUM(BX29:BZ29)+CA29 -> 0 | CC29: =CB29-CD29-CE29 -> 0 | CF29: =SUM(CN29,CU29,DB29,DI29,DP29,DW29,ED29,EK29,ER29,EY29,FF29,FM29,FT29,GA29,GH29,GO29,GV29,HC29,HJ29,HQ29,HX29,IE29,IL29,IS29) -> 0 | CG29: =SUM(CO29,CV29,DC29,DJ29,DQ29,DX29,EE29,EL29,ES29,EZ29,FG29,FN29,FU29,GB29,GI29,GP29,GW29,HD29,HK29,HR29,HY29,IF29,IM29,IT29) -> 0 | CH29: =SUM(CP29,CW29,DD29,DK29,DR29,DY29,EF29,EM29,ET29,FA29,FH29,FO29,FV29,GC29,GJ29,GQ29,GX29,HE29,HL29,HS29,HZ29,IG29,IN29,IU29) -> 0 | CI29: =JC29 -> 0 | CJ29: =SUM(CQ29,CX29,DE29,DL29,DS29,DZ29,EG29,EN29,EU29,FB29,FI29,FP29,FW29,GD29,GK29,GR29,GY29,HF29,HM29,HT29,IA29,IH29,IO29,IV29)+JD29 -> 0 | CK29: =SUM(CR29,CY29,DF29,DM29,DT29,EA29,EH29,EO29,EV29,FC29,FJ29,FQ29,FX29,GE29,GL29,GS29,GZ29,HG29,HN29,HU29,IB29,II29,IP29,IW29)+JE29 -> 0 | CL29: =SUM(CS29,CZ29,DG29,DN29,DU29,EB29,EI29,EP29,EW29,FD29,FK29,FR29,FY29,GF29,GM29,GT29,HA29,HH29,HO29,HV29,IC29,IJ29,IQ29,IX29)+JF29 -> 0 | CM29: =SUM(CT29,DA29,DH29,DO29,DV29,EC29,EJ29,EQ29,EX29,FE29,FL29,FS29,FZ29,GG29,GN29,GU29,HB29,HI29,HP29,HW29,ID29,IK29,IR29,IY29)+JG29 -> 0 | CQ29: =+CO29+CP29 -> 0 | CR29: =CQ29-CS29-CT29 -> 0 | CX29: =+CV29+CW29 -> 0 | CY29: =CX29-CZ29-DA29 -> 0 | DE29: =+DC29+DD29 -> 0 | DF29: =DE29-DG29-DH29 -> 0 | DL29: =+DJ29+DK29 -> 0 | DM29: =DL29-DN29-DO29 -> 0 | DS29: =+DQ29+DR29 -> 0 | DT29: =DS29-DU29-DV29 -> 0 | DZ29: =+DX29+DY29 -> 0 | EA29: =DZ29-EB29-EC29 -> 0 | EG29: =+EE29+EF29 -> 0 | EH29: =EG29-EI29-EJ29 -> 0 | EN29: =+EL29+EM29 -> 0 | EO29: =EN29-EP29-EQ29 -> 0 | EU29: =+ES29+ET29 -> 0 | EV29: =EU29-EW29-EX29 -> 0 | FB29: =+EZ29+FA29 -> 0 | FC29: =FB29-FD29-FE29 -> 0 | FI29: =+FG29+FH29 -> 0 | FJ29: =FI29-FK29-FL29 -> 0 | FP29: =+FN29+FO29 -> 0 | FQ29: =FP29-FR29-FS29 -> 0 | FW29: =+FU29+FV29 -> 0 | FX29: =FW29-FY29-FZ29 -> 0 | GD29: =+GB29+GC29 -> 0 | GE29: =GD29-GF29-GG29 -> 0 | GK29: =+GI29+GJ29 -> 0 | GL29: =GK29-GM29-GN29 -> 0 | GR29: =+GP29+GQ29 -> 0 | GS29: =GR29-GT29-GU29 -> 0 | GY29: =+GW29+GX29 -> 0 | GZ29: =GY29-HA29-HB29 -> 0 | HF29: =+HD29+HE29 -> 0 | HG29: =HF29-HH29-HI29 -> 0 | HM29: =+HK29+HL29 -> 0 | HN29: =HM29-HO29-HP29 -> 0 | HT29: =+HR29+HS29 -> 0 | HU29: =HT29-HV29-HW29 -> 0 | IA29: =+HY29+HZ29 -> 0 | IB29: =IA29-IC29-ID29 -> 0 | IH29: =+IF29+IG29 -> 0 | II29: =IH29-IJ29-IK29 -> 0 | IO29: =+IM29+IN29 -> 0 | IP29: =IO29-IQ29-IR29 -> 0 | IV29: =+IT29+IU29 -> 0 | IW29: =IV29-IX29-IY29 -> 0 | JD29: =+JA29+JB29+IZ29+JC29 -> 0 | JE29: =JD29-JF29-JG29 -> 0
B30: b) | C30: egyéb átvett pénzeszköz államháztartáson kívülről | D30: =SUM(M30,U30,AC30,AK30,AR30,BH30,BP30,BX30,CN30,CU30,DB30,DI30,DP30,DW30,ED30,EK30)+SUM(ER30,EY30,FF30,FM30,FT30,GA30,GH30,GO30,GV30,HC30,HJ30,HQ30,HX30,IE30,IL30,IS30) -> 539370 | E30: =SUM(W30,AE30,AM30,AT30,BJ30,BR30,BZ30,CP30,CW30,DD30,DK30,DR30,DY30,EF30,EM30)+SUM(ET30,FA30,FH30,FO30,FV30,GC30,GJ30,GQ30,GX30,HE30,HL30,HS30,HZ30,IG30,IN30,IU30) -> 0 | F30: =+N30+V30+AD30+AS30+BA30+CG30 -> 0 | G30: =+O30+W30+AE30+AT30+BB30+CH30 -> 0 | H30: =+P30+X30+AF30+AU30+BC30+CI30 -> -226357 | I30: =+Q30+Y30+AG30+AV30+BD30+CJ30 -> 313013 | J30: =+R30+Z30+AH30+AW30+BE30+CK30 -> 0 | K30: =+S30+AA30+AI30+AX30+BF30+CL30 -> 313013 | L30: =+T30+AB30 -> 0 | M30: 539370 | P30: -226357 | Q30: =SUM(M30:P30) -> 313013 | R30: =+Q30-S30 -> 0 | S30: 313013 | Z30: =Y30-AA30-AB30 -> 0 | AG30: =+AD30+AE30+AC30+AF30 -> 0 | AH30: =AG30-AI30-AJ30 -> 0 | AV30: =+AS30+AT30+AR30+AU30 -> 0 | AW30: =AV30-AX30-AY30 -> 0 | AZ30: =SUM(BP30,BX30,BH30) -> 0 | BA30: =SUM(BQ30,BY30,BI30) -> 0 | BB30: =SUM(BR30,BZ30,BJ30) -> 0 | BC30: =SUM(BS30,CA30,BK30) -> 0 | BD30: =SUM(AZ30:BC30) -> 0 | BE30: =SUM(BU30,CC30,BM30) -> 0 | BF30: =SUM(BV30,CD30,BN30) -> 0 | BG30: =SUM(BW30,CE30,BO30) -> 0 | BL30: =+BI30+BJ30+BH30+BK30 -> 0 | BM30: =BL30-BN30-BO30 -> 0 | BT30: =+BQ30+BR30+BP30+BS30 -> 0 | BU30: =BT30-BV30-BW30 -> 0 | CB30: =SUM(BX30:BZ30)+CA30 -> 0 | CC30: =CB30-CD30-CE30 -> 0 | CF30: =SUM(CN30,CU30,DB30,DI30,DP30,DW30,ED30,EK30,ER30,EY30,FF30,FM30,FT30,GA30,GH30,GO30,GV30,HC30,HJ30,HQ30,HX30,IE30,IL30,IS30) -> 0 | CG30: =SUM(CO30,CV30,DC30,DJ30,DQ30,DX30,EE30,EL30,ES30,EZ30,FG30,FN30,FU30,GB30,GI30,GP30,GW30,HD30,HK30,HR30,HY30,IF30,IM30,IT30) -> 0 | CH30: =SUM(CP30,CW30,DD30,DK30,DR30,DY30,EF30,EM30,ET30,FA30,FH30,FO30,FV30,GC30,GJ30,GQ30,GX30,HE30,HL30,HS30,HZ30,IG30,IN30,IU30) -> 0 | CI30: =JC30 -> 0 | CJ30: =SUM(CQ30,CX30,DE30,DL30,DS30,DZ30,EG30,EN30,EU30,FB30,FI30,FP30,FW30,GD30,GK30,GR30,GY30,HF30,HM30,HT30,IA30,IH30,IO30,IV30)+JD30 -> 0 | CK30: =SUM(CR30,CY30,DF30,DM30,DT30,EA30,EH30,EO30,EV30,FC30,FJ30,FQ30,FX30,GE30,GL30,GS30,GZ30,HG30,HN30,HU30,IB30,II30,IP30,IW30)+JE30 -> 0 | CL30: =SUM(CS30,CZ30,DG30,DN30,DU30,EB30,EI30,EP30,EW30,FD30,FK30,FR30,FY30,GF30,GM30,GT30,HA30,HH30,HO30,HV30,IC30,IJ30,IQ30,IX30)+JF30 -> 0 | CM30: =SUM(CT30,DA30,DH30,DO30,DV30,EC30,EJ30,EQ30,EX30,FE30,FL30,FS30,FZ30,GG30,GN30,GU30,HB30,HI30,HP30,HW30,ID30,IK30,IR30,IY30)+JG30 -> 0 | CQ30: =+CO30+CP30 -> 0 | CR30: =CQ30-CS30-CT30 -> 0 | CX30: =+CV30+CW30 -> 0 | CY30: =CX30-CZ30-DA30 -> 0 | DE30: =+DC30+DD30 -> 0 | DF30: =DE30-DG30-DH30 -> 0 | DL30: =+DJ30+DK30 -> 0 | DM30: =DL30-DN30-DO30 -> 0 | DS30: =+DQ30+DR30 -> 0 | DT30: =DS30-DU30-DV30 -> 0 | DZ30: =+DX30+DY30 -> 0 | EA30: =DZ30-EB30-EC30 -> 0 | EG30: =+EE30+EF30 -> 0 | EH30: =EG30-EI30-EJ30 -> 0 | EN30: =+EL30+EM30 -> 0 | EO30: =EN30-EP30-EQ30 -> 0 | EU30: =+ES30+ET30 -> 0 | EV30: =EU30-EW30-EX30 -> 0 | FB30: =+EZ30+FA30 -> 0 | FC30: =FB30-FD30-FE30 -> 0 | FI30: =+FG30+FH30 -> 0 | FJ30: =FI30-FK30-FL30 -> 0 | FP30: =+FN30+FO30 -> 0 | FQ30: =FP30-FR30-FS30 -> 0 | FW30: =+FU30+FV30 -> 0 | FX30: =FW30-FY30-FZ30 -> 0 | GD30: =+GB30+GC30 -> 0 | GE30: =GD30-GF30-GG30 -> 0 | GK30: =+GI30+GJ30 -> 0 | GL30: =GK30-GM30-GN30 -> 0 | GR30: =+GP30+GQ30 -> 0 | GS30: =GR30-GT30-GU30 -> 0 | GY30: =+GW30+GX30 -> 0 | GZ30: =GY30-HA30-HB30 -> 0 | HF30: =+HD30+HE30 -> 0 | HG30: =HF30-HH30-HI30 -> 0 | HM30: =+HK30+HL30 -> 0 | HN30: =HM30-HO30-HP30 -> 0 | HT30: =+HR30+HS30 -> 0 | HU30: =HT30-HV30-HW30 -> 0 | IA30: =+HY30+HZ30 -> 0 | IB30: =IA30-IC30-ID30 -> 0 | IH30: =+IF30+IG30 -> 0 | II30: =IH30-IJ30-IK30 -> 0 | IO30: =+IM30+IN30 -> 0 | IP30: =IO30-IQ30-IR30 -> 0 | IV30: =+IT30+IU30 -> 0 | IW30: =IV30-IX30-IY30 -> 0 | JD30: =+JA30+JB30+IZ30+JC30 -> 0 | JE30: =JD30-JF30-JG30 -> 0
A31: 9. | B31: Felhalmozási bevételek összesen (6+7+8) | D31: =SUM(M31,U31,AC31,AK31,AR31,BH31,BP31,BX31,CN31,CU31,DB31,DI31,DP31,DW31,ED31,EK31)+SUM(ER31,EY31,FF31,FM31,FT31,GA31,GH31,GO31,GV31,HC31,HJ31,HQ31,HX31,IE31,IL31,IS31) -> 2695300 | E31: =E23+E27+E28 -> 0 | F31: =+N31+V31+AD31+AS31+BA31+CG31 -> 0 | G31: =+O31+W31+AE31+AT31+BB31+CH31 -> 283272.5 | H31: =+P31+X31+AF31+AU31+BC31+CI31 -> -492829 | I31: =+Q31+Y31+AG31+AV31+BD31+CJ31 -> 2485743.5 | J31: =+R31+Z31+AH31+AW31+BE31+CK31 -> 55608.5 | K31: =+S31+AA31+AI31+AX31+BF31+CL31 -> 2430135 | L31: =+T31+AB31 -> 0 | M31: =+M28+M27+M23 -> 2692150 | N31: =+N23+N27+N28 -> 0 | O31: =+O23+O27+O28 -> 283272.5 | P31: =+P23+P27+P28 -> -491628 | Q31: =SUM(M31:P31) -> 2483794.5 | R31: =+Q31-S31 -> 53891.5 | S31: =S23+S27+S28 -> 2429903 | T31: =T23+T27+T28 -> 0 | U31: =U23+U27+U28 -> 3150 | V31: =V23+V27+V28 -> 0 | W31: =W23+W27+W28 -> 0 | X31: =X23+X27+X28 -> -2918 | Y31: =+V31+U31+W31+X31 -> 232 | Z31: =Y31-AA31-AB31 -> 0 | AA31: =AA23+AA27+AA28 -> 232 | AB31: =AB23+AB27+AB28 -> 0 | AC31: =AC23+AC27+AC28 -> 0 | AD31: =AD23+AD27+AD28 -> 0 | AE31: =AE23+AE27+AE28 -> 0 | AF31: =AF23+AF27+AF28 -> 217 | AG31: =+AD31+AE31+AC31+AF31 -> 217 | AH31: =AH23+AH27+AH28 -> 217 | AI31: =AI23+AI27+AI28 -> 0 | AJ31: =AJ23+AJ27+AJ28 -> 0 | AR31: =AR23+AR27+AR28 -> 0 | AS31: =AS23+AS27+AS28 -> 0 | AT31: =AT23+AT27+AT28 -> 0 | AU31: =AU23+AU27+AU28 -> 1500 | AV31: =+AS31+AT31+AR31+AU31 -> 1500 | AW31: =AW23+AW27+AW28 -> 1500 | AX31: =AX23+AX27+AX28 -> 0 | AY31: =AY23+AY27+AY28 -> 0 | AZ31: =AZ23+AZ27+AZ28 -> 0 | BA31: =BA23+BA27+BA28 -> 0 | BB31: =SUM(BR31,BZ31,BJ31) -> 0 | BC31: =SUM(BS31,CA31,BK31) -> 0 | BD31: =SUM(AZ31:BC31) -> 0 | BE31: =BE23+BE27+BE28 -> 0 | BF31: =BF23+BF27+BF28 -> 0 | BG31: =BG23+BG27+BG28 -> 0 | BH31: =BH23+BH27+BH28 -> 0 | BI31: =BI23+BI27+BI28 -> 0 | BJ31: =BJ23+BJ27+BJ28 -> 0 | BK31: =BK23+BK27+BK28 -> 0 | BL31: =+BI31+BJ31+BH31+BK31 -> 0 | BM31: =BM23+BM27+BM28 -> 0 | BN31: =BN23+BN27+BN28 -> 0 | BO31: =BO23+BO27+BO28 -> 0 | BP31: =BP23+BP27+BP28 -> 0 | BQ31: =BQ23+BQ27+BQ28 -> 0 | BR31: =BR23+BR27+BR28 -> 0 | BS31: =BS23+BS27+BS28 -> 0 | BT31: =+BQ31+BR31+BP31+BS31 -> 0 | BU31: =BU23+BU27+BU28 -> 0 | BV31: =BV23+BV27+BV28 -> 0 | BW31: =BW23+BW27+BW28 -> 0 | BX31: =BX23+BX27+BX28 -> 0 | BY31: =BY23+BY27+BY28 -> 0 | BZ31: =BZ23+BZ27+BZ28 -> 0 | CA31: =CA23+CA27+CA28 -> 0 | CB31: =SUM(BX31:BZ31)+CA31 -> 0 | CC31: =CC23+CC27+CC28 -> 0 | CD31: =CD23+CD27+CD28 -> 0 | CE31: =CE23+CE27+CE28 -> 0 | CF31: =CF23+CF27+CF28 -> 0 | CG31: =CG23+CG27+CG28 -> 0 | CH31: =CH23+CH27+CH28 -> 0 | CI31: =CI23+CI27+CI28 -> 0 | CJ31: =SUM(CQ31,CX31,DE31,DL31,DS31,DZ31,EG31,EN31,EU31,FB31,FI31,FP31,FW31,GD31,GK31,GR31,GY31,HF31,HM31,HT31,IA31,IH31,IO31,IV31)+JD31 -> 0 | CK31: =SUM(CR31,CY31,DF31,DM31,DT31,EA31,EH31,EO31,EV31,FC31,FJ31,FQ31,FX31,GE31,GL31,GS31,GZ31,HG31,HN31,HU31,IB31,II31,IP31,IW31)+JE31 -> 0 | CL31: =SUM(CS31,CZ31,DG31,DN31,DU31,EB31,EI31,EP31,EW31,FD31,FK31,FR31,FY31,GF31,GM31,GT31,HA31,HH31,HO31,HV31,IC31,IJ31,IQ31,IX31)+JF31 -> 0 | CM31: =SUM(CT31,DA31,DH31,DO31,DV31,EC31,EJ31,EQ31,EX31,FE31,FL31,FS31,FZ31,GG31,GN31,GU31,HB31,HI31,HP31,HW31,ID31,IK31,IR31,IY31)+JG31 -> 0 | CN31: =CN23+CN27+CN28 -> 0 | CO31: =CO23+CO27+CO28 -> 0 | CP31: =CP23+CP27+CP28 -> 0 | CQ31: =+CO31+CP31 -> 0 | CR31: =CR23+CR27+CR28 -> 0 | CS31: =CS23+CS27+CS28 -> 0 | CT31: =CT23+CT27+CT28 -> 0 | CU31: =CU23+CU27+CU28 -> 0 | CV31: =CV23+CV27+CV28 -> 0 | CW31: =CW23+CW27+CW28 -> 0 | CX31: =+CV31+CW31 -> 0 | CY31: =CY23+CY27+CY28 -> 0 | CZ31: =CZ23+CZ27+CZ28 -> 0 | DA31: =DA23+DA27+DA28 -> 0 | DB31: =DB23+DB27+DB28 -> 0 | DC31: =DC23+DC27+DC28 -> 0 | DD31: =DD23+DD27+DD28 -> 0 | DE31: =+DC31+DD31 -> 0 | DF31: =DF23+DF27+DF28 -> 0 | DG31: =DG23+DG27+DG28 -> 0 | DH31: =DH23+DH27+DH28 -> 0 | DI31: =DI23+DI27+DI28 -> 0 | DJ31: =DJ23+DJ27+DJ28 -> 0 | DK31: =DK23+DK27+DK28 -> 0 | DL31: =+DJ31+DK31 -> 0 | DM31: =DM23+DM27+DM28 -> 0 | DN31: =DN23+DN27+DN28 -> 0 | DO31: =DO23+DO27+DO28 -> 0 | DP31: =DP23+DP27+DP28 -> 0 | DQ31: =DQ23+DQ27+DQ28 -> 0 | DR31: =DR23+DR27+DR28 -> 0 | DS31: =+DQ31+DR31 -> 0 | DT31: =DT23+DT27+DT28 -> 0 | DU31: =DU23+DU27+DU28 -> 0 | DV31: =DV23+DV27+DV28 -> 0 | DW31: =DW23+DW27+DW28 -> 0 | DX31: =DX23+DX27+DX28 -> 0 | DY31: =DY23+DY27+DY28 -> 0 | DZ31: =+DX31+DY31 -> 0 | EA31: =EA23+EA27+EA28 -> 0 | EB31: =EB23+EB27+EB28 -> 0 | EC31: =EC23+EC27+EC28 -> 0 | ED31: =ED23+ED27+ED28 -> 0 | EE31: =EE23+EE27+EE28 -> 0 | EF31: =EF23+EF27+EF28 -> 0 | EG31: =+EE31+EF31 -> 0 | EH31: =EH23+EH27+EH28 -> 0 | EI31: =EI23+EI27+EI28 -> 0 | EJ31: =EJ23+EJ27+EJ28 -> 0 | EK31: =EK23+EK27+EK28 -> 0 | EL31: =EL23+EL27+EL28 -> 0 | EM31: =EM23+EM27+EM28 -> 0 | EN31: =+EL31+EM31 -> 0 | EO31: =EO23+EO27+EO28 -> 0 | EP31: =EP23+EP27+EP28 -> 0 | EQ31: =EQ23+EQ27+EQ28 -> 0 | ER31: =ER23+ER27+ER28 -> 0 | ES31: =ES23+ES27+ES28 -> 0 | ET31: =ET23+ET27+ET28 -> 0 | EU31: =+ES31+ET31 -> 0 | EV31: =EV23+EV27+EV28 -> 0 | EW31: =EW23+EW27+EW28 -> 0 | EX31: =EX23+EX27+EX28 -> 0 | EY31: =EY23+EY27+EY28 -> 0 | EZ31: =EZ23+EZ27+EZ28 -> 0 | FA31: =FA23+FA27+FA28 -> 0 | FB31: =+EZ31+FA31 -> 0 | FC31: =FC23+FC27+FC28 -> 0 | FD31: =FD23+FD27+FD28 -> 0 | FE31: =FE23+FE27+FE28 -> 0 | FF31: =FF23+FF27+FF28 -> 0 | FG31: =FG23+FG27+FG28 -> 0 | FH31: =FH23+FH27+FH28 -> 0 | FI31: =+FG31+FH31 -> 0 | FJ31: =FJ23+FJ27+FJ28 -> 0 | FK31: =FK23+FK27+FK28 -> 0 | FL31: =FL23+FL27+FL28 -> 0 | FM31: =FM23+FM27+FM28 -> 0 | FN31: =FN23+FN27+FN28 -> 0 | FO31: =FO23+FO27+FO28 -> 0 | FP31: =+FN31+FO31 -> 0 | FQ31: =FQ23+FQ27+FQ28 -> 0 | FR31: =FR23+FR27+FR28 -> 0 | FS31: =FS23+FS27+FS28 -> 0 | FT31: =FT23+FT27+FT28 -> 0 | FU31: =FU23+FU27+FU28 -> 0 | FV31: =FV23+FV27+FV28 -> 0 | FW31: =+FU31+FV31 -> 0 | FX31: =FX23+FX27+FX28 -> 0 | FY31: =FY23+FY27+FY28 -> 0 | FZ31: =FZ23+FZ27+FZ28 -> 0 | GA31: =GA23+GA27+GA28 -> 0 | GB31: =GB23+GB27+GB28 -> 0 | GC31: =GC23+GC27+GC28 -> 0 | GD31: =+GB31+GC31 -> 0 | GE31: =GE23+GE27+GE28 -> 0 | GF31: =GF23+GF27+GF28 -> 0 | GG31: =GG23+GG27+GG28 -> 0 | GH31: =GH23+GH27+GH28 -> 0 | GI31: =GI23+GI27+GI28 -> 0 | GJ31: =GJ23+GJ27+GJ28 -> 0 | GK31: =+GI31+GJ31 -> 0 | GL31: =GL23+GL27+GL28 -> 0 | GM31: =GM23+GM27+GM28 -> 0 | GN31: =GN23+GN27+GN28 -> 0 | GO31: =GO23+GO27+GO28 -> 0 | GP31: =GP23+GP27+GP28 -> 0 | GQ31: =GQ23+GQ27+GQ28 -> 0 | GR31: =+GP31+GQ31 -> 0 | GS31: =GS23+GS27+GS28 -> 0 | GT31: =GT23+GT27+GT28 -> 0 | GU31: =GU23+GU27+GU28 -> 0 | GV31: =GV23+GV27+GV28 -> 0 | GW31: =GW23+GW27+GW28 -> 0 | GX31: =GX23+GX27+GX28 -> 0 | GY31: =+GW31+GX31 -> 0 | GZ31: =GZ23+GZ27+GZ28 -> 0 | HA31: =HA23+HA27+HA28 -> 0 | HB31: =HB23+HB27+HB28 -> 0 | HC31: =HC23+HC27+HC28 -> 0 | HD31: =HD23+HD27+HD28 -> 0 | HE31: =HE23+HE27+HE28 -> 0 | HF31: =+HD31+HE31 -> 0 | HG31: =HG23+HG27+HG28 -> 0 | HH31: =HH23+HH27+HH28 -> 0 | HI31: =HI23+HI27+HI28 -> 0 | HJ31: =HJ23+HJ27+HJ28 -> 0 | HK31: =HK23+HK27+HK28 -> 0 | HL31: =HL23+HL27+HL28 -> 0 | HM31: =+HK31+HL31 -> 0 | HN31: =HN23+HN27+HN28 -> 0 | HO31: =HO23+HO27+HO28 -> 0 | HP31: =HP23+HP27+HP28 -> 0 | HQ31: =HQ23+HQ27+HQ28 -> 0 | HR31: =HR23+HR27+HR28 -> 0 | HS31: =HS23+HS27+HS28 -> 0 | HT31: =+HR31+HS31 -> 0 | HU31: =HU23+HU27+HU28 -> 0 | HV31: =HV23+HV27+HV28 -> 0 | HW31: =HW23+HW27+HW28 -> 0 | HX31: =HX23+HX27+HX28 -> 0 | HY31: =HY23+HY27+HY28 -> 0 | HZ31: =HZ23+HZ27+HZ28 -> 0 | IA31: =+HY31+HZ31 -> 0 | IB31: =IB23+IB27+IB28 -> 0 | IC31: =IC23+IC27+IC28 -> 0 | ID31: =ID23+ID27+ID28 -> 0 | IE31: =IE23+IE27+IE28 -> 0 | IF31: =IF23+IF27+IF28 -> 0 | IG31: =IG23+IG27+IG28 -> 0 | IH31: =+IF31+IG31 -> 0 | II31: =II23+II27+II28 -> 0 | IJ31: =IJ23+IJ27+IJ28 -> 0 | IK31: =IK23+IK27+IK28 -> 0 | IL31: =IL23+IL27+IL28 -> 0 | IM31: =IM23+IM27+IM28 -> 0 | IN31: =IN23+IN27+IN28 -> 0 | IO31: =+IM31+IN31 -> 0 | IP31: =IP23+IP27+IP28 -> 0 | IQ31: =IQ23+IQ27+IQ28 -> 0 | IR31: =IR23+IR27+IR28 -> 0 | IS31: =IS23+IS27+IS28 -> 0 | IT31: =IT23+IT27+IT28 -> 0 | IU31: =IU23+IU27+IU28 -> 0 | IV31: =+IT31+IU31 -> 0 | IW31: =IW23+IW27+IW28 -> 0 | IX31: =IX23+IX27+IX28 -> 0 | IY31: =IY23+IY27+IY28 -> 0 | IZ31: =IZ23+IZ27+IZ28 -> 0 | JA31: =JA23+JA27+JA28 -> 0 | JB31: =JB23+JB27+JB28 -> 0 | JC31: =JC23+JC27+JC28 -> 0 | JD31: =+JA31+JB31+IZ31+JC31 -> 0 | JE31: =JE23+JE27+JE28 -> 0 | JF31: =JF23+JF27+JF28 -> 0 | JG31: =JG23+JG27+JG28 -> 0
A32: KÖLTSÉGVETÉSI BEVÉTELEK ÖSSZESEN | D32: =SUM(M32,U32,AC32,AK32,AR32,BH32,BP32,BX32,CN32,CU32,DB32,DI32,DP32,DW32,ED32,EK32)+SUM(ER32,EY32,FF32,FM32,FT32,GA32,GH32,GO32,GV32,HC32,HJ32,HQ32,HX32,IE32,IL32,IS32) -> 34858989 | E32: 0 | F32: =+N32+V32+AD32+AS32+BA32+CG32 -> 496954 | G32: =+O32+W32+AE32+AT32+BB32+CH32 -> 1269558.5 | H32: =+P32+X32+AF32+AU32+BC32+CI32 -> -7035990 | I32: =+Q32+Y32+AG32+AV32+BD32+CJ32 -> 29589512 | J32: =+R32+Z32+AH32+AW32+BE32+CK32 -> 20882224 | K32: =+S32+AA32+AI32+AX32+BF32+CL32 -> 8687904 | L32: =+T32+AB32 -> 19383 | M32: =+M31+M22 -> 30842954 | N32: =+N31+N22 -> 496954 | O32: =+O31+O22 -> 1056906.5 | P32: =+P31+P22 -> -7092708 | Q32: =SUM(M32:P32) -> 25304106 | R32: =+Q32-S32-T32 -> 17403614 | S32: =S22+S31 -> 7900493 | T32: =T22+T31 -> 0 | U32: =U22+U31 -> 704098 | V32: =V22+V31 -> 0 | W32: =W22+W31 -> 168000 | X32: =X22+X31 -> -331492 | Y32: =+V32+U32+W32+X32 -> 540606 | Z32: =Y32-AA32-AB32 -> 518759 | AA32: =AA22+AA31 -> 2464 | AB32: =AB22+AB31 -> 19383 | AC32: =AC22+AC31 -> 2740452 | AD32: =AD22+AD31 -> 0 | AE32: =AE22+AE31 -> 44515 | AF32: =AF22+AF31 -> 348852 | AG32: =+AD32+AE32+AC32+AF32 -> 3133819 | AH32: =AH22+AH31 -> 2379846 | AI32: =AI22+AI31 -> 753973 | AJ32: =AJ22+AJ31 -> 0 | AR32: =AR22+AR31 -> 25000 | AS32: =AS22+AS31 -> 0 | AT32: =AT22+AT31 -> 139 | AU32: =AU22+AU31 -> 2874 | AV32: =+AS32+AT32+AR32+AU32 -> 28013 | AW32: =AW22+AW31 -> 28013 | AX32: =AX22+AX31 -> 0 | AY32: =AY22+AY31 -> 0 | AZ32: =AZ22+AZ31 -> 342997 | BA32: =BA22+BA31 -> 0 | BB32: =SUM(BR32,BZ32,BJ32) -> 0 | BC32: =SUM(BS32,CA32,BK32) -> 28213 | BD32: =SUM(AZ32:BC32) -> 371210 | BE32: =BE22+BE31 -> 340236 | BF32: =BF22+BF31 -> 30974 | BG32: =BG22+BG31 -> 0 | BH32: =BH22+BH31 -> 214058 | BI32: =BI22+BI31 -> 0 | BJ32: =BJ22+BJ31 -> 0 | BK32: =BK22+BK31 -> 1451 | BL32: =+BI32+BJ32+BH32+BK32 -> 215509 | BM32: =BM22+BM31 -> 215509 | BN32: =BN22+BN31 -> 0 | BO32: =BO22+BO31 -> 0 | BP32: =BP22+BP31 -> 60 | BQ32: =BQ22+BQ31 -> 0 | BR32: =BR22+BR31 -> 0 | BS32: =BS22+BS31 -> 136 | BT32: =+BQ32+BR32+BP32+BS32 -> 196 | BU32: =BU22+BU31 -> 196 | BV32: =BV22+BV31 -> 0 | BW32: =BW22+BW31 -> 0 | BX32: =BX22+BX31 -> 128879 | BY32: =BY22+BY31 -> 0 | BZ32: =BZ22+BZ31 -> 0 | CA32: =CA22+CA31 -> 26626 | CB32: =SUM(BX32:BZ32)+CA32 -> 155505 | CC32: =CC22+CC31 -> 124531 | CD32: =CD22+CD31 -> 30974 | CE32: =CE22+CE31 -> 0 | CF32: =CF22+CF31 -> 203488 | CG32: =CG22+CG31 -> 0 | CH32: =CH22+CH31 -> -2 | CI32: =CI22+CI31 -> 8271 | CJ32: =SUM(CQ32,CX32,DE32,DL32,DS32,DZ32,EG32,EN32,EU32,FB32,FI32,FP32,FW32,GD32,GK32,GR32,GY32,HF32,HM32,HT32,IA32,IH32,IO32,IV32)+JD32 -> 211757 | CK32: =SUM(CR32,CY32,DF32,DM32,DT32,EA32,EH32,EO32,EV32,FC32,FJ32,FQ32,FX32,GE32,GL32,GS32,GZ32,HG32,HN32,HU32,IB32,II32,IP32,IW32)+JE32 -> 211757 | CL32: =SUM(CS32,CZ32,DG32,DN32,DU32,EB32,EI32,EP32,EW32,FD32,FK32,FR32,FY32,GF32,GM32,GT32,HA32,HH32,HO32,HV32,IC32,IJ32,IQ32,IX32)+JF32 -> 0 | CM32: =SUM(CT32,DA32,DH32,DO32,DV32,EC32,EJ32,EQ32,EX32,FE32,FL32,FS32,FZ32,GG32,GN32,GU32,HB32,HI32,HP32,HW32,ID32,IK32,IR32,IY32)+JG32 -> 10947 | CN32: =CN22+CN31 -> 3532 | CO32: =CO22+CO31 -> 0 | CP32: =CP22+CP31 -> -1167 | CQ32: =SUM(CN32:CP32) -> 2365 | CR32: =CR22+CR31 -> 2365 | CS32: =CS22+CS31 -> 0 | CT32: =CT22+CT31 -> 0 | CU32: =CU22+CU31 -> 10979 | CV32: =CV22+CV31 -> 0 | CW32: =CW22+CW31 -> -7715 | CX32: =SUM(CU32:CW32) -> 3264 | CY32: =CY22+CY31 -> 3264 | CZ32: =CZ22+CZ31 -> 0 | DA32: =DA22+DA31 -> 0 | DB32: =DB22+DB31 -> 8718 | DC32: =DC22+DC31 -> 0 | DD32: =DD22+DD31 -> -4839 | DE32: =SUM(DB32:DD32) -> 3879 | DF32: =DF22+DF31 -> 3879 | DG32: =DG22+DG31 -> 0 | DH32: =DH22+DH31 -> 0 | DI32: =DI22+DI31 -> 6891 | DJ32: =DJ22+DJ31 -> 0 | DK32: =DK22+DK31 -> -3539 | DL32: =SUM(DI32:DK32) -> 3352 | DM32: =DM22+DM31 -> 3352 | DN32: =DN22+DN31 -> 0 | DO32: =DO22+DO31 -> 0 | DP32: =DP22+DP31 -> 3603 | DQ32: =DQ22+DQ31 -> 0 | DR32: =DR22+DR31 -> -2581 | DS32: =SUM(DP32:DR32) -> 1022 | DT32: =DT22+DT31 -> 1022 | DU32: =DU22+DU31 -> 0 | DV32: =DV22+DV31 -> 0 | DW32: =DW22+DW31 -> 14092 | DX32: =DX22+DX31 -> 0 | DY32: =DY22+DY31 -> -7450 | DZ32: =SUM(DW32:DY32) -> 6642 | EA32: =EA22+EA31 -> 6642 | EB32: =EB22+EB31 -> 0 | EC32: =EC22+EC31 -> 0 | ED32: =ED22+ED31 -> 15210 | EE32: =EE22+EE31 -> 0 | EF32: =EF22+EF31 -> -7920 | EG32: =SUM(ED32:EF32) -> 7290 | EH32: =EH22+EH31 -> 7290 | EI32: =EI22+EI31 -> 0 | EJ32: =EJ22+EJ31 -> 0 | EK32: =EK22+EK31 -> 8693 | EL32: =EL22+EL31 -> 0 | EM32: =EM22+EM31 -> -3787 | EN32: =SUM(EK32:EM32) -> 4906 | EO32: =EO22+EO31 -> 4906 | EP32: =EP22+EP31 -> 0 | EQ32: =EQ22+EQ31 -> 0 | ER32: =ER22+EU31 -> 11655 | ES32: =ES22+EV31 -> 0 | ET32: =ET22+ET31 -> -7021 | EU32: =SUM(ER32:ET32) -> 4634 | EV32: =EV22+EV31 -> 4634 | EW32: =EW22+EW31 -> 0 | EX32: =EX22+EX31 -> 0 | EY32: =EY22+EY31 -> 11244 | EZ32: =EZ22+EZ31 -> 0 | FA32: =FA22+FA31 -> -5389 | FB32: =SUM(EY32:FA32) -> 5855 | FC32: =FC22+FC31 -> 5855 | FD32: =FD22+FD31 -> 0 | FE32: =FE22+FE31 -> 0 | FF32: =FF22+FF31 -> 6306 | FG32: =FG22+FG31 -> 0 | FH32: =FH22+FH31 -> -2371 | FI32: =SUM(FF32:FH32) -> 3935 | FJ32: =FJ22+FJ31 -> 3935 | FK32: =FK22+FK31 -> 0 | FL32: =FL22+FL31 -> 0 | FM32: =FM22+FM31 -> 7489 | FN32: =FN22+FN31 -> 0 | FO32: =FO22+FO31 -> -2845 | FP32: =SUM(FM32:FO32) -> 4644 | FQ32: =FQ22+FQ31 -> 4644 | FR32: =FR22+FR31 -> 0 | FS32: =FS22+FS31 -> 0 | FT32: =FT22+FT31 -> 4437 | FU32: =FU22+FU31 -> 0 | FV32: =FV22+FV31 -> -1405 | FW32: =SUM(FT32:FV32) -> 3032 | FX32: =FX22+FX31 -> 3032 | FY32: =FY22+FY31 -> 0 | FZ32: =FZ22+FZ31 -> 0 | GA32: =GA22+GA31 -> 9052 | GB32: =GB22+GB31 -> 0 | GC32: =GC22+GC31 -> -4536 | GD32: =SUM(GA32:GC32) -> 4516 | GE32: =GE22+GE31 -> 4516 | GF32: =GF22+GF31 -> 0 | GG32: =GG22+GG31 -> 0 | GH32: =GH22+GH31 -> 9685 | GI32: =GI22+GI31 -> 0 | GJ32: =GJ22+GJ31 -> -4968 | GK32: =SUM(GH32:GJ32) -> 4717 | GL32: =GL22+GL31 -> 4717 | GM32: =GM22+GM31 -> 0 | GN32: =GN22+GN31 -> 0 | GO32: =GO22+GO31 -> 5495 | GP32: =GP22+GP31 -> 0 | GQ32: =GQ22+GQ31 -> -2277 | GR32: =SUM(GO32:GQ32) -> 3218 | GS32: =GS22+GS31 -> 3218 | GT32: =GT22+GT31 -> 0 | GU32: =GU22+GU31 -> 0 | GV32: =GV22+GV31 -> 9561 | GW32: =GW22+GW31 -> 0 | GX32: =GX22+GX31 -> -4779 | GY32: =SUM(GV32:GX32) -> 4782 | GZ32: =GZ22+GZ31 -> 4782 | HA32: =HA22+HA31 -> 0 | HB32: =HB22+HB31 -> 0 | HC32: =HC22+HC31 -> 4090 | HD32: =HD22+HD31 -> 0 | HE32: =HE22+HE31 -> -1915 | HF32: =SUM(HC32:HE32) -> 2175 | HG32: =HG22+HG31 -> 2175 | HH32: =HH22+HH31 -> 0 | HI32: =HI22+HI31 -> 0 | HJ32: =HJ22+HJ31 -> 3490 | HK32: =HK22+HK31 -> 0 | HL32: =HL22+HL31 -> -1533 | HM32: =SUM(HJ32:HL32) -> 1957 | HN32: =HN22+HN31 -> 1957 | HO32: =HO22+HO31 -> 0 | HP32: =HP22+HP31 -> 0 | HQ32: =HQ22+HQ31 -> 4950 | HR32: =HR22+HR31 -> 0 | HS32: =HS22+HS31 -> -2234 | HT32: =SUM(HQ32:HS32) -> 2716 | HU32: =HU22+HU31 -> 2716 | HV32: =HV22+HV31 -> 0 | HW32: =HW22+HW31 -> 0 | HX32: =HX22+HX31 -> 16996 | HY32: =HY22+HY31 -> 0 | HZ32: =HZ22+HZ31 -> -8948 | IA32: =SUM(HX32:HZ32) -> 8048 | IB32: =IB22+IB31 -> 8048 | IC32: =IC22+IC31 -> 0 | ID32: =ID22+ID31 -> 0 | IE32: =IE22+IE31 -> 6729 | IF32: =IF22+IF31 -> 0 | IG32: =IG22+IG31 -> -3672 | IH32: =SUM(IE32:IG32) -> 3057 | II32: =II22+II31 -> 3057 | IJ32: =IJ22+IJ31 -> 0 | IK32: =IK22+IK31 -> 0 | IL32: =IL22+IL31 -> 6178 | IM32: =IM22+IM31 -> 0 | IN32: =IN22+IN31 -> -2714 | IO32: =SUM(IL32:IN32) -> 3464 | IP32: =IP22+IP31 -> 3464 | IQ32: =IQ22+IQ31 -> 0 | IR32: =IR22+IR31 -> 0 | IS32: =IS22+IS31 -> 14413 | IT32: =IT22+IT31 -> 0 | IU32: =IU22+IU31 -> -8047 | IV32: =SUM(IS32:IU32) -> 6366 | IW32: =IW22+IW31 -> 6366 | IX32: =IX22+IX31 -> 0 | IY32: =IY22+IY31 -> 10947 | IZ32: =IZ22+IZ31 -> 0 | JA32: =JA22+JA31 -> 0 | JB32: =JB22+JB31 -> 103650 | JC32: =JC22+JC31 -> 8271 | JD32: =+JA32+JB32+IZ32+JC32 -> 111921 | JE32: =JE22+JE31 -> 111921 | JF32: =JF22+JF31 -> 0 | JG32: =JG22+JG31 -> 0
A33: 10. | B33: Finanszírozási bevételek | Q33: =SUM(M33:P33) -> 0 | AG33: =+AD33+AE33+AC33+AF33 -> 0 | AV33: =+AS33+AT33+AR33+AU33 -> 0 | BD33: =SUM(AZ33:BC33) -> 0 | BL33: =+BI33+BJ33+BH33+BK33 -> 0 | BT33: =+BQ33+BR33+BP33+BS33 -> 0 | CB33: =SUM(BX33:BZ33)+CA33 -> 0 | JD33: =+JA33+JB33+IZ33+JC33 -> 0
B34: a) | C34: hitelek, kölcsönök felvétele (folyószámla hitelkeret) | D34: =SUM(M34,U34,AC34,AK34,AR34,BH34,BP34,BX34,CN34,CU34,DB34,DI34,DP34,DW34,ED34,EK34)+SUM(ER34,EY34,FF34,FM34,FT34,GA34,GH34,GO34,GV34,HC34,HJ34,HQ34,HX34,IE34,IL34,IS34) -> 2000000 | E34: =SUM(,W34,AE34,AM34,AT34,BJ34,BR34,BZ34,CP34,CW34,DD34,DK34,DR34,DY34,EF34,EM34)+SUM(ET34,FA34,FH34,FO34,FV34,GC34,GJ34,GQ34,GX34,HE34,HL34,HS34,HZ34,IG34,IN34,IU34) -> 0 | F34: =+N34+V34+AD34+AS34+BA34+CG34 -> 0 | G34: =+O34+W34+AE34+AT34+BB34+CH34 -> 0 | H34: =+P34+X34+AF34+AU34+BC34+CI34 -> 0 | I34: =+Q34+Y34+AG34+AV34+BD34+CJ34 -> 2000000 | J34: =+R34+Z34+AH34+AW34+BE34+CK34 -> 0 | K34: =+S34+AA34+AI34+AX34+BF34+CL34 -> 2000000 | L34: =+T34+AB34 -> 0 | M34: 2000000 | Q34: =SUM(M34:P34) -> 2000000 | R34: =+Q34-S34 -> 0 | S34: 2000000 | Z34: =Y34-AA34-AB34 -> 0 | AG34: =+AD34+AE34+AC34+AF34 -> 0 | AH34: =AG34-AI34-AJ34 -> 0 | AV34: =+AS34+AT34+AR34+AU34 -> 0 | AW34: =AV34-AX34-AY34 -> 0 | AZ34: =SUM(BP34,BX34,BH34) -> 0 | BA34: =SUM(BQ34,BY34,BI34) -> 0 | BB34: =SUM(BR34,BZ34,BJ34) -> 0 | BC34: =SUM(BS34,CA34,BK34) -> 0 | BD34: =SUM(AZ34:BC34) -> 0 | BE34: =SUM(BU34,CC34,BM34) -> 0 | BF34: =SUM(BV34,CD34,BN34) -> 0 | BG34: =SUM(BW34,CE34,BO34) -> 0 | BL34: =+BI34+BJ34+BH34+BK34 -> 0 | BM34: =BL34-BN34-BO34 -> 0 | BT34: =+BQ34+BR34+BP34+BS34 -> 0 | BU34: =BT34-BV34-BW34 -> 0 | CB34: =SUM(BX34:BZ34)+CA34 -> 0 | CC34: =CB34-CD34-CE34 -> 0 | CF34: =SUM(CN34,CU34,DB34,DI34,DP34,DW34,ED34,EK34,ER34,EY34,FF34,FM34,FT34,GA34,GH34,GO34,GV34,HC34,HJ34,HQ34,HX34,IE34,IL34,IS34) -> 0 | CG34: =SUM(CO34,CV34,DC34,DJ34,DQ34,DX34,EE34,EL34,ES34,EZ34,FG34,FN34,FU34,GB34,GI34,GP34,GW34,HD34,HK34,HR34,HY34,IF34,IM34,IT34) -> 0 | CH34: =SUM(CP34,CW34,DD34,DK34,DR34,DY34,EF34,EM34,ET34,FA34,FH34,FO34,FV34,GC34,GJ34,GQ34,GX34,HE34,HL34,HS34,HZ34,IG34,IN34,IU34) -> 0 | CI34: =JC34 -> 0 | CJ34: =SUM(CQ34,CX34,DE34,DL34,DS34,DZ34,EG34,EN34,EU34,FB34,FI34,FP34,FW34,GD34,GK34,GR34,GY34,HF34,HM34,HT34,IA34,IH34,IO34,IV34)+JD34 -> 0 | CK34: =SUM(CR34,CY34,DF34,DM34,DT34,EA34,EH34,EO34,EV34,FC34,FJ34,FQ34,FX34,GE34,GL34,GS34,GZ34,HG34,HN34,HU34,IB34,II34,IP34,IW34)+JE34 -> 0 | CL34: =SUM(CS34,CZ34,DG34,DN34,DU34,EB34,EI34,EP34,EW34,FD34,FK34,FR34,FY34,GF34,GM34,GT34,HA34,HH34,HO34,HV34,IC34,IJ34,IQ34,IX34)+JF34 -> 0 | CM34: =SUM(CT34,DA34,DH34,DO34,DV34,EC34,EJ34,EQ34,EX34,FE34,FL34,FS34,FZ34,GG34,GN34,GU34,HB34,HI34,HP34,HW34,ID34,IK34,IR34,IY34)+JG34 -> 0 | CQ34: =+CO34+CP34 -> 0 | CR34: =CQ34-CS34-CT34 -> 0 | CX34: =+CV34+CW34 -> 0 | CY34: =CX34-CZ34-DA34 -> 0 | DE34: =+DC34+DD34 -> 0 | DF34: =DE34-DG34-DH34 -> 0 | DL34: =+DJ34+DK34 -> 0 | DM34: =DL34-DN34-DO34 -> 0 | DS34: =+DQ34+DR34 -> 0 | DT34: =DS34-DU34-DV34 -> 0 | DZ34: =+DX34+DY34 -> 0 | EA34: =DZ34-EB34-EC34 -> 0 | EG34: =+EE34+EF34 -> 0 | EH34: =EG34-EI34-EJ34 -> 0 | EN34: =+EL34+EM34 -> 0 | EO34: =EN34-EP34-EQ34 -> 0 | EU34: =+ES34+ET34 -> 0 | EV34: =EU34-EW34-EX34 -> 0 | FB34: =+EZ34+FA34 -> 0 | FC34: =FB34-FD34-FE34 -> 0 | FI34: =+FG34+FH34 -> 0 | FJ34: =FI34-FK34-FL34 -> 0 | FP34: =+FN34+FO34 -> 0 | FQ34: =FP34-FR34-FS34 -> 0 | FW34: =+FU34+FV34 -> 0 | FX34: =FW34-FY34-FZ34 -> 0 | GD34: =+GB34+GC34 -> 0 | GE34: =GD34-GF34-GG34 -> 0 | GK34: =+GI34+GJ34 -> 0 | GL34: =GK34-GM34-GN34 -> 0 | GR34: =+GP34+GQ34 -> 0 | GS34: =GR34-GT34-GU34 -> 0 | GY34: =+GW34+GX34 -> 0 | GZ34: =GY34-HA34-HB34 -> 0 | HF34: =+HD34+HE34 -> 0 | HG34: =HF34-HH34-HI34 -> 0 | HM34: =+HK34+HL34 -> 0 | HN34: =HM34-HO34-HP34 -> 0 | HT34: =+HR34+HS34 -> 0 | HU34: =HT34-HV34-HW34 -> 0 | IA34: =+HY34+HZ34 -> 0 | IB34: =IA34-IC34-ID34 -> 0 | IH34: =+IF34+IG34 -> 0 | II34: =IH34-IJ34-IK34 -> 0 | IO34: =+IM34+IN34 -> 0 | IP34: =IO34-IQ34-IR34 -> 0 | IV34: =+IT34+IU34 -> 0 | IW34: =IV34-IX34-IY34 -> 0 | JD34: =+JA34+JB34+IZ34+JC34 -> 0 | JE34: =JD34-JF34-JG34 -> 0
B35: b) | C35: értékpapírok kibocsátása, beváltása, értékesítése | D35: =SUM(M35,U35,AC35,AK35,AR35,BH35,BP35,BX35,CN35,CU35,DB35,DI35,DP35,DW35,ED35,EK35)+SUM(ER35,EY35,FF35,FM35,FT35,GA35,GH35,GO35,GV35,HC35,HJ35,HQ35,HX35,IE35,IL35,IS35) -> 259 | E35: =SUM(,W35,AE35,AM35,AT35,BJ35,BR35,BZ35,CP35,CW35,DD35,DK35,DR35,DY35,EF35,EM35)+SUM(ET35,FA35,FH35,FO35,FV35,GC35,GJ35,GQ35,GX35,HE35,HL35,HS35,HZ35,IG35,IN35,IU35) -> 0 | F35: =+N35+V35+AD35+AS35+BA35+CG35 -> 0 | G35: =+O35+W35+AE35+AT35+BB35+CH35 -> 0 | H35: =+P35+X35+AF35+AU35+BC35+CI35 -> 0 | I35: =+Q35+Y35+AG35+AV35+BD35+CJ35 -> 259 | J35: =+R35+Z35+AH35+AW35+BE35+CK35 -> 0 | K35: =+S35+AA35+AI35+AX35+BF35+CL35 -> 259 | L35: =+T35+AB35 -> 0 | M35: 259 | Q35: =SUM(M35:P35) -> 259 | R35: =+Q35-S35 -> 0 | S35: 259 | Z35: =Y35-AA35-AB35 -> 0 | AG35: =+AD35+AE35+AC35+AF35 -> 0 | AV35: =+AS35+AT35+AR35+AU35 -> 0 | AZ35: =SUM(BP35,BX35,BH35) -> 0 | BA35: =SUM(BQ35,BY35,BI35) -> 0 | BB35: =SUM(BR35,BZ35,BJ35) -> 0 | BC35: =SUM(BS35,CA35,BK35) -> 0 | BD35: =SUM(AZ35:BC35) -> 0 | BE35: =SUM(BU35,CC35,BM35) -> 0 | BF35: =SUM(BV35,CD35,BN35) -> 0 | BG35: =SUM(BW35,CE35,BO35) -> 0 | BL35: =+BI35+BJ35+BH35+BK35 -> 0 | BT35: =+BQ35+BR35+BP35+BS35 -> 0 | CB35: =SUM(BX35:BZ35)+CA35 -> 0 | CF35: =SUM(CN35,CU35,DB35,DI35,DP35,DW35,ED35,EK35,ER35,EY35,FF35,FM35,FT35,GA35,GH35,GO35,GV35,HC35,HJ35,HQ35,HX35,IE35,IL35,IS35) -> 0 | CG35: =SUM(CO35,CV35,DC35,DJ35,DQ35,DX35,EE35,EL35,ES35,EZ35,FG35,FN35,FU35,GB35,GI35,GP35,GW35,HD35,HK35,HR35,HY35,IF35,IM35,IT35) -> 0 | CH35: =SUM(CP35,CW35,DD35,DK35,DR35,DY35,EF35,EM35,ET35,FA35,FH35,FO35,FV35,GC35,GJ35,GQ35,GX35,HE35,HL35,HS35,HZ35,IG35,IN35,IU35) -> 0 | CI35: =JC35 -> 0 | CJ35: =SUM(CQ35,CX35,DE35,DL35,DS35,DZ35,EG35,EN35,EU35,FB35,FI35,FP35,FW35,GD35,GK35,GR35,GY35,HF35,HM35,HT35,IA35,IH35,IO35,IV35)+JD35 -> 0 | CK35: =SUM(CR35,CY35,DF35,DM35,DT35,EA35,EH35,EO35,EV35,FC35,FJ35,FQ35,FX35,GE35,GL35,GS35,GZ35,HG35,HN35,HU35,IB35,II35,IP35,IW35)+JE35 -> 0 | CL35: =SUM(CS35,CZ35,DG35,DN35,DU35,EB35,EI35,EP35,EW35,FD35,FK35,FR35,FY35,GF35,GM35,GT35,HA35,HH35,HO35,HV35,IC35,IJ35,IQ35,IX35)+JF35 -> 0 | CM35: =SUM(CT35,DA35,DH35,DO35,DV35,EC35,EJ35,EQ35,EX35,FE35,FL35,FS35,FZ35,GG35,GN35,GU35,HB35,HI35,HP35,HW35,ID35,IK35,IR35,IY35)+JG35 -> 0 | CQ35: =+CO35+CP35 -> 0 | CX35: =+CV35+CW35 -> 0 | DE35: =+DC35+DD35 -> 0 | DL35: =+DJ35+DK35 -> 0 | DS35: =+DQ35+DR35 -> 0 | DZ35: =+DX35+DY35 -> 0 | EG35: =+EE35+EF35 -> 0 | EN35: =+EL35+EM35 -> 0 | EU35: =+ES35+ET35 -> 0 | FB35: =+EZ35+FA35 -> 0 | FI35: =+FG35+FH35 -> 0 | FP35: =+FN35+FO35 -> 0 | FW35: =+FU35+FV35 -> 0 | GD35: =+GB35+GC35 -> 0 | GK35: =+GI35+GJ35 -> 0 | GR35: =+GP35+GQ35 -> 0 | GY35: =+GW35+GX35 -> 0 | HF35: =+HD35+HE35 -> 0 | HM35: =+HK35+HL35 -> 0 | HT35: =+HR35+HS35 -> 0 | IA35: =+HY35+HZ35 -> 0 | IH35: =+IF35+IG35 -> 0 | IO35: =+IM35+IN35 -> 0 | IV35: =+IT35+IU35 -> 0 | JD35: =+JA35+JB35+IZ35+JC35 -> 0
B36: c) | C36: betét megszüntetése, visszautalása | D36: =SUM(M36,U36,AC36,AK36,AR36,BH36,BP36,BX36,CN36,CU36,DB36,DI36,DP36,DW36,ED36,EK36)+SUM(ER36,EY36,FF36,FM36,FT36,GA36,GH36,GO36,GV36,HC36,HJ36,HQ36,HX36,IE36,IL36,IS36) -> 0 | E36: =SUM(,W36,AE36,AM36,AT36,BJ36,BR36,BZ36,CP36,CW36,DD36,DK36,DR36,DY36,EF36,EM36)+SUM(ET36,FA36,FH36,FO36,FV36,GC36,GJ36,GQ36,GX36,HE36,HL36,HS36,HZ36,IG36,IN36,IU36) -> 0 | F36: =+N36+V36+AD36+AS36+BA36+CG36 -> 1000000 | G36: =+O36+W36+AE36+AT36+BB36+CH36 -> 0 | H36: =+P36+X36+AF36+AU36+BC36+CI36 -> 0 | I36: =+Q36+Y36+AG36+AV36+BD36+CJ36 -> 1000000 | J36: =+R36+Z36+AH36+AW36+BE36+CK36 -> 0 | K36: =+S36+AA36+AI36+AX36+BF36+CL36 -> 1000000 | L36: =+T36+AB36 -> 0 | N36: 1000000 | Q36: =SUM(M36:P36) -> 1000000 | R36: =+Q36-S36 -> 0 | S36: 1000000 | Z36: =Y36-AA36-AB36 -> 0 | AG36: =+AD36+AE36+AC36+AF36 -> 0 | AV36: =+AS36+AT36+AR36+AU36 -> 0 | AZ36: =SUM(BP36,BX36,BH36) -> 0 | BA36: =SUM(BQ36,BY36,BI36) -> 0 | BB36: =SUM(BR36,BZ36,BJ36) -> 0 | BC36: =SUM(BS36,CA36,BK36) -> 0 | BD36: =SUM(AZ36:BC36) -> 0 | BE36: =SUM(BU36,CC36,BM36) -> 0 | BF36: =SUM(BV36,CD36,BN36) -> 0 | BG36: =SUM(BW36,CE36,BO36) -> 0 | BL36: =+BI36+BJ36+BH36+BK36 -> 0 | BT36: =+BQ36+BR36+BP36+BS36 -> 0 | CB36: =SUM(BX36:BZ36)+CA36 -> 0 | CF36: =SUM(CN36,CU36,DB36,DI36,DP36,DW36,ED36,EK36,ER36,EY36,FF36,FM36,FT36,GA36,GH36,GO36,GV36,HC36,HJ36,HQ36,HX36,IE36,IL36,IS36) -> 0 | CG36: =SUM(CO36,CV36,DC36,DJ36,DQ36,DX36,EE36,EL36,ES36,EZ36,FG36,FN36,FU36,GB36,GI36,GP36,GW36,HD36,HK36,HR36,HY36,IF36,IM36,IT36) -> 0 | CH36: =SUM(CP36,CW36,DD36,DK36,DR36,DY36,EF36,EM36,ET36,FA36,FH36,FO36,FV36,GC36,GJ36,GQ36,GX36,HE36,HL36,HS36,HZ36,IG36,IN36,IU36) -> 0 | CI36: =JC36 -> 0 | CJ36: =SUM(CQ36,CX36,DE36,DL36,DS36,DZ36,EG36,EN36,EU36,FB36,FI36,FP36,FW36,GD36,GK36,GR36,GY36,HF36,HM36,HT36,IA36,IH36,IO36,IV36)+JD36 -> 0 | CK36: =SUM(CR36,CY36,DF36,DM36,DT36,EA36,EH36,EO36,EV36,FC36,FJ36,FQ36,FX36,GE36,GL36,GS36,GZ36,HG36,HN36,HU36,IB36,II36,IP36,IW36)+JE36 -> 0 | CL36: =SUM(CS36,CZ36,DG36,DN36,DU36,EB36,EI36,EP36,EW36,FD36,FK36,FR36,FY36,GF36,GM36,GT36,HA36,HH36,HO36,HV36,IC36,IJ36,IQ36,IX36)+JF36 -> 0 | CM36: =SUM(CT36,DA36,DH36,DO36,DV36,EC36,EJ36,EQ36,EX36,FE36,FL36,FS36,FZ36,GG36,GN36,GU36,HB36,HI36,HP36,HW36,ID36,IK36,IR36,IY36)+JG36 -> 0 | CQ36: =+CO36+CP36 -> 0 | CX36: =+CV36+CW36 -> 0 | DE36: =+DC36+DD36 -> 0 | DL36: =+DJ36+DK36 -> 0 | DS36: =+DQ36+DR36 -> 0 | DZ36: =+DX36+DY36 -> 0 | EG36: =+EE36+EF36 -> 0 | EN36: =+EL36+EM36 -> 0 | EU36: =+ES36+ET36 -> 0 | FB36: =+EZ36+FA36 -> 0 | FI36: =+FG36+FH36 -> 0 | FP36: =+FN36+FO36 -> 0 | FW36: =+FU36+FV36 -> 0 | GD36: =+GB36+GC36 -> 0 | GK36: =+GI36+GJ36 -> 0 | GR36: =+GP36+GQ36 -> 0 | GY36: =+GW36+GX36 -> 0 | HF36: =+HD36+HE36 -> 0 | HM36: =+HK36+HL36 -> 0 | HT36: =+HR36+HS36 -> 0 | IA36: =+HY36+HZ36 -> 0 | IH36: =+IF36+IG36 -> 0 | IO36: =+IM36+IN36 -> 0 | IV36: =+IT36+IU36 -> 0 | JD36: =+JA36+JB36+IZ36+JC36 -> 0
B37: d) | C37: előző évek költségvetési maradványának igénybevétele | D37: =SUM(M37,U37,AC37,AK37,AR37,BH37,BP37,BX37,CN37,CU37,DB37,DI37,DP37,DW37,ED37,EK37)+SUM(ER37,EY37,FF37,FM37,FT37,GA37,GH37,GO37,GV37,HC37,HJ37,HQ37,HX37,IE37,IL37,IS37) -> 3741589 | E37: 0 | F37: =+N37+V37+AD37+AS37+BA37+CG37 -> -1188498 | G37: =+O37+W37+AE37+AT37+BB37+CH37+1 -> 0.5 | H37: =+P37+X37+AF37+AU37+BC37+CI37 -> 0 | I37: =+Q37+Y37+AG37+AV37+BD37+CJ37 -> 2553090.5 | J37: =+R37+Z37+AH37+AW37+BE37+CK37 -> 2553090.5 | K37: =+S37+AA37+AI37+AX37+BF37+CL37 -> 0 | L37: =+T37+AB37 -> 0 | M37: 3741589 | N37: =-1000000-188498 -> -1188498 | O37: -171586 | Q37: =SUM(M37:P37) -> 2381505 | R37: =+Q37-S37 -> 2381505 | W37: 156786.5 | Y37: =+V37+U37+W37+X37 -> 156786.5 | Z37: =Y37-AA37-AB37 -> 156786.5 | AE37: 1787 | AG37: =+AD37+AE37+AC37+AF37 -> 1787 | AH37: =AG37-AI37-AJ37 -> 1787 | AI37: 0 | AT37: 15 | AV37: =+AS37+AT37+AR37+AU37 -> 15 | AW37: =AV37-AX37-AY37 -> 15 | AZ37: =SUM(BP37,BX37,BH37) -> 0 | BA37: =SUM(BQ37,BY37,BI37) -> 0 | BB37: =SUM(BR37,BZ37,BJ37) -> 3439 | BC37: =SUM(BS37,CA37,BK37) -> 0 | BD37: =SUM(AZ37:BC37) -> 3439 | BE37: =SUM(BU37,CC37,BM37) -> 3439 | BF37: =SUM(BV37,CD37,BN37) -> 0 | BG37: =SUM(BW37,CE37,BO37) -> 0 | BJ37: 2147 | BL37: =+BI37+BJ37+BH37+BK37 -> 2147 | BM37: =BL37-BN37-BO37 -> 2147 | BR37: 1019 | BT37: =+BQ37+BR37+BP37+BS37 -> 1019 | BU37: =BT37-BV37-BW37 -> 1019 | BZ37: 273 | CB37: =SUM(BX37:BZ37)+CA37 -> 273 | CC37: =CB37-CD37-CE37 -> 273 | CF37: =SUM(CN37,CU37,DB37,DI37,DP37,DW37,ED37,EK37,ER37,EY37,FF37,FM37,FT37,GA37,GH37,GO37,GV37,HC37,HJ37,HQ37,HX37,IE37,IL37,IS37) -> 0 | CG37: =SUM(CO37,CV37,DC37,DJ37,DQ37,DX37,EE37,EL37,ES37,EZ37,FG37,FN37,FU37,GB37,GI37,GP37,GW37,HD37,HK37,HR37,HY37,IF37,IM37,IT37) -> 0 | CH37: =SUM(CP37,CW37,DD37,DK37,DR37,DY37,EF37,EM37,ET37,FA37,FH37,FO37,FV37,GC37,GJ37,GQ37,GX37,HE37,HL37,HS37,HZ37,IG37,IN37,IU37)+JB37 -> 9558 | CI37: =JC37 -> 0 | CJ37: =SUM(CQ37,CX37,DE37,DL37,DS37,DZ37,EG37,EN37,EU37,FB37,FI37,FP37,FW37,GD37,GK37,GR37,GY37,HF37,HM37,HT37,IA37,IH37,IO37,IV37)+JD37 -> 9558 | CK37: =SUM(CR37,CY37,DF37,DM37,DT37,EA37,EH37,EO37,EV37,FC37,FJ37,FQ37,FX37,GE37,GL37,GS37,GZ37,HG37,HN37,HU37,IB37,II37,IP37,IW37)+JE37 -> 9558 | CL37: =SUM(CS37,CZ37,DG37,DN37,DU37,EB37,EI37,EP37,EW37,FD37,FK37,FR37,FY37,GF37,GM37,GT37,HA37,HH37,HO37,HV37,IC37,IJ37,IQ37,IX37)+JF37 -> 0 | CM37: =SUM(CT37,DA37,DH37,DO37,DV37,EC37,EJ37,EQ37,EX37,FE37,FL37,FS37,FZ37,GG37,GN37,GU37,HB37,HI37,HP37,HW37,ID37,IK37,IR37,IY37)+JG37 -> 0 | CP37: 250 | CQ37: =+CO37+CP37 -> 250 | CR37: =CQ37-CS37-CT37 -> 250 | CW37: 225 | CX37: =+CV37+CW37 -> 225 | CY37: =CX37-CZ37-DA37 -> 225 | DD37: 214 | DE37: =+DC37+DD37 -> 214 | DF37: =DE37-DG37-DH37 -> 214 | DK37: 84 | DL37: =+DJ37+DK37 -> 84 | DM37: =DL37-DN37-DO37 -> 84 | DR37: 53 | DS37: =+DQ37+DR37 -> 53 | DT37: =DS37-DU37-DV37 -> 53 | DY37: 694 | DZ37: =+DX37+DY37 -> 694 | EA37: =DZ37-EB37-EC37 -> 694 | EF37: 50 | EG37: =+EE37+EF37 -> 50 | EH37: =EG37-EI37-EJ37 -> 50 | EM37: 146 | EN37: =+EL37+EM37 -> 146 | EO37: =EN37-EP37-EQ37 -> 146 | ET37: 531 | EU37: =+ES37+ET37 -> 531 | EV37: =EU37-EW37-EX37 -> 531 | FA37: 239 | FB37: =+EZ37+FA37 -> 239 | FC37: =FB37-FD37-FE37 -> 239 | FH37: 118 | FI37: =+FG37+FH37 -> 118 | FJ37: =FI37-FK37-FL37 -> 118 | FO37: 503 | FP37: =+FN37+FO37 -> 503 | FQ37: =FP37-FR37-FS37 -> 503 | FV37: 403 | FW37: =+FU37+FV37 -> 403 | FX37: =FW37-FY37-FZ37 -> 403 | GC37: 1089 | GD37: =+GB37+GC37 -> 1089 | GE37: =GD37-GF37-GG37 -> 1089 | GJ37: 464 | GK37: =+GI37+GJ37 -> 464 | GL37: =GK37-GM37-GN37 -> 464 | GQ37: 226 | GR37: =+GP37+GQ37 -> 226 | GS37: =GR37-GT37-GU37 -> 226 | GX37: 894 | GY37: =+GW37+GX37 -> 894 | GZ37: =GY37-HA37-HB37 -> 894 | HE37: 492 | HF37: =+HD37+HE37 -> 492 | HG37: =HF37-HH37-HI37 -> 492 | HL37: 243 | HM37: =+HK37+HL37 -> 243 | HN37: =HM37-HO37-HP37 -> 243 | HS37: 336 | HT37: =+HR37+HS37 -> 336 | HU37: =HT37-HV37-HW37 -> 336 | HZ37: 1249 | IA37: =+HY37+HZ37 -> 1249 | IB37: =IA37-IC37-ID37 -> 1249 | IG37: 311 | IH37: =+IF37+IG37 -> 311 | II37: =IH37-IJ37-IK37 -> 311 | IN37: 3 | IO37: =+IM37+IN37 -> 3 | IP37: =IO37-IQ37-IR37 -> 3 | IU37: 741 | IV37: =+IT37+IU37 -> 741 | IW37: =IV37-IX37-IY37 -> 741 | JD37: =+JA37+JB37+IZ37+JC37 -> 0 | JE37: =JD37-JF37-JG37 -> 0
B38: e) | C38: államháztartáson belüli megelőlegezések bevétele | D38: =SUM(M38,U38,AC38,AK38,AR38,BH38,BP38,BX38,CN38,CU38,DB38,DI38,DP38,DW38,ED38,EK38)+SUM(ER38,EY38,FF38,FM38,FT38,GA38,GH38,GO38,GV38,HC38,HJ38,HQ38,HX38,IE38,IL38,IS38) -> 199820 | E38: =SUM(,W38,AE38,AM38,AT38,BJ38,BR38,BZ38,CP38,CW38,DD38,DK38,DR38,DY38,EF38,EM38)+SUM(ET38,FA38,FH38,FO38,FV38,GC38,GJ38,GQ38,GX38,HE38,HL38,HS38,HZ38,IG38,IN38,IU38) -> 0 | F38: =+N38+V38+AD38+AS38+BA38+CG38 -> 0 | G38: =+O38+W38+AE38+AT38+BB38+CH38 -> 0 | H38: =+P38+X38+AF38+AU38+BC38+CI38 -> 0 | I38: =+Q38+Y38+AG38+AV38+BD38+CJ38 -> 199820 | J38: =+R38+Z38+AH38+AW38+BE38+CK38 -> 199820 | K38: =+S38+AA38+AI38+AX38+BF38+CL38 -> 0 | L38: =+T38+AB38 -> 0 | M38: 199820 | Q38: =SUM(M38:P38) -> 199820 | R38: =+Q38-S38 -> 199820 | Y38: =+V38+U38+W38+X38 -> 0 | Z38: =Y38-AA38-AB38 -> 0 | AG38: =+AD38+AE38+AC38+AF38 -> 0 | AV38: =+AS38+AT38+AR38+AU38 -> 0 | AZ38: =SUM(BP38,BX38,BH38) -> 0 | BA38: =SUM(BQ38,BY38,BI38) -> 0 | BB38: =SUM(BR38,BZ38,BJ38) -> 0 | BC38: =SUM(BS38,CA38,BK38) -> 0 | BD38: =SUM(AZ38:BC38) -> 0 | BE38: =SUM(BU38,CC38,BM38) -> 0 | BF38: =SUM(BV38,CD38,BN38) -> 0 | BG38: =SUM(BW38,CE38,BO38) -> 0 | BL38: =+BI38+BJ38+BH38+BK38 -> 0 | BM38: =BL38-BN38-BO38 -> 0 | BT38: =+BQ38+BR38+BP38+BS38 -> 0 | CB38: =SUM(BX38:BZ38)+CA38 -> 0 | CF38: =SUM(CN38,CU38,DB38,DI38,DP38,DW38,ED38,EK38,ER38,EY38,FF38,FM38,FT38,GA38,GH38,GO38,GV38,HC38,HJ38,HQ38,HX38,IE38,IL38,IS38) -> 0 | CG38: =SUM(CO38,CV38,DC38,DJ38,DQ38,DX38,EE38,EL38,ES38,EZ38,FG38,FN38,FU38,GB38,GI38,GP38,GW38,HD38,HK38,HR38,HY38,IF38,IM38,IT38) -> 0 | CH38: =SUM(CP38,CW38,DD38,DK38,DR38,DY38,EF38,EM38,ET38,FA38,FH38,FO38,FV38,GC38,GJ38,GQ38,GX38,HE38,HL38,HS38,HZ38,IG38,IN38,IU38) -> 0 | CI38: =JC38 -> 0 | CJ38: =SUM(CQ38,CX38,DE38,DL38,DS38,DZ38,EG38,EN38,EU38,FB38,FI38,FP38,FW38,GD38,GK38,GR38,GY38,HF38,HM38,HT38,IA38,IH38,IO38,IV38)+JD38 -> 0 | CK38: =SUM(CR38,CY38,DF38,DM38,DT38,EA38,EH38,EO38,EV38,FC38,FJ38,FQ38,FX38,GE38,GL38,GS38,GZ38,HG38,HN38,HU38,IB38,II38,IP38,IW38)+JE38 -> 0 | CL38: =SUM(CS38,CZ38,DG38,DN38,DU38,EB38,EI38,EP38,EW38,FD38,FK38,FR38,FY38,GF38,GM38,GT38,HA38,HH38,HO38,HV38,IC38,IJ38,IQ38,IX38)+JF38 -> 0 | CM38: =SUM(CT38,DA38,DH38,DO38,DV38,EC38,EJ38,EQ38,EX38,FE38,FL38,FS38,FZ38,GG38,GN38,GU38,HB38,HI38,HP38,HW38,ID38,IK38,IR38,IY38)+JG38 -> 0 | CQ38: =+CO38+CP38 -> 0 | CX38: =+CV38+CW38 -> 0 | DE38: =+DC38+DD38 -> 0 | DL38: =+DJ38+DK38 -> 0 | DS38: =+DQ38+DR38 -> 0 | DZ38: =+DX38+DY38 -> 0 | EG38: =+EE38+EF38 -> 0 | EN38: =+EL38+EM38 -> 0 | EU38: =+ES38+ET38 -> 0 | FB38: =+EZ38+FA38 -> 0 | FI38: =+FG38+FH38 -> 0 | FP38: =+FN38+FO38 -> 0 | FW38: =+FU38+FV38 -> 0 | GD38: =+GB38+GC38 -> 0 | GK38: =+GI38+GJ38 -> 0 | GR38: =+GP38+GQ38 -> 0 | GY38: =+GW38+GX38 -> 0 | HF38: =+HD38+HE38 -> 0 | HM38: =+HK38+HL38 -> 0 | HT38: =+HR38+HS38 -> 0 | IA38: =+HY38+HZ38 -> 0 | IH38: =+IF38+IG38 -> 0 | IO38: =+IM38+IN38 -> 0 | IV38: =+IT38+IU38 -> 0 | JD38: =+JA38+JB38+IZ38+JC38 -> 0
B39: f) | C39: irányító szervi támogatás (kerület összesenből kihagyva duplázódás miatt-konszolidálás) | G39: =+O39+W39+AE39+AT39+BB39+CH39 -> 241021 | H39: =+P39+X39+AF39+AU39+BC39+CI39 -> 759498 | Q39: =SUM(M39:P39) -> 0 | U39: 2746196 | V39: -17129 | W39: -213801 | X39: 319884 | Y39: =+V39+U39+W39+X39 -> 2835150 | Z39: =Y39-AA39-AB39 -> 2568437 | AA39: 266713 | AC39: 943880 | AD39: 23764 | AE39: 303331 | AF39: 65150 | AG39: =+AD39+AE39+AC39+AF39 -> 1336125 | AH39: =+AG39-AI39 -> 1068003 | AI39: 268122 | AR39: 325126 | AT39: 14017 | AU39: 26884 | AV39: =+AS39+AT39+AR39+AU39 -> 366027 | AW39: =AV39-AX39-AY39 -> 342536 | AX39: 23491 | AZ39: =SUM(BP39,BX39,BH39) -> 2712308 | BA39: =SUM(BQ39,BY39,BI39) -> 83107 | BB39: =SUM(BR39,BZ39,BJ39) -> 121096 | BC39: =SUM(BS39,CA39,BK39) -> 173304 | BD39: =SUM(AZ39:BC39) -> 3089815 | BE39: =SUM(BU39,CC39,BM39) -> 2446302 | BF39: =SUM(BV39,CD39,BN39) -> 643513 | BG39: =SUM(BW39,CE39,BO39) -> 0 | BH39: 1679614 | BI39: 20148 | BJ39: 48918 | BK39: 127815 | BL39: =+BI39+BJ39+BH39+BK39 -> 1876495 | BM39: =BL39-BN39-BO39 -> 1523959 | BN39: 352536 | BP39: 385168 | BQ39: 42165 | BR39: 43283 | BS39: 41537 | BT39: =+BQ39+BR39+BP39+BS39 -> 512153 | BU39: =BT39-BV39-BW39 -> 398710 | BV39: 113443 | BX39: 647526 | BY39: 20794 | BZ39: 28895 | CA39: 3952 | CB39: =SUM(BX39:BZ39)+CA39 -> 701167 | CC39: =CB39-CD39-CE39 -> 523633 | CD39: 177534 | CF39: =SUM(CN39,CU39,DB39,DI39,DP39,DW39,ED39,EK39,ER39,EY39,FF39,FM39,FT39,GA39,GH39,GO39,GV39,HC39,HJ39,HQ39,HX39,IE39,IL39,IS39) -> 3321018 | CG39: =SUM(CO39,CV39,DC39,DJ39,DQ39,DX39,EE39,EL39,ES39,EZ39,FG39,FN39,FU39,GB39,GI39,GP39,GW39,HD39,HK39,HR39,HY39,IF39,IM39,IT39) -> 1721 | CH39: =SUM(CP39,CW39,DD39,DK39,DR39,DY39,EF39,EM39,ET39,FA39,FH39,FO39,FV39,GC39,GJ39,GQ39,GX39,HE39,HL39,HS39,HZ39,IG39,IN39,IU39)+JB39 -> 16378 | CI39: =JC39 -> 174276 | CJ39: =SUM(CQ39,CX39,DE39,DL39,DS39,DZ39,EG39,EN39,EU39,FB39,FI39,FP39,FW39,GD39,GK39,GR39,GY39,HF39,HM39,HT39,IA39,IH39,IO39,IV39)+JD39 -> 3513393 | CK39: =SUM(CR39,CY39,DF39,DM39,DT39,EA39,EH39,EO39,EV39,FC39,FJ39,FQ39,FX39,GE39,GL39,GS39,GZ39,HG39,HN39,HU39,IB39,II39,IP39,IW39)+JE39 -> 2614785 | CL39: =SUM(CS39,CZ39,DG39,DN39,DU39,EB39,EI39,EP39,EW39,FD39,FK39,FR39,FY39,GF39,GM39,GT39,HA39,HH39,HO39,HV39,IC39,IJ39,IQ39,IX39)+JF39 -> 898608 | CM39: =SUM(CT39,DA39,DH39,DO39,DV39,EC39,EJ39,EQ39,EX39,FE39,FL39,FS39,FZ39,GG39,GN39,GU39,HB39,HI39,HP39,HW39,ID39,IK39,IR39,IY39)+JG39 -> 0 | CN39: 96736 | CO39: 5 | CP39: -41696 | CQ39: =SUM(CN39:CP39) -> 55045 | CR39: =CQ39-CS39-CT39 -> 48367 | CS39: 6678 | CU39: 169410 | CW39: -68588 | CX39: =SUM(CU39:CW39) -> 100822 | CY39: =CX39-CZ39-DA39 -> 86791 | CZ39: 14031 | DB39: 125202 | DD39: -51997 | DE39: =SUM(DB39:DD39) -> 73205 | DF39: =DE39-DG39-DH39 -> 63305 | DG39: 9900 | DI39: 151513 | DK39: -60592 | DL39: =SUM(DI39:DK39) -> 90921 | DM39: =DL39-DN39-DO39 -> 77635 | DN39: 13286 | DP39: 65884 | DR39: -26189 | DS39: =SUM(DP39:DR39) -> 39695 | DT39: =DS39-DU39-DV39 -> 34270 | DU39: 5425 | DW39: 172230 | DY39: -76329 | DZ39: =SUM(DW39:DY39) -> 95901 | EA39: =DZ39-EB39-EC39 -> 84475 | EB39: 11426 | ED39: 153616 | EF39: -68457 | EG39: =SUM(ED39:EF39) -> 85159 | EH39: =EG39-EI39-EJ39 -> 72888 | EI39: 12271 | EK39: 125644 | EM39: -57397 | EN39: =SUM(EK39:EM39) -> 68247 | EO39: =EN39-EP39-EQ39 -> 59315 | EP39: 8932 | ER39: 134438 | ET39: -51462 | EU39: =SUM(ER39:ET39) -> 82976 | EV39: =EU39-EW39-EX39 -> 72319 | EW39: 10657 | EY39: 208261 | FA39: -85349 | FB39: =SUM(EY39:FA39) -> 122912 | FC39: =FB39-FD39-FE39 -> 106310 | FD39: 16602 | FF39: 101594 | FH39: -44903 | FI39: =SUM(FF39:FH39) -> 56691 | FJ39: =FI39-FK39-FL39 -> 47220 | FK39: 9471 | FM39: 202471 | FO39: -89272 | FP39: =SUM(FM39:FO39) -> 113199 | FQ39: =FP39-FR39-FS39 -> 100296 | FR39: 12903 | FT39: 93402 | FU39: 333 | FV39: -38835 | FW39: =SUM(FT39:FV39) -> 54900 | FX39: =FW39-FY39-FZ39 -> 48051 | FY39: 6849 | GA39: 178678 | GB39: 28 | GC39: -78126 | GD39: =SUM(GA39:GC39) -> 100580 | GE39: =GD39-GF39-GG39 -> 88254 | GF39: 12326 | GH39: 100784 | GJ39: -47215 | GK39: =SUM(GH39:GJ39) -> 53569 | GL39: =GK39-GM39-GN39 -> 46813 | GM39: 6756 | GO39: 115458 | GQ39: -51592 | GR39: =SUM(GO39:GQ39) -> 63866 | GS39: =GR39-GT39-GU39 -> 54966 | GT39: 8900 | GV39: 182326 | GX39: -67972 | GY39: =SUM(GV39:GX39) -> 114354 | GZ39: =GY39-HA39-HB39 -> 102727 | HA39: 11627 | HC39: 95105 | HE39: -41026 | HF39: =SUM(HC39:HE39) -> 54079 | HG39: =HF39-HH39-HI39 -> 47765 | HH39: 6314 | HJ39: 120992 | HK39: 1266 | HL39: -51605 | HM39: =SUM(HJ39:HL39) -> 70653 | HN39: =HM39-HO39-HP39 -> 61666 | HO39: 8987 | HQ39: 113646 | HR39: 88 | HS39: -49333 | HT39: =SUM(HQ39:HS39) -> 64401 | HU39: =HT39-HV39-HW39 -> 57217 | HV39: 7184 | HX39: 131343 | HZ39: -57631 | IA39: =SUM(HX39:HZ39) -> 73712 | IB39: =IA39-IC39-ID39 -> 63259 | IC39: 10453 | IE39: 114134 | IG39: -47303 | IH39: =SUM(IE39:IG39) -> 66831 | II39: =IH39-IJ39-IK39 -> 57729 | IJ39: 9102 | IL39: 185330 | IN39: -78040 | IO39: =SUM(IL39:IN39) -> 107290 | IP39: =IO39-IQ39-IR39 -> 93322 | IQ39: 13968 | IS39: 182821 | IT39: 1 | IU39: -73103 | IV39: =SUM(IS39:IU39) -> 109719 | IW39: =IV39-IX39-IY39 -> 95611 | IX39: 14108 | JB39: 1420390 | JC39: 174276 | JD39: =+JA39+JB39+IZ39+JC39 -> 1594666 | JE39: =JD39-JF39-JG39 -> 944214 | JF39: 650452
A40: FINANSZÍROZÁSI BEVÉTELEK ÖSSZESEN | D40: =SUM(D34:D38) -> 5941668 | E40: =SUM(E34:E39) -> 0 | F40: =+F37+F34+F35+F36 -> -188498 | G40: =+G37+G34+G35+G36 -> 0.5 | H40: =+H37+H34+H35+H36 -> 0 | I40: =SUM(I34:I38) -> 5753169.5 | J40: =SUM(J34:J38) -> 2752910.5 | K40: =SUM(K34:K38) -> 3000259 | L40: =+T40+AB40 -> 0 | M40: =SUM(M34:M39) -> 5941668 | N40: =SUM(N34:N39) -> -188498 | O40: =SUM(O34:O39) -> -171586 | P40: =SUM(P34:P39) -> 0 | Q40: =SUM(M40:P40) -> 5581584 | R40: =SUM(R34:R39) -> 2581325 | S40: =SUM(S34:S39) -> 3000259 | T40: =SUM(T34:T39) -> 0 | U40: =SUM(U34:U39) -> 2746196 | V40: =SUM(V34:V39) -> -17129 | W40: =SUM(W34:W39) -> -57014.5 | X40: =SUM(X34:X39) -> 319884 | Y40: =+V40+U40+W40+X40 -> 2991936.5 | Z40: =Y40-AA40-AB40 -> 2725223.5 | AA40: =SUM(AA34:AA39) -> 266713 | AB40: =SUM(AB34:AB39) -> 0 | AC40: =SUM(AC34:AC39) -> 943880 | AD40: =SUM(AD34:AD39) -> 23764 | AE40: =SUM(AE34:AE39) -> 305118 | AF40: =SUM(AF34:AF39) -> 65150 | AG40: =+AD40+AE40+AC40+AF40 -> 1337912 | AH40: =SUM(AH34:AH39) -> 1069790 | AI40: =SUM(AI34:AI39) -> 268122 | AJ40: =SUM(AJ34:AJ39) -> 0 | AR40: =SUM(AR34:AR39) -> 325126 | AS40: =SUM(AS34:AS39) -> 0 | AT40: =SUM(AT34:AT39) -> 14032 | AU40: =SUM(AU34:AU39) -> 26884 | AV40: =+AS40+AT40+AR40+AU40 -> 366042 | AW40: =SUM(AW34:AW39) -> 342551 | AX40: =SUM(AX34:AX39) -> 23491 | AY40: =SUM(AY34:AY39) -> 0 | AZ40: =SUM(AZ34:AZ39) -> 2712308 | BA40: =SUM(BA34:BA39) -> 83107 | BB40: =SUM(BR40,BZ40,BJ40) -> 124535 | BC40: =SUM(BS40,CA40,BK40) -> 173304 | BD40: =SUM(AZ40:BC40) -> 3093254 | BE40: =SUM(BE34:BE39) -> 2449741 | BF40: =SUM(BF34:BF39) -> 643513 | BG40: =SUM(BG34:BG39) -> 0 | BH40: =SUM(BH34:BH39) -> 1679614 | BI40: =SUM(BI34:BI39) -> 20148 | BJ40: =SUM(BJ34:BJ39) -> 51065 | BK40: =SUM(BK34:BK39) -> 127815 | BL40: =+BI40+BJ40+BH40+BK40 -> 1878642 | BM40: =SUM(BM34:BM39) -> 1526106 | BN40: =SUM(BN34:BN39) -> 352536 | BO40: =SUM(BO34:BO39) -> 0 | BP40: =SUM(BP34:BP39) -> 385168 | BQ40: =SUM(BQ34:BQ39) -> 42165 | BR40: =SUM(BR34:BR39) -> 44302 | BS40: =SUM(BS34:BS39) -> 41537 | BT40: =+BQ40+BR40+BP40+BS40 -> 513172 | BU40: =SUM(BU34:BU39) -> 399729 | BV40: =SUM(BV34:BV39) -> 113443 | BW40: =SUM(BW34:BW39) -> 0 | BX40: =SUM(BX34:BX39) -> 647526 | BY40: =SUM(BY34:BY39) -> 20794 | BZ40: =SUM(BZ34:BZ39) -> 29168 | CA40: =SUM(CA34:CA39) -> 3952 | CB40: =SUM(BX40:BZ40)+CA40 -> 701440 | CC40: =SUM(CC34:CC39) -> 523906 | CD40: =SUM(CD34:CD39) -> 177534 | CE40: =SUM(CE34:CE39) -> 0 | CF40: =SUM(CF34:CF39) -> 3321018 | CG40: =SUM(CG34:CG39) -> 1721 | CH40: =SUM(CH34:CH39) -> 25936 | CI40: =SUM(CI34:CI39) -> 174276 | CJ40: =SUM(CQ40,CX40,DE40,DL40,DS40,DZ40,EG40,EN40,EU40,FB40,FI40,FP40,FW40,GD40,GK40,GR40,GY40,HF40,HM40,HT40,IA40,IH40,IO40,IV40)+JD40 -> 3522951 | CK40: =SUM(CR40,CY40,DF40,DM40,DT40,EA40,EH40,EO40,EV40,FC40,FJ40,FQ40,FX40,GE40,GL40,GS40,GZ40,HG40,HN40,HU40,IB40,II40,IP40,IW40)+JE40 -> 2624343 | CL40: =SUM(CS40,CZ40,DG40,DN40,DU40,EB40,EI40,EP40,EW40,FD40,FK40,FR40,FY40,GF40,GM40,GT40,HA40,HH40,HO40,HV40,IC40,IJ40,IQ40,IX40)+JF40 -> 898608 | CM40: =SUM(CT40,DA40,DH40,DO40,DV40,EC40,EJ40,EQ40,EX40,FE40,FL40,FS40,FZ40,GG40,GN40,GU40,HB40,HI40,HP40,HW40,ID40,IK40,IR40,IY40)+JG40 -> 0 | CN40: =SUM(CN34:CN39) -> 96736 | CO40: =SUM(CO34:CO39) -> 5 | CP40: =SUM(CP34:CP39) -> -41446 | CQ40: =SUM(CN40:CP40) -> 55295 | CR40: =SUM(CR34:CR39) -> 48617 | CS40: =SUM(CS34:CS39) -> 6678 | CT40: =SUM(CT34:CT39) -> 0 | CU40: =SUM(CU34:CU39) -> 169410 | CV40: =SUM(CV34:CV39) -> 0 | CW40: =SUM(CW34:CW39) -> -68363 | CX40: =SUM(CU40:CW40) -> 101047 | CY40: =SUM(CY34:CY39) -> 87016 | CZ40: =SUM(CZ34:CZ39) -> 14031 | DA40: =SUM(DA34:DA39) -> 0 | DB40: =SUM(DB34:DB39) -> 125202 | DC40: =SUM(DC34:DC39) -> 0 | DD40: =SUM(DD34:DD39) -> -51783 | DE40: =SUM(DB40:DD40) -> 73419 | DF40: =SUM(DF34:DF39) -> 63519 | DG40: =SUM(DG34:DG39) -> 9900 | DH40: =SUM(DH34:DH39) -> 0 | DI40: =SUM(DI34:DI39) -> 151513 | DJ40: =SUM(DJ34:DJ39) -> 0 | DK40: =SUM(DK34:DK39) -> -60508 | DL40: =SUM(DI40:DK40) -> 91005 | DM40: =SUM(DM34:DM39) -> 77719 | DN40: =SUM(DN34:DN39) -> 13286 | DO40: =SUM(DO34:DO39) -> 0 | DP40: =SUM(DP34:DP39) -> 65884 | DQ40: =SUM(DQ34:DQ39) -> 0 | DR40: =SUM(DR34:DR39) -> -26136 | DS40: =SUM(DP40:DR40) -> 39748 | DT40: =SUM(DT34:DT39) -> 34323 | DU40: =SUM(DU34:DU39) -> 5425 | DV40: =SUM(DV34:DV39) -> 0 | DW40: =SUM(DW34:DW39) -> 172230 | DX40: =SUM(DX34:DX39) -> 0 | DY40: =SUM(DY34:DY39) -> -75635 | DZ40: =SUM(DW40:DY40) -> 96595 | EA40: =SUM(EA34:EA39) -> 85169 | EB40: =SUM(EB34:EB39) -> 11426 | EC40: =SUM(EC34:EC39) -> 0 | ED40: =SUM(ED34:ED39) -> 153616 | EE40: =SUM(EE34:EE39) -> 0 | EF40: =SUM(EF34:EF39) -> -68407 | EG40: =SUM(ED40:EF40) -> 85209 | EH40: =SUM(EH34:EH39) -> 72938 | EI40: =SUM(EI34:EI39) -> 12271 | EJ40: =SUM(EJ34:EJ39) -> 0 | EK40: =SUM(EK34:EK39) -> 125644 | EL40: =SUM(EL34:EL39) -> 0 | EM40: =SUM(EM34:EM39) -> -57251 | EN40: =SUM(EK40:EM40) -> 68393 | EO40: =SUM(EO34:EO39) -> 59461 | EP40: =SUM(EP34:EP39) -> 8932 | EQ40: =SUM(EQ34:EQ39) -> 0 | ER40: =SUM(ER34:ER39) -> 134438 | ES40: =SUM(ES34:ES39) -> 0 | ET40: =SUM(ET34:ET39) -> -50931 | EU40: =SUM(ER40:ET40) -> 83507 | EV40: =SUM(EV34:EV39) -> 72850 | EW40: =SUM(EW34:EW39) -> 10657 | EX40: =SUM(EX34:EX39) -> 0 | EY40: =SUM(EY34:EY39) -> 208261 | EZ40: =SUM(EZ34:EZ39) -> 0 | FA40: =SUM(FA34:FA39) -> -85110 | FB40: =SUM(EY40:FA40) -> 123151 | FC40: =SUM(FC34:FC39) -> 106549 | FD40: =SUM(FD34:FD39) -> 16602 | FE40: =SUM(FE34:FE39) -> 0 | FF40: =SUM(FF34:FF39) -> 101594 | FG40: =SUM(FG34:FG39) -> 0 | FH40: =SUM(FH34:FH39) -> -44785 | FI40: =SUM(FF40:FH40) -> 56809 | FJ40: =SUM(FJ34:FJ39) -> 47338 | FK40: =SUM(FK34:FK39) -> 9471 | FL40: =SUM(FL34:FL39) -> 0 | FM40: =SUM(FM34:FM39) -> 202471 | FN40: =SUM(FN34:FN39) -> 0 | FO40: =SUM(FO34:FO39) -> -88769 | FP40: =SUM(FM40:FO40) -> 113702 | FQ40: =SUM(FQ34:FQ39) -> 100799 | FR40: =SUM(FR34:FR39) -> 12903 | FS40: =SUM(FS34:FS39) -> 0 | FT40: =SUM(FT34:FT39) -> 93402 | FU40: =SUM(FU34:FU39) -> 333 | FV40: =SUM(FV34:FV39) -> -38432 | FW40: =SUM(FT40:FV40) -> 55303 | FX40: =SUM(FX34:FX39) -> 48454 | FY40: =SUM(FY34:FY39) -> 6849 | FZ40: =SUM(FZ34:FZ39) -> 0 | GA40: =SUM(GA34:GA39) -> 178678 | GB40: =SUM(GB34:GB39) -> 28 | GC40: =SUM(GC34:GC39) -> -77037 | GD40: =SUM(GA40:GC40) -> 101669 | GE40: =SUM(GE34:GE39) -> 89343 | GF40: =SUM(GF34:GF39) -> 12326 | GG40: =SUM(GG34:GG39) -> 0 | GH40: =SUM(GH34:GH39) -> 100784 | GI40: =SUM(GI34:GI39) -> 0 | GJ40: =SUM(GJ34:GJ39) -> -46751 | GK40: =SUM(GH40:GJ40) -> 54033 | GL40: =SUM(GL34:GL39) -> 47277 | GM40: =SUM(GM34:GM39) -> 6756 | GN40: =SUM(GN34:GN39) -> 0 | GO40: =SUM(GO34:GO39) -> 115458 | GP40: =SUM(GP34:GP39) -> 0 | GQ40: =SUM(GQ34:GQ39) -> -51366 | GR40: =SUM(GO40:GQ40) -> 64092 | GS40: =SUM(GS34:GS39) -> 55192 | GT40: =SUM(GT34:GT39) -> 8900 | GU40: =SUM(GU34:GU39) -> 0 | GV40: =SUM(GV34:GV39) -> 182326 | GW40: =SUM(GW34:GW39) -> 0 | GX40: =SUM(GX34:GX39) -> -67078 | GY40: =SUM(GV40:GX40) -> 115248 | GZ40: =SUM(GZ34:GZ39) -> 103621 | HA40: =SUM(HA34:HA39) -> 11627 | HB40: =SUM(HB34:HB39) -> 0 | HC40: =SUM(HC34:HC39) -> 95105 | HD40: =SUM(HD34:HD39) -> 0 | HE40: =SUM(HE34:HE39) -> -40534 | HF40: =SUM(HC40:HE40) -> 54571 | HG40: =SUM(HG34:HG39) -> 48257 | HH40: =SUM(HH34:HH39) -> 6314 | HI40: =SUM(HI34:HI39) -> 0 | HJ40: =SUM(HJ34:HJ39) -> 120992 | HK40: =SUM(HK34:HK39) -> 1266 | HL40: =SUM(HL34:HL39) -> -51362 | HM40: =SUM(HJ40:HL40) -> 70896 | HN40: =SUM(HN34:HN39) -> 61909 | HO40: =SUM(HO34:HO39) -> 8987 | HP40: =SUM(HP34:HP39) -> 0 | HQ40: =SUM(HQ34:HQ39) -> 113646 | HR40: =SUM(HR34:HR39) -> 88 | HS40: =SUM(HS34:HS39) -> -48997 | HT40: =SUM(HQ40:HS40) -> 64737 | HU40: =SUM(HU34:HU39) -> 57553 | HV40: =SUM(HV34:HV39) -> 7184 | HW40: =SUM(HW34:HW39) -> 0 | HX40: =SUM(HX34:HX39) -> 131343 | HY40: =SUM(HY34:HY39) -> 0 | HZ40: =SUM(HZ34:HZ39) -> -56382 | IA40: =SUM(HX40:HZ40) -> 74961 | IB40: =SUM(IB34:IB39) -> 64508 | IC40: =SUM(IC34:IC39) -> 10453 | ID40: =SUM(ID34:ID39) -> 0 | IE40: =SUM(IE34:IE39) -> 114134 | IF40: =SUM(IF34:IF39) -> 0 | IG40: =SUM(IG34:IG39) -> -46992 | IH40: =SUM(IE40:IG40) -> 67142 | II40: =SUM(II34:II39) -> 58040 | IJ40: =SUM(IJ34:IJ39) -> 9102 | IK40: =SUM(IK34:IK39) -> 0 | IL40: =SUM(IL34:IL39) -> 185330 | IM40: =SUM(IM34:IM39) -> 0 | IN40: =SUM(IN34:IN39) -> -78037 | IO40: =SUM(IL40:IN40) -> 107293 | IP40: =SUM(IP34:IP39) -> 93325 | IQ40: =SUM(IQ34:IQ39) -> 13968 | IR40: =SUM(IR34:IR39) -> 0 | IS40: =SUM(IS34:IS39) -> 182821 | IT40: =SUM(IT34:IT39) -> 1 | IU40: =SUM(IU34:IU39) -> -72362 | IV40: =SUM(IS40:IU40) -> 110460 | IW40: =SUM(IW34:IW39) -> 96352 | IX40: =SUM(IX34:IX39) -> 14108 | IY40: =SUM(IY34:IY39) -> 0 | IZ40: =SUM(IZ34:IZ39) -> 0 | JA40: =SUM(JA34:JA39) -> 0 | JB40: =SUM(JB34:JB39) -> 1420390 | JC40: =SUM(JC34:JC39) -> 174276 | JD40: =+JA40+JB40+IZ40+JC40 -> 1594666 | JE40: =SUM(JE34:JE39) -> 944214 | JF40: =SUM(JF34:JF39) -> 650452 | JG40: =SUM(JG34:JG39) -> 0
