Workbook

Sheet KIADÁSOK_BEVÉTELEK kerület össz
L2: 2. melléklet az .../2021. (…... ...) önkormányzati rendelethez
A3: Budapest Főváros XIV. Kerület Zugló Önkormányzata 2021. évi bevételei
A4: Budapest Főváros XIV. Kerület Zugló Önkormányzata 2020. évi bevételei és kiadásai intézményenként
L5: adatok eFt-ban
D6: 1. Cím
A7: INTÉZMÉNY MEGNEVEZÉSE | D7: KERÜLET ÖSSZESEN (KONSZOLIDÁLT)
A8: ELŐIRÁNYZATOK MEGNEVEZÉSE | D8: 2021. évi eredeti előirányzat | E8: Módosítás | F8: 1. Módosítás | G8: 2. Módosítás | H8: 3. Módosítás | I8: 2021. évi módosított előirányzat | J8: 2021. évi módosított előirányzat
J9: kötelező | K9: önként vállalt | L9: állam- igazgatási
A10: BEVÉTELEK
A11: 1. | B11: Működési célú támogatások államháztartáson belülről | D11: =+'KIADÁSOK_BEVÉTELEK intézményenk'!D10 -> 15465205 | E11: =SUM(E12:E15) -> 0 | F11: =+'KIADÁSOK_BEVÉTELEK intézményenk'!F10 -> 146531 | G11: =+'KIADÁSOK_BEVÉTELEK intézményenk'!G10 -> 709920 | H11: =+'KIADÁSOK_BEVÉTELEK intézményenk'!H10 -> -6389798 | I11: =+'KIADÁSOK_BEVÉTELEK intézményenk'!I10 -> 9931858 | J11: =SUM(J12:J15) -> 9112909 | K11: =SUM(K12:K15) -> 818949 | L11: =SUM(L12:L15) -> 0
B12: a) | C12: helyi önkormányzatok működési támogatásai | D12: ='KIADÁSOK_BEVÉTELEK intézményenk'!D11 -> 6084980 | E12: ='KIADÁSOK_BEVÉTELEK intézményenk'!E11 -> 0 | F12: =+'KIADÁSOK_BEVÉTELEK intézményenk'!F11 -> 146531 | G12: =+'KIADÁSOK_BEVÉTELEK intézményenk'!G11 -> 326752 | H12: =+'KIADÁSOK_BEVÉTELEK intézményenk'!H11 -> -14202 | I12: =+'KIADÁSOK_BEVÉTELEK intézményenk'!I11 -> 6544061 | J12: ='KIADÁSOK_BEVÉTELEK intézményenk'!J11 -> 6544061 | K12: ='KIADÁSOK_BEVÉTELEK intézményenk'!K11 -> 0 | L12: ='KIADÁSOK_BEVÉTELEK intézményenk'!L11 -> 0
B13: b) | C13: elvonások és befizetések bevételei | D13: ='KIADÁSOK_BEVÉTELEK intézményenk'!D12 -> 0 | E13: ='KIADÁSOK_BEVÉTELEK intézményenk'!E12 -> 0 | F13: =+'KIADÁSOK_BEVÉTELEK intézményenk'!F12 -> 0 | G13: =+'KIADÁSOK_BEVÉTELEK intézményenk'!G12 -> 343168 | H13: =+'KIADÁSOK_BEVÉTELEK intézményenk'!H12 -> -171584 | I13: =+'KIADÁSOK_BEVÉTELEK intézményenk'!I12 -> 171584 | J13: ='KIADÁSOK_BEVÉTELEK intézményenk'!J12 -> 171584 | K13: ='KIADÁSOK_BEVÉTELEK intézményenk'!K12 -> 0 | L13: ='KIADÁSOK_BEVÉTELEK intézményenk'!L12 -> 0
B14: c) | C14: visszatérítendő támogatás, kölcsön visszatérülése, igénybevétele államháztartáson belülről | D14: ='KIADÁSOK_BEVÉTELEK intézményenk'!D13 -> 0 | E14: ='KIADÁSOK_BEVÉTELEK intézményenk'!E13 -> 0 | F14: =+'KIADÁSOK_BEVÉTELEK intézményenk'!F13 -> 0 | G14: =+'KIADÁSOK_BEVÉTELEK intézményenk'!G13 -> 0 | H14: =+'KIADÁSOK_BEVÉTELEK intézményenk'!H13 -> 0 | I14: =+'KIADÁSOK_BEVÉTELEK intézményenk'!I13 -> 0 | J14: ='KIADÁSOK_BEVÉTELEK intézményenk'!J13 -> 0 | K14: ='KIADÁSOK_BEVÉTELEK intézményenk'!K13 -> 0 | L14: ='KIADÁSOK_BEVÉTELEK intézményenk'!L13 -> 0
B15: d) | C15: egyéb támogatások bevételei államháztartáson belülről | D15: ='KIADÁSOK_BEVÉTELEK intézményenk'!D14 -> 9380225 | E15: ='KIADÁSOK_BEVÉTELEK intézményenk'!E14 -> 0 | F15: =+'KIADÁSOK_BEVÉTELEK intézményenk'!F14 -> 0 | G15: =+'KIADÁSOK_BEVÉTELEK intézményenk'!G14 -> 40000 | H15: =+'KIADÁSOK_BEVÉTELEK intézményenk'!H14 -> -6204012 | I15: =+'KIADÁSOK_BEVÉTELEK intézményenk'!I14 -> 3216213 | J15: ='KIADÁSOK_BEVÉTELEK intézményenk'!J14 -> 2397264 | K15: ='KIADÁSOK_BEVÉTELEK intézményenk'!K14 -> 818949 | L15: ='KIADÁSOK_BEVÉTELEK intézményenk'!L14 -> 0
A16: 2. | B16: Közhatalmi bevételek | D16: =+'KIADÁSOK_BEVÉTELEK intézményenk'!D15 -> 11318219 | E16: =SUM(E17:E18) -> 0 | F16: =+'KIADÁSOK_BEVÉTELEK intézményenk'!F15 -> 0 | G16: =+'KIADÁSOK_BEVÉTELEK intézményenk'!G15 -> 0 | H16: =+'KIADÁSOK_BEVÉTELEK intézményenk'!H15 -> 129000 | I16: =+'KIADÁSOK_BEVÉTELEK intézményenk'!I15 -> 11447219 | J16: =SUM(J17:J18) -> 8695219 | K16: =SUM(K17:K18) -> 2752000 | L16: =SUM(L17:L18) -> 0
B17: a) | C17: adók (helyi, központi átengedett) | D17: ='KIADÁSOK_BEVÉTELEK intézményenk'!D16 -> 11084019 | E17: ='KIADÁSOK_BEVÉTELEK intézményenk'!E16 -> 0 | F17: =+'KIADÁSOK_BEVÉTELEK intézményenk'!F16 -> 0 | G17: =+'KIADÁSOK_BEVÉTELEK intézményenk'!G16 -> 0 | H17: =+'KIADÁSOK_BEVÉTELEK intézményenk'!H16 -> 129000 | I17: =+'KIADÁSOK_BEVÉTELEK intézményenk'!I16 -> 11213019 | J17: ='KIADÁSOK_BEVÉTELEK intézményenk'!J16 -> 8491019 | K17: ='KIADÁSOK_BEVÉTELEK intézményenk'!K16 -> 2722000 | L17: ='KIADÁSOK_BEVÉTELEK intézményenk'!L16 -> 0
B18: b) | C18: egyéb közhatalmi bevételek | D18: ='KIADÁSOK_BEVÉTELEK intézményenk'!D17 -> 234200 | E18: ='KIADÁSOK_BEVÉTELEK intézményenk'!E17 -> 0 | F18: =+'KIADÁSOK_BEVÉTELEK intézményenk'!F17 -> 0 | G18: =+'KIADÁSOK_BEVÉTELEK intézményenk'!G17 -> 0 | H18: =+'KIADÁSOK_BEVÉTELEK intézményenk'!H17 -> 0 | I18: =+'KIADÁSOK_BEVÉTELEK intézményenk'!I17 -> 234200 | J18: ='KIADÁSOK_BEVÉTELEK intézményenk'!J17 -> 204200 | K18: ='KIADÁSOK_BEVÉTELEK intézményenk'!K17 -> 30000 | L18: ='KIADÁSOK_BEVÉTELEK intézményenk'!L17 -> 0
A19: 3. | B19: Működési bevételek | D19: ='KIADÁSOK_BEVÉTELEK intézményenk'!D18 -> 5261733 | E19: ='KIADÁSOK_BEVÉTELEK intézményenk'!E18 -> 0 | F19: =+'KIADÁSOK_BEVÉTELEK intézményenk'!F18 -> 350423 | G19: =+'KIADÁSOK_BEVÉTELEK intézményenk'!G18 -> 276366 | H19: =+'KIADÁSOK_BEVÉTELEK intézményenk'!H18 -> -282363 | I19: =+'KIADÁSOK_BEVÉTELEK intézményenk'!I18 -> 5606159 | J19: ='KIADÁSOK_BEVÉTELEK intézményenk'!J18 -> 3018488 | K19: ='KIADÁSOK_BEVÉTELEK intézményenk'!K18 -> 2568288 | L19: ='KIADÁSOK_BEVÉTELEK intézményenk'!L18 -> 19383
A20: 4. | B20: Működési célú átvett pénzeszközök | D20: =+'KIADÁSOK_BEVÉTELEK intézményenk'!D19 -> 118532 | E20: =SUM(E21:E22) -> 0 | F20: =+'KIADÁSOK_BEVÉTELEK intézményenk'!F19 -> 0 | G20: =+'KIADÁSOK_BEVÉTELEK intézményenk'!G19 -> 0 | H20: =+'KIADÁSOK_BEVÉTELEK intézményenk'!H19 -> 0 | I20: =+'KIADÁSOK_BEVÉTELEK intézményenk'!I19 -> 118532 | J20: =SUM(J21:J22) -> 0 | K20: =SUM(K21:K22) -> 118532 | L20: =SUM(L21:L22) -> 0
B21: a) | C21: visszatérítendő támogatás, kölcsön visszatérülése államháztartáson kívűlről | D21: ='KIADÁSOK_BEVÉTELEK intézményenk'!D20 -> 2000 | E21: ='KIADÁSOK_BEVÉTELEK intézményenk'!E20 -> 0 | F21: =+'KIADÁSOK_BEVÉTELEK intézményenk'!F20 -> 0 | G21: =+'KIADÁSOK_BEVÉTELEK intézményenk'!G20 -> 0 | H21: =+'KIADÁSOK_BEVÉTELEK intézményenk'!H20 -> 0 | I21: =+'KIADÁSOK_BEVÉTELEK intézményenk'!I20 -> 2000 | J21: ='KIADÁSOK_BEVÉTELEK intézményenk'!J20 -> 0 | K21: ='KIADÁSOK_BEVÉTELEK intézményenk'!K20 -> 2000 | L21: ='KIADÁSOK_BEVÉTELEK intézményenk'!L20 -> 0
B22: b) | C22: egyéb átvett pénzeszköz államháztartáson kívülről | D22: ='KIADÁSOK_BEVÉTELEK intézményenk'!D21 -> 116532 | E22: ='KIADÁSOK_BEVÉTELEK intézményenk'!E21 -> 0 | F22: =+'KIADÁSOK_BEVÉTELEK intézményenk'!F21 -> 0 | G22: =+'KIADÁSOK_BEVÉTELEK intézményenk'!G21 -> 0 | H22: =+'KIADÁSOK_BEVÉTELEK intézményenk'!H21 -> 0 | I22: =+'KIADÁSOK_BEVÉTELEK intézményenk'!I21 -> 116532 | J22: ='KIADÁSOK_BEVÉTELEK intézményenk'!J21 -> 0 | K22: ='KIADÁSOK_BEVÉTELEK intézményenk'!K21 -> 116532 | L22: ='KIADÁSOK_BEVÉTELEK intézményenk'!L21 -> 0
A23: 5. | B23: Működési bevételek összesen (1+2+3+4) | D23: =D11+D16+D19+D20 -> 32163689 | E23: =E11+E16+E19+E20 -> 0 | F23: =+'KIADÁSOK_BEVÉTELEK intézményenk'!F22 -> 496954 | G23: =+'KIADÁSOK_BEVÉTELEK intézményenk'!G22 -> 986286 | H23: =+'KIADÁSOK_BEVÉTELEK intézményenk'!H22 -> -6543161 | I23: =+'KIADÁSOK_BEVÉTELEK intézményenk'!I22 -> 27103768 | J23: =J11+J16+J19+J20 -> 20826616 | K23: =K11+K16+K19+K20 -> 6257769 | L23: =L11+L16+L19+L20 -> 19383
A24: 6. | B24: Felhalmozási célú támogatások államháztartáson belülről | D24: =SUM(D25:D27) -> 313931 | E24: =SUM(E25:E27) -> 0 | F24: =+'KIADÁSOK_BEVÉTELEK intézményenk'!F23 -> 0 | G24: =+'KIADÁSOK_BEVÉTELEK intézményenk'!G23 -> 283272.5 | H24: =+'KIADÁSOK_BEVÉTELEK intézményenk'!H23 -> 300364 | I24: =+'KIADÁSOK_BEVÉTELEK intézményenk'!I23 -> 897567.5 | J24: =SUM(J25:J27) -> 54108.5 | K24: =SUM(K25:K27) -> 843459 | L24: =SUM(L25:L27) -> 0
B25: a) | C25: helyi önkormányzatok felhalmozási támogatásai | D25: ='KIADÁSOK_BEVÉTELEK intézményenk'!D24 -> 0 | E25: ='KIADÁSOK_BEVÉTELEK intézményenk'!E24 -> 0 | F25: =+'KIADÁSOK_BEVÉTELEK intézményenk'!F24 -> 0 | G25: =+'KIADÁSOK_BEVÉTELEK intézményenk'!G24 -> 0 | H25: =+'KIADÁSOK_BEVÉTELEK intézményenk'!H24 -> 0 | I25: =+'KIADÁSOK_BEVÉTELEK intézményenk'!I24 -> 0 | J25: ='KIADÁSOK_BEVÉTELEK intézményenk'!J24 -> 0 | K25: ='KIADÁSOK_BEVÉTELEK intézményenk'!K24 -> 0 | L25: ='KIADÁSOK_BEVÉTELEK intézményenk'!L24 -> 0
B26: b) | C26: visszatérítendő támogatás, kölcsön visszatérülése, igénybevétele államháztartáson belülről | D26: ='KIADÁSOK_BEVÉTELEK intézményenk'!D25 -> 0 | E26: ='KIADÁSOK_BEVÉTELEK intézményenk'!E25 -> 0 | F26: =+'KIADÁSOK_BEVÉTELEK intézményenk'!F25 -> 0 | G26: =+'KIADÁSOK_BEVÉTELEK intézményenk'!G25 -> 0 | H26: =+'KIADÁSOK_BEVÉTELEK intézményenk'!H25 -> 0 | I26: =+'KIADÁSOK_BEVÉTELEK intézményenk'!I25 -> 0 | J26: ='KIADÁSOK_BEVÉTELEK intézményenk'!J25 -> 0 | K26: ='KIADÁSOK_BEVÉTELEK intézményenk'!K25 -> 0 | L26: ='KIADÁSOK_BEVÉTELEK intézményenk'!L25 -> 0
B27: c) | C27: egyéb támogatások bevételei államháztartáson belülről | D27: ='KIADÁSOK_BEVÉTELEK intézményenk'!D26 -> 313931 | E27: ='KIADÁSOK_BEVÉTELEK intézményenk'!E26 -> 0 | F27: =+'KIADÁSOK_BEVÉTELEK intézményenk'!F26 -> 0 | G27: =+'KIADÁSOK_BEVÉTELEK intézményenk'!G26 -> 283272.5 | H27: =+'KIADÁSOK_BEVÉTELEK intézményenk'!H26 -> 300364 | I27: =+'KIADÁSOK_BEVÉTELEK intézményenk'!I26 -> 897567.5 | J27: ='KIADÁSOK_BEVÉTELEK intézményenk'!J26 -> 54108.5 | K27: ='KIADÁSOK_BEVÉTELEK intézményenk'!K26 -> 843459 | L27: ='KIADÁSOK_BEVÉTELEK intézményenk'!L26 -> 0
A28: 7. | B28: Felhalmozási bevételek | D28: ='KIADÁSOK_BEVÉTELEK intézményenk'!D27 -> 1838999 | E28: ='KIADÁSOK_BEVÉTELEK intézményenk'!E27 -> 0 | F28: =+'KIADÁSOK_BEVÉTELEK intézményenk'!F27 -> 0 | G28: =+'KIADÁSOK_BEVÉTELEK intézményenk'!G27 -> 0 | H28: =+'KIADÁSOK_BEVÉTELEK intézményenk'!H27 -> -566836 | I28: =+'KIADÁSOK_BEVÉTELEK intézményenk'!I27 -> 1272163 | J28: ='KIADÁSOK_BEVÉTELEK intézményenk'!J27 -> 1500 | K28: ='KIADÁSOK_BEVÉTELEK intézményenk'!K27 -> 1270663 | L28: ='KIADÁSOK_BEVÉTELEK intézményenk'!L27 -> 0
A29: 8. | B29: Felhalmozási célú átvett pénzeszközök | D29: =SUM(D30:D31) -> 542370 | E29: =SUM(E30:E31) -> 0 | F29: =+'KIADÁSOK_BEVÉTELEK intézményenk'!F28 -> 0 | G29: =+'KIADÁSOK_BEVÉTELEK intézményenk'!G28 -> 0 | H29: =+'KIADÁSOK_BEVÉTELEK intézményenk'!H28 -> -226357 | I29: =+'KIADÁSOK_BEVÉTELEK intézményenk'!I28 -> 316013 | J29: =SUM(J30:J31) -> 0 | K29: =SUM(K30:K31) -> 316013 | L29: =SUM(L30:L31) -> 0
B30: a) | C30: visszatérítendő támogatás, kölcsön visszatérülése államháztartáson kívűlről | D30: ='KIADÁSOK_BEVÉTELEK intézményenk'!D29 -> 3000 | E30: ='KIADÁSOK_BEVÉTELEK intézményenk'!E29 -> 0 | F30: =+'KIADÁSOK_BEVÉTELEK intézményenk'!F29 -> 0 | G30: =+'KIADÁSOK_BEVÉTELEK intézményenk'!G29 -> 0 | H30: =+'KIADÁSOK_BEVÉTELEK intézményenk'!H29 -> 0 | I30: =+'KIADÁSOK_BEVÉTELEK intézményenk'!I29 -> 3000 | J30: ='KIADÁSOK_BEVÉTELEK intézményenk'!J29 -> 0 | K30: ='KIADÁSOK_BEVÉTELEK intézményenk'!K29 -> 3000 | L30: ='KIADÁSOK_BEVÉTELEK intézményenk'!L29 -> 0
B31: b) | C31: egyéb átvett pénzeszköz államháztartáson kívülről | D31: ='KIADÁSOK_BEVÉTELEK intézményenk'!D30 -> 539370 | E31: ='KIADÁSOK_BEVÉTELEK intézményenk'!E30 -> 0 | F31: =+'KIADÁSOK_BEVÉTELEK intézményenk'!F30 -> 0 | G31: =+'KIADÁSOK_BEVÉTELEK intézményenk'!G30 -> 0 | H31: =+'KIADÁSOK_BEVÉTELEK intézményenk'!H30 -> -226357 | I31: =+'KIADÁSOK_BEVÉTELEK intézményenk'!I30 -> 313013 | J31: ='KIADÁSOK_BEVÉTELEK intézményenk'!J30 -> 0 | K31: ='KIADÁSOK_BEVÉTELEK intézményenk'!K30 -> 313013 | L31: ='KIADÁSOK_BEVÉTELEK intézményenk'!L30 -> 0
A32: 9. | B32: Felhalmozási bevételek összesen (6+7+8) | D32: =D24+D28+D29 -> 2695300 | E32: =E24+E28+E29 -> 0 | F32: =+'KIADÁSOK_BEVÉTELEK intézményenk'!F31 -> 0 | G32: =+'KIADÁSOK_BEVÉTELEK intézményenk'!G31 -> 283272.5 | H32: =+'KIADÁSOK_BEVÉTELEK intézményenk'!H31 -> -492829 | I32: =+'KIADÁSOK_BEVÉTELEK intézményenk'!I31 -> 2485743.5 | J32: =J24+J28+J29 -> 55608.5 | K32: =K24+K28+K29 -> 2430135 | L32: =L24+L28+L29 -> 0
A33: KÖLTSÉGVETÉSI BEVÉTELEK ÖSSZESEN | D33: =D23+D32 -> 34858989 | E33: =E23+E32 -> 0 | F33: =+'KIADÁSOK_BEVÉTELEK intézményenk'!F32 -> 496954 | G33: =+'KIADÁSOK_BEVÉTELEK intézményenk'!G32 -> 1269558.5 | H33: =+'KIADÁSOK_BEVÉTELEK intézményenk'!H32 -> -7035990 | I33: =+'KIADÁSOK_BEVÉTELEK intézményenk'!I32 -> 29589512 | J33: =J23+J32 -> 20882224 | K33: =K23+K32 -> 8687904 | L33: =L23+L32 -> 19383
A34: 10. | B34: Finanszírozási bevételek | F34: =+'KIADÁSOK_BEVÉTELEK intézményenk'!F33 -> 0 | G34: =+'KIADÁSOK_BEVÉTELEK intézményenk'!G33 -> 0 | H34: =+'KIADÁSOK_BEVÉTELEK intézményenk'!H33 -> 0 | I34: =+'KIADÁSOK_BEVÉTELEK intézményenk'!I33 -> 0
B35: a) | C35: hitelek, kölcsönök felvétele (folyószámla hitelkeret) | D35: ='KIADÁSOK_BEVÉTELEK intézményenk'!D34 -> 2000000 | E35: ='KIADÁSOK_BEVÉTELEK intézményenk'!E34 -> 0 | F35: =+'KIADÁSOK_BEVÉTELEK intézményenk'!F34 -> 0 | G35: =+'KIADÁSOK_BEVÉTELEK intézményenk'!G34 -> 0 | H35: =+'KIADÁSOK_BEVÉTELEK intézményenk'!H34 -> 0 | I35: =+'KIADÁSOK_BEVÉTELEK intézményenk'!I34 -> 2000000 | J35: ='KIADÁSOK_BEVÉTELEK intézményenk'!J34 -> 0 | K35: ='KIADÁSOK_BEVÉTELEK intézményenk'!K34 -> 2000000 | L35: ='KIADÁSOK_BEVÉTELEK intézményenk'!L34 -> 0
B36: b) | C36: értékpapírok kibocsátása, beváltása, értékesítése | D36: ='KIADÁSOK_BEVÉTELEK intézményenk'!D35 -> 259 | E36: ='KIADÁSOK_BEVÉTELEK intézményenk'!E35 -> 0 | F36: =+'KIADÁSOK_BEVÉTELEK intézményenk'!F35 -> 0 | G36: =+'KIADÁSOK_BEVÉTELEK intézményenk'!G35 -> 0 | H36: =+'KIADÁSOK_BEVÉTELEK intézményenk'!H35 -> 0 | I36: =+'KIADÁSOK_BEVÉTELEK intézményenk'!I35 -> 259 | J36: ='KIADÁSOK_BEVÉTELEK intézményenk'!J35 -> 0 | K36: ='KIADÁSOK_BEVÉTELEK intézményenk'!K35 -> 259 | L36: ='KIADÁSOK_BEVÉTELEK intézményenk'!L35 -> 0
B37: c) | C37: betét megszüntetése, visszautalása | D37: ='KIADÁSOK_BEVÉTELEK intézményenk'!D36 -> 0 | E37: ='KIADÁSOK_BEVÉTELEK intézményenk'!E36 -> 0 | F37: =+'KIADÁSOK_BEVÉTELEK intézményenk'!F36 -> 1000000 | G37: =+'KIADÁSOK_BEVÉTELEK intézményenk'!G36 -> 0 | H37: =+'KIADÁSOK_BEVÉTELEK intézményenk'!H36 -> 0 | I37: =+'KIADÁSOK_BEVÉTELEK intézményenk'!I36 -> 1000000 | J37: ='KIADÁSOK_BEVÉTELEK intézményenk'!J36 -> 0 | K37: ='KIADÁSOK_BEVÉTELEK intézményenk'!K36 -> 1000000 | L37: ='KIADÁSOK_BEVÉTELEK intézményenk'!L36 -> 0
B38: d) | C38: előző évek költségvetési maradványának igénybevétele | D38: ='KIADÁSOK_BEVÉTELEK intézményenk'!D37 -> 3741589 | E38: ='KIADÁSOK_BEVÉTELEK intézményenk'!E37 -> 0 | F38: =+'KIADÁSOK_BEVÉTELEK intézményenk'!F37 -> -1188498 | G38: =+'KIADÁSOK_BEVÉTELEK intézményenk'!G37 -> 0.5 | H38: =+'KIADÁSOK_BEVÉTELEK intézményenk'!H37 -> 0 | I38: =+'KIADÁSOK_BEVÉTELEK intézményenk'!I37 -> 2553090.5 | J38: ='KIADÁSOK_BEVÉTELEK intézményenk'!J37 -> 2553090.5 | K38: ='KIADÁSOK_BEVÉTELEK intézményenk'!K37 -> 0 | L38: ='KIADÁSOK_BEVÉTELEK intézményenk'!L37 -> 0
B39: e) | C39: államháztartáson belüli megelőlegezések bevétele | D39: ='KIADÁSOK_BEVÉTELEK intézményenk'!D38 -> 199820 | E39: ='KIADÁSOK_BEVÉTELEK intézményenk'!E38 -> 0 | F39: =+'KIADÁSOK_BEVÉTELEK intézményenk'!F38 -> 0 | G39: =+'KIADÁSOK_BEVÉTELEK intézményenk'!G38 -> 0 | H39: =+'KIADÁSOK_BEVÉTELEK intézményenk'!H38 -> 0 | I39: =+'KIADÁSOK_BEVÉTELEK intézményenk'!I38 -> 199820 | J39: ='KIADÁSOK_BEVÉTELEK intézményenk'!J38 -> 199820 | K39: ='KIADÁSOK_BEVÉTELEK intézményenk'!K38 -> 0 | L39: ='KIADÁSOK_BEVÉTELEK intézményenk'!L38 -> 0
B40: f) | C40: irányító szervi támogatás (kerület összesenből kihagyva duplázódás miatt-konszolidálás)
A41: FINANSZÍROZÁSI BEVÉTELEK ÖSSZESEN | D41: =SUM(D35:D40) -> 5941668 | E41: =SUM(E35:E40) -> 0 | F41: =+'KIADÁSOK_BEVÉTELEK intézményenk'!F40 -> -188498 | G41: =+G36+G38 -> 0.5 | H41: =+H36+H38 -> 0 | I41: =+'KIADÁSOK_BEVÉTELEK intézményenk'!I40 -> 5753169.5 | J41: =SUM(J35:J40) -> 2752910.5 | K41: =SUM(K35:K40) -> 3000259 | L41: =SUM(L35:L40) -> 0
...

Sheet KIADÁSOK_BEVÉTELEK intézményenk
T2: 4. melléklet az …./2021. (…... …..) önkormányzati rendelethez
L4: adatok eFt-ban | T4: adatok eFt-ban | AB4: adatok eFt-ban | AJ4: adatok eFt-ban | AQ4: adatok eFt-ban | AY4: adatok eFt-ban | BG4: adatok eFt-ban | BO4: adatok eFt-ban | BW4: adatok eFt-ban | CE4: adatok eFt-ban | CM4: adatok eFt-ban | CT4: adatok eFt-ban | DA4: adatok eFt-ban | DH4: adatok eFt-ban | DO4: adatok eFt-ban | DV4: adatok eFt-ban | EC4: adatok eFt-ban | EJ4: adatok eFt-ban | EQ4: adatok eFt-ban | EX4: adatok eFt-ban | FE4: adatok eFt-ban | FL4: adatok eFt-ban | FS4: adatok eFt-ban | FZ4: adatok eFt-ban | GG4: adatok eFt-ban | GN4: adatok eFt-ban | GU4: adatok eFt-ban | HB4: adatok eFt-ban | HI4: adatok eFt-ban | HP4: adatok eFt-ban | HW4: adatok eFt-ban | ID4: adatok eFt-ban | IK4: adatok eFt-ban | IR4: adatok eFt-ban | IY4: adatok eFt-ban | JG4: adatok eFt-ban
M5: 2. Cím | U5: 3. Cím | AC5: 4. Cím | AK5: 5. Cím | AR5: 5. Cím | BH5: 6. Cím | BP5: 7. Cím | BX5: 8. Cím | CN5: 9. Cím | CU5: 10. Cím | DB5: 11. Cím | DI5: 12. Cím | DP5: 13. Cím | DW5: 14. Cím | ED5: 15. Cím | EK5: 16. Cím | ER5: 17. Cím | EY5: 18. Cím | FF5: 19. Cím | FM5: 20. Cím | FT5: 21. Cím | GA5: 22. Cím | GH5: 23. Cím | GO5: 24. Cím | GV5: 25. Cím | HC5: 26. Cím | HJ5: 27. Cím | HQ5: 28. Cím | HX5: 29. Cím | IE5: 30. Cím | IL5: 31. Cím | IS5: 32. Cím | IZ5: 33. Cím
A6: INTÉZMÉNY MEGNEVEZÉSE | D6: KERÜLET ÖSSZESEN (KONSZOLIDÁLT) | M6: I. BUDAPEST FŐVÁROS XIV. KERÜLET ZUGLÓ ÖNKORMÁNYZATA | U6: II. BUDAPEST FŐVÁROS XIV. KERÜLET ZUGLÓI POLGÁRMESTERI HIVATAL | AC6: III. ZUGLÓI EGÉSZSÉGÜGYI SZOLGÁLAT | AK6: ZUGLÓI INTÉZMÉNYGAZDÁLKODÁSI KÖZPONT | AR6: IV. ZUGLÓI ÖNKORMÁNYZATI RENDÉSZET | AZ6: V. SZOCIÁLIS ÁGAZAT ÖSSZESEN | BH6: VI. ZUGLÓI EGYESÍTETT BÖLCSŐDÉK | BP6: VII. ZUGLÓI CSALÁD- ÉS GYERMEKJÓLÉTI KÖZPONT | BX6: VIII. ZUGLÓI SZOCIÁLIS SZOLGÁLTATÓ KÖZPONT | CF6: IX. ÓVODÁK ÖSSZESEN | CN6: X. ZUGLÓI APRÓFALVA ÓVODA | CU6: XI. ZUGLÓI BÓBITA ÓVODA | DB6: XII. ZUGLÓI CSEPEREDŐ ÓVODA | DI6: XIII. ZUGLÓI CSICSERGŐ ÓVODA | DP6: XIV. ZUGLÓI NAPKÖZIOTTHONOS ÓVODA | DW6: XV. ZUGLÓI HERMINKA ÓVODA | ED6: XVI. ZUGLÓI HÉTSZÍNVIRÁG ÓVODA | EK6: XVII. ZUGLÓI JÁTÉKSZÍN ÓVODA | ER6: XVIII. ZUGLÓI KERÉKGYÁRTÓ ÓVODA | EY6: XIX. ZUGLÓI KINCSKERESŐ ÓVODA | FF6: XX. ZUGLÓI MÁLYVA ÓVODA | FM6: XXI. ZUGLÓI MESEHÁZ ÓVODA | FT6: XXII. ZUGLÓI MÓKAVÁR ÓVODA | GA6: XXIII. ZUGLÓI NAPRAFORGÓ ÓVODA | GH6: XXIV. ZUGLÓI NAPSUGÁR ÓVODA | GO6: XXV. ZUGLÓI NARANCS ÓVODA | GV6: XXVI. ZUGLÓI ÓPERENCIÁS ÓVODA | HC6: XXVII. ZUGLÓI ÖRÖKZÖLD ÓVODA | HJ6: XXVIII. ZUGLÓI PÖTTÖM PARK ÓVODA | HQ6: XXIX. ZUGLÓI RÓZSAVÁR ÓVODA | HX6: XXX. ZUGLÓI TIHANY ÓVODA | IE6: XXXI. ZUGLÓI TÜCSÖKTANYA ÓVODA | IL6: XXXII. ZUGLÓI TÜNDÉRKERT ÓVODA | IS6: XXXIII. ZUGLÓI ZÖLD LURKÓK ÓVODA | IZ6: XXXIV. ZUGLÓI EGYESÍTETT ÓVODA
A7: Előirámyzat megnevezése | D7: 2021. évi eredeti előirányzat | E7: Módosítás | F7: 1. Módosítás | G7: 2. Módosítás | H7: 3. Módosítás | I7: 2021. évi módosított előirányzat | J7: 2021. évi módosított előirányzat | M7: 2021. évi terv előirányzat | N7: 1. Módosítás | O7: 2. Módosítás | P7: 3. Módosítás | Q7: 2021. évi módosított előirányzat | R7: 2021. évi módosított előirányzat | U7: 2021. évi eredeti előirányzat | V7: 1. Módosítás | W7: 2. Módosítás | X7: 3. Módosítás | Y7: 2021. évi módosított előirányzat | Z7: 2021. évi módosított előirányzat | AC7: 2021. évi eredeti előirányzat | AD7: 1. Módosítás | AE7: 2. Módosítás | AF7: 3. Módosítás | AG7: 2021. évi módosított előirányzat | AH7: 2021. évi módosított előirányzat | AK7: 2021. évi eredeti előirányzat | AL7: 2021. évi módosított előirányzat | AM7: Módosítás | AN7: 2021. évi módosított előirányzat | AO7: 2021. évi módosított előirányzat | AR7: 2021. évi eredeti előirányzat | AS7: 1. Módosítás | AT7: 2. Módosítás | AU7: 3. Módosítás | AV7: 2021. évi módosított előirányzat | AW7: 2021. évi módosított előirányzat | AZ7: 2021. évi eredeti előirányzat | BA7: 1. Módosítás | BB7: 2. Módosítás | BC7: 3. Módosítás | BD7: 2021. évi módosított előirányzat | BE7: 2021. évi módosított előirányzat | BH7: 2021. évi eredeti előirányzat | BI7: 1. Módosítás | BJ7: 2. Módosítás | BK7: 3. Módosítás | BL7: 2021. évi módosított előirányzat | BM7: 2021. évi módosított előirányzat | BP7: 2021. évi eredeti előirányzat | BQ7: 1. Módosítás | BR7: 2. Módosítás | BS7: 3. Módosítás | BT7: 2021. évi módosított előirányzat | BU7: 2021. évi módosított előirányzat | BX7: 2021. évi eredeti előirányzat | BY7: 1. Módosítás | BZ7: 2. Módosítás | CA7: 3. Módosítás | CB7: 2021. évi módosított előirányzat | CC7: 2021. évi módosított előirányzat | CF7: 2021. évi eredeti előirányzat | CG7: 1. Módosítás | CH7: 2. Módosítás | CI7: 3. Módosítás | CJ7: 2021. évi módosított előirányzat | CK7: 2021. évi módosított előirányzat | CN7: 2021. évi eredeti előirányzat | CO7: 1. Módosítás | CP7: 2. Módosítás | CQ7: 2021. évi módosított előirányzat | CR7: 2021. évi módosított előirányzat | CU7: 2021. évi eredeti előirányzat | CV7: 1. Módosítás | CW7: 2. Módosítás | CX7: 2021. évi módosított előirányzat | CY7: 2021. évi módosított előirányzat | DB7: 2021. évi eredeti előirányzat | DC7: 1. Módosítás | DD7: 2. Módosítás | DE7: 2021. évi módosított előirányzat | DF7: 2021. évi módosított előirányzat | DI7: 2021. évi eredeti előirányzat | DJ7: 1. Módosítás | DK7: 2. Módosítás | DL7: 2021. évi módosított előirányzat | DM7: 2021. évi módosított előirányzat | DP7: 2021. évi eredeti előirányzat | DQ7: 1. Módosítás | DR7: 2. Módosítás | DS7: 2021. évi módosított előirányzat | DT7: 2021. évi módosított előirányzat | DW7: 2021. évi eredeti előirányzat | DX7: 1. Módosítás | DY7: 2. Módosítás | DZ7: 2021. évi módosított előirányzat | EA7: 2021. évi módosított előirányzat | ED7: 2021. évi eredeti előirányzat | EE7: 1. Módosítás | EF7: 2. Módosítás | EG7: 2021. évi módosított előirányzat | EH7: 2021. évi módosított előirányzat | EK7: 2021. évi eredeti előirányzat | EL7: 1. Módosítás | EM7: 2. Módosítás | EN7: 2021. évi módosított előirányzat | EO7: 2021. évi módosított előirányzat | ER7: 2021. évi eredeti előirányzat | ES7: 1. Módosítás | ET7: 2. Módosítás | EU7: 2021. évi módosított előirányzat | EV7: 2021. évi módosított előirányzat | EY7: 2021. évi eredeti előirányzat | EZ7: 1. Módosítás | FA7: 2. Módosítás | FB7: 2021. évi módosított előirányzat | FC7: 2021. évi módosított előirányzat | FF7: 2021. évi eredeti előirányzat | FG7: 1. Módosítás | FH7: 2. Módosítás | FI7: 2021. évi módosított előirányzat | FJ7: 2021. évi módosított előirányzat | FM7: 2021. évi eredeti előirányzat | FN7: 1. Módosítás | FO7: 2. Módosítás | FP7: 2021. évi módosított előirányzat | FQ7: 2021. évi módosított előirányzat | FT7: 2021. évi eredeti előirányzat | FU7: 1. Módosítás | FV7: 2. Módosítás | FW7: 2021. évi módosított előirányzat | FX7: 2021. évi módosított előirányzat | GA7: 2021. évi eredeti előirányzat | GB7: 1. Módosítás | GC7: 2. Módosítás | GD7: 2021. évi módosított előirányzat | GE7: 2021. évi módosított előirányzat | GH7: 2021. évi eredeti előirányzat | GI7: 1. Módosítás | GJ7: 2. Módosítás | GK7: 2021. évi módosított előirányzat | GL7: 2021. évi módosított előirányzat | GO7: 2021. évi eredeti előirányzat | GP7: 1. Módosítás | GQ7: 2. Módosítás | GR7: 2021. évi módosított előirányzat | GS7: 2021. évi módosított előirányzat | GV7: 2021. évi eredeti előirányzat | GW7: 1. Módosítás | GX7: 2. Módosítás | GY7: 2021. évi módosított előirányzat | GZ7: 2021. évi módosított előirányzat | HC7: 2021. évi eredeti előirányzat | HD7: 1. Módosítás | HE7: 2. Módosítás | HF7: 2021. évi módosított előirányzat | HG7: 2021. évi módosított előirányzat | HJ7: 2021. évi eredeti előirányzat | HK7: 1. Módosítás | HL7: 2. Módosítás | HM7: 2021. évi módosított előirányzat | HN7: 2021. évi módosított előirányzat | HQ7: 2021. évi eredeti előirányzat | HR7: 1. Módosítás | HS7: 2. Módosítás | HT7: 2021. évi módosított előirányzat | HU7: 2021. évi módosított előirányzat | HX7: 2021. évi eredeti előirányzat | HY7: 1. Módosítás | HZ7: 2. Módosítás | IA7: 2021. évi módosított előirányzat | IB7: 2021. évi módosított előirányzat | IE7: 2021. évi eredeti előirányzat | IF7: 1. Módosítás | IG7: 2. Módosítás | IH7: 2021. évi módosított előirányzat | II7: 2021. évi módosított előirányzat | IL7: 2021. évi eredeti előirányzat | IM7: 1. Módosítás | IN7: 2. Módosítás | IO7: 2021. évi módosított előirányzat | IP7: 2021. évi módosított előirányzat | IS7: 2021. évi eredeti előirányzat | IT7: 1. Módosítás | IU7: 2. Módosítás | IV7: 2021. évi módosított előirányzat | IW7: 2021. évi módosított előirányzat | IZ7: 2021. évi eredeti előirányzat | JA7: 1. Módosítás | JB7: 2. Módosítás | JC7: 3. Módosítás | JD7: 2021. évi módosított előirányzat | JE7: 2021. évi módosított előirányzat
J8: kötelező | K8: önként vállalt | L8: állam- igazgatási | R8: kötelező | S8: önként vállalt | T8: állam- igazgatási | Z8: kötelező | AA8: önként vállalt | AB8: állam- igazgatási | AH8: kötelező | AI8: önként vállalt | AJ8: állam- igazgatási | AO8: kötelező | AP8: önként vállalt | AQ8: állam- igazgatási | AW8: kötelező | AX8: önként vállalt | AY8: állam- igazgatási | BE8: kötelező | BF8: önként vállalt | BG8: állam- igazgatási | BM8: kötelező | BN8: önként vállalt | BO8: állam- igazgatási | BU8: kötelező | BV8: önként vállalt | BW8: állam- igazgatási | CC8: kötelező | CD8: önként vállalt | CE8: állam- igazgatási | CK8: kötelező | CL8: önként vállalt | CM8: állam- igazgatási | CR8: kötelező | CS8: önként vállalt | CT8: állam- igazgatási | CY8: kötelező | CZ8: önként vállalt | DA8: állam- igazgatási | DF8: kötelező | DG8: önként vállalt | DH8: állam- igazgatási | DM8: kötelező | DN8: önként vállalt | DO8: állam- igazgatási | DT8: kötelező | DU8: önként vállalt | DV8: állam- igazgatási | EA8: kötelező | EB8: önként vállalt | EC8: állam- igazgatási | EH8: kötelező | EI8: önként vállalt | EJ8: állam- igazgatási | EO8: kötelező | EP8: önként vállalt | EQ8: állam- igazgatási | EV8: kötelező | EW8: önként vállalt | EX8: állam- igazgatási | FC8: kötelező | FD8: önként vállalt | FE8: állam- igazgatási | FJ8: kötelező | FK8: önként vállalt | FL8: állam- igazgatási | FQ8: kötelező | FR8: önként vállalt | FS8: állam- igazgatási | FX8: kötelező | FY8: önként vállalt | FZ8: állam- igazgatási | GE8: kötelező | GF8: önként vállalt | GG8: állam- igazgatási | GL8: kötelező | GM8: önként vállalt | GN8: állam- igazgatási | GS8: kötelező | GT8: önként vállalt | GU8: állam- igazgatási | GZ8: kötelező | HA8: önként vállalt | HB8: állam- igazgatási | HG8: kötelező | HH8: önként vállalt | HI8: állam- igazgatási | HN8: kötelező | HO8: önként vállalt | HP8: állam- igazgatási | HU8: kötelező | HV8: önként vállalt | HW8: állam- igazgatási | IB8: kötelező | IC8: önként vállalt | ID8: állam- igazgatási | II8: kötelező | IJ8: önként vállalt | IK8: állam- igazgatási | IP8: kötelező | IQ8: önként vállalt | IR8: állam- igazgatási | IW8: kötelező | IX8: önként vállalt | IY8: állam- igazgatási | JE8: kötelező | JF8: önként vállalt | JG8: állam- igazgatási
A9: BEVÉTELEK
A10: 1. | B10: Működési célú támogatások államháztartáson belülről | D10: =SUM(D11:D14) -> 15465205 | E10: =SUM(E11:E14) -> 0 | F10: =+N10+V10+AD10+AS10+BA10+CG10 -> 146531 | G10: =+O10+W10+AE10+AT10+BB10+CH10 -> 709920 | H10: =+P10+X10+AF10+AU10+BC10+CI10 -> -6389798 | I10: =+Q10+Y10+AG10+AV10+BD10+CJ10 -> 9931858 | J10: =+R10+Z10+AH10+AW10+BE10+CK10 -> 9112909 | K10: =+S10+AA10+AI10+AX10+BF10+CL10 -> 818949 | L10: =+T10+AB10+AJ10+AY10+BG10+CM10 -> 10947 | M10: =+M11+M14 -> 12786012 | N10: =SUM(N11:N14) -> 146531 | O10: =SUM(O11:O14) -> 669920 | P10: =SUM(P11:P14) -> -6740902 | Q10: =SUM(M10:P10) -> 6861561 | R10: =+Q10-S10 -> 6775868 | S10: =+S14 -> 85693 | T10: =SUM(T11:T14) -> 0 | U10: =SUM(U11:U14) -> 5775 | V10: =SUM(V11:V14) -> 0 | W10: =SUM(W11:W14) -> 0 | X10: =SUM(X11:X14) -> 0 | Y10: =+V10+U10+W10+X10 -> 5775 | Z10: =SUM(Z11:Z14) -> 5775 | AA10: =SUM(AA11:AA14) -> 0 | AB10: =SUM(AB11:AB14) -> 0 | AC10: =SUM(AC11:AC14) -> 2658597 | AD10: =SUM(AD11:AD14) -> 0 | AE10: =SUM(AE11:AE14) -> 40000 | AF10: =SUM(AF11:AF14) -> 347319 | AG10: =+AD10+AE10+AC10+AF10 -> 3045916 | AH10: =SUM(AH11:AH14) -> 2327481 | AI10: =SUM(AI11:AI14) -> 718435 | AJ10: =SUM(AJ11:AJ14) -> 0 | AR10: =SUM(AR11:AR14) -> 0 | AS10: =SUM(AS11:AS14) -> 0 | AT10: =+AR10 -> 0 | AU10: =+AS10 -> 0 | AV10: =+AS10+AT10+AR10+AU10 -> 0 | AW10: =SUM(AW11:AW14) -> 0 | AX10: =SUM(AX11:AX14) -> 0 | AY10: =SUM(AY11:AY14) -> 0 | AZ10: =SUM(AZ11:AZ14) -> 14821 | BA10: =SUM(BA11:BA14) -> 0 | BB10: =SUM(BB11:BB14) -> 0 | BC10: =SUM(BC11:BC14) -> 136 | BD10: =SUM(AZ10:BC10) -> 14957 | BE10: =SUM(BE11:BE14) -> 136 | BF10: =SUM(BF11:BF14) -> 14821 | BG10: =SUM(BG11:BG14) -> 0 | BH10: =SUM(BH11:BH14) -> 0 | BI10: =SUM(BI11:BI14) -> 0 | BJ10: =SUM(BJ11:BJ14) -> 0 | BK10: =SUM(BK11:BK14) -> 0 | BL10: =+BI10+BJ10+BH10+BK10 -> 0 | BM10: =SUM(BM11:BM14) -> 0 | BN10: =SUM(BN11:BN14) -> 0 | BO10: =SUM(BO11:BO14) -> 0 | BP10: =SUM(BP11:BP14) -> 0 | BQ10: =SUM(BQ11:BQ14) -> 0 | BR10: =SUM(BR11:BR14) -> 0 | BS10: =SUM(BS11:BS14) -> 136 | BT10: =+BQ10+BR10+BP10+BS10 -> 136 | BU10: =SUM(BU11:BU14) -> 136 | BV10: =SUM(BV11:BV14) -> 0 | BW10: =SUM(BW11:BW14) -> 0 | BX10: =SUM(BX11:BX14) -> 14821 | BY10: =SUM(BY11:BY14) -> 0 | BZ10: =SUM(BZ11:BZ14) -> 0 | CA10: =SUM(CA11:CA14) -> 0 | CB10: =SUM(BX10:BZ10)+CA10 -> 14821 | CC10: =SUM(CC11:CC14) -> 0 | CD10: =SUM(CD11:CD14) -> 14821 | CE10: =SUM(CE11:CE14) -> 0 | CF10: =SUM(CF11:CF14) -> 0 | CG10: =SUM(CG11:CG14) -> 0 | CH10: =SUM(CH11:CH14) -> 0 | CI10: =SUM(CI11:CI14) -> 3649 | CJ10: =SUM(CQ10,CX10,DE10,DL10,DS10,DZ10,EG10,EN10,EU10,FB10,FI10,FP10,FW10,GD10,GK10,GR10,GY10,HF10,HM10,HT10,IA10,IH10,IO10,IV10)+JD10 -> 3649 | CK10: =SUM(CR10,CY10,DF10,DM10,DT10,EA10,EH10,EO10,EV10,FC10,FJ10,FQ10,FX10,GE10,GL10,GS10,GZ10,HG10,HN10,HU10,IB10,II10,IP10,IW10)+JE10 -> 3649 | CL10: =SUM(CS10,CZ10,DG10,DN10,DU10,EB10,EI10,EP10,EW10,FD10,FK10,FR10,FY10,GF10,GM10,GT10,HA10,HH10,HO10,HV10,IC10,IJ10,IQ10,IX10)+JF10 -> 0 | CM10: =SUM(CT10,DA10,DH10,DO10,DV10,EC10,EJ10,EQ10,EX10,FE10,FL10,FS10,FZ10,GG10,GN10,GU10,HB10,HI10,HP10,HW10,ID10,IK10,IR10,IY10)+JG10 -> 10947 | CN10: =SUM(CN11:CN14) -> 0 | CO10: =SUM(CO11:CO14) -> 0 | CP10: =SUM(CP11:CP14) -> 0 | CQ10: =+CO10+CP10 -> 0 | CR10: =SUM(CR11:CR14) -> 0 | CS10: =SUM(CS11:CS14) -> 0 | CT10: =SUM(CT11:CT14) -> 0 | CU10: =SUM(CU11:CU14) -> 0 | CV10: =SUM(CV11:CV14) -> 0 | CW10: =SUM(CW11:CW14) -> 0 | CX10: =+CV10+CW10 -> 0 | CY10: =SUM(CY11:CY14) -> 0 | CZ10: =SUM(CZ11:CZ14) -> 0 | DA10: =SUM(DA11:DA14) -> 0 | DB10: =SUM(DB11:DB14) -> 0 | DC10: =SUM(DC11:DC14) -> 0 | DD10: =SUM(DD11:DD14) -> 0 | DE10: =+DC10+DD10 -> 0 | DF10: =SUM(DF11:DF14) -> 0 | DG10: =SUM(DG11:DG14) -> 0 | DH10: =SUM(DH11:DH14) -> 0 | DI10: =SUM(DI11:DI14) -> 0 | DJ10: =SUM(DJ11:DJ14) -> 0 | DK10: =SUM(DK11:DK14) -> 0 | DL10: =+DJ10+DK10 -> 0 | DM10: =SUM(DM11:DM14) -> 0 | DN10: =SUM(DN11:DN14) -> 0 | DO10: =SUM(DO11:DO14) -> 0 | DP10: =SUM(DP11:DP14) -> 0 | DQ10: =SUM(DQ11:DQ14) -> 0 | DR10: =SUM(DR11:DR14) -> 0 | DS10: =+DQ10+DR10 -> 0 | DT10: =SUM(DT11:DT14) -> 0 | DU10: =SUM(DU11:DU14) -> 0 | DV10: =SUM(DV11:DV14) -> 0 | DW10: =SUM(DW11:DW14) -> 0 | DX10: =SUM(DX11:DX14) -> 0 | DY10: =SUM(DY11:DY14) -> 0 | DZ10: =+DX10+DY10 -> 0 | EA10: =SUM(EA11:EA14) -> 0 | EB10: =SUM(EB11:EB14) -> 0 | EC10: =SUM(EC11:EC14) -> 0 | ED10: =SUM(ED11:ED14) -> 0 | EE10: =SUM(EE11:EE14) -> 0 | EF10: =SUM(EF11:EF14) -> 0 | EG10: =+EE10+EF10 -> 0 | EH10: =SUM(EH11:EH14) -> 0 | EI10: =SUM(EI11:EI14) -> 0 | EJ10: =SUM(EJ11:EJ14) -> 0 | EK10: =SUM(EK11:EK14) -> 0 | EL10: =SUM(EL11:EL14) -> 0 | EM10: =SUM(EM11:EM14) -> 0 | EN10: =+EL10+EM10 -> 0 | EO10: =SUM(EO11:EO14) -> 0 | EP10: =SUM(EP11:EP14) -> 0 | EQ10: =SUM(EQ11:EQ14) -> 0 | ER10: =SUM(ER11:ER14) -> 0 | ES10: =SUM(ES11:ES14) -> 0 | ET10: =SUM(ET11:ET14) -> 0 | EU10: =+ES10+ET10 -> 0 | EV10: =SUM(EV11:EV14) -> 0 | EW10: =SUM(EW11:EW14) -> 0 | EX10: =SUM(EX11:EX14) -> 0 | EY10: =SUM(EY11:EY14) -> 0 | EZ10: =SUM(EZ11:EZ14) -> 0 | FA10: =SUM(FA11:FA14) -> 0 | FB10: =+EZ10+FA10 -> 0 | FC10: =SUM(FC11:FC14) -> 0 | FD10: =SUM(FD11:FD14) -> 0 | FE10: =SUM(FE11:FE14) -> 0 | FF10: =SUM(FF11:FF14) -> 0 | FG10: =SUM(FG11:FG14) -> 0 | FH10: =SUM(FH11:FH14) -> 0 | FI10: =+FG10+FH10 -> 0 | FJ10: =SUM(FJ11:FJ14) -> 0 | FK10: =SUM(FK11:FK14) -> 0 | FL10: =SUM(FL11:FL14) -> 0 | FM10: =SUM(FM11:FM14) -> 0 | FN10: =SUM(FN11:FN14) -> 0 | FO10: =SUM(FO11:FO14) -> 0 | FP10: =+FN10+FO10 -> 0 | FQ10: =SUM(FQ11:FQ14) -> 0 | FR10: =SUM(FR11:FR14) -> 0 | FS10: =SUM(FS11:FS14) -> 0 | FT10: =SUM(FT11:FT14) -> 0 | FU10: =SUM(FU11:FU14) -> 0 | FV10: =SUM(FV11:FV14) -> 0 | FW10: =+FU10+FV10 -> 0 | FX10: =SUM(FX11:FX14) -> 0 | FY10: =SUM(FY11:FY14) -> 0 | FZ10: =SUM(FZ11:FZ14) -> 0 | GA10: =SUM(GA11:GA14) -> 0 | GB10: =SUM(GB11:GB14) -> 0 | GC10: =SUM(GC11:GC14) -> 0 | GD10: =+GB10+GC10 -> 0 | GE10: =SUM(GE11:GE14) -> 0 | GF10: =SUM(GF11:GF14) -> 0 | GG10: =SUM(GG11:GG14) -> 0 | GH10: =SUM(GH11:GH14) -> 0 | GI10: =SUM(GI11:GI14) -> 0 | GJ10: =SUM(GJ11:GJ14) -> 0 | GK10: =+GI10+GJ10 -> 0 | GL10: =SUM(GL11:GL14) -> 0 | GM10: =SUM(GM11:GM14) -> 0 | GN10: =SUM(GN11:GN14) -> 0 | GO10: =SUM(GO11:GO14) -> 0 | GP10: =SUM(GP11:GP14) -> 0 | GQ10: =SUM(GQ11:GQ14) -> 0 | GR10: =+GP10+GQ10 -> 0 | GS10: =SUM(GS11:GS14) -> 0 | GT10: =SUM(GT11:GT14) -> 0 | GU10: =SUM(GU11:GU14) -> 0 | GV10: =SUM(GV11:GV14) -> 0 | GW10: =SUM(GW11:GW14) -> 0 | GX10: =SUM(GX11:GX14) -> 0 | GY10: =+GW10+GX10 -> 0 | GZ10: =SUM(GZ11:GZ14) -> 0 | HA10: =SUM(HA11:HA14) -> 0 | HB10: =SUM(HB11:HB14) -> 0 | HC10: =SUM(HC11:HC14) -> 0 | HD10: =SUM(HD11:HD14) -> 0 | HE10: =SUM(HE11:HE14) -> 0 | HF10: =+HD10+HE10 -> 0 | HG10: =SUM(HG11:HG14) -> 0 | HH10: =SUM(HH11:HH14) -> 0 | HI10: =SUM(HI11:HI14) -> 0 | HJ10: =SUM(HJ11:HJ14) -> 0 | HK10: =SUM(HK11:HK14) -> 0 | HL10: =SUM(HL11:HL14) -> 0 | HM10: =+HK10+HL10 -> 0 | HN10: =SUM(HN11:HN14) -> 0 | HO10: =SUM(HO11:HO14) -> 0 | HP10: =SUM(HP11:HP14) -> 0 | HQ10: =SUM(HQ11:HQ14) -> 0 | HR10: =SUM(HR11:HR14) -> 0 | HS10: =SUM(HS11:HS14) -> 0 | HT10: =+HR10+HS10 -> 0 | HU10: =SUM(HU11:HU14) -> 0 | HV10: =SUM(HV11:HV14) -> 0 | HW10: =SUM(HW11:HW14) -> 0 | HX10: =SUM(HX11:HX14) -> 0 | HY10: =SUM(HY11:HY14) -> 0 | HZ10: =SUM(HZ11:HZ14) -> 0 | IA10: =+HY10+HZ10 -> 0 | IB10: =SUM(IB11:IB14) -> 0 | IC10: =SUM(IC11:IC14) -> 0 | ID10: =SUM(ID11:ID14) -> 0 | IE10: =SUM(IE11:IE14) -> 0 | IF10: =SUM(IF11:IF14) -> 0 | IG10: =SUM(IG11:IG14) -> 0 | IH10: =+IF10+IG10 -> 0 | II10: =SUM(II11:II14) -> 0 | IJ10: =SUM(IJ11:IJ14) -> 0 | IK10: =SUM(IK11:IK14) -> 0 | IL10: =SUM(IL11:IL14) -> 0 | IM10: =SUM(IM11:IM14) -> 0 | IN10: =SUM(IN11:IN14) -> 0 | IO10: =+IM10+IN10 -> 0 | IP10: =SUM(IP11:IP14) -> 0 | IQ10: =SUM(IQ11:IQ14) -> 0 | IR10: =SUM(IR11:IR14) -> 0 | IS10: =SUM(IS11:IS14) -> 0 | IT10: =SUM(IT11:IT14) -> 0 | IU10: =SUM(IU11:IU14) -> 0 | IV10: =+IT10+IU10 -> 0 | IW10: =SUM(IW11:IW14) -> 0 | IX10: =SUM(IX11:IX14) -> 0 | IY10: =SUM(IY11:JG14) -> 10947 | IZ10: =SUM(IZ11:IZ14) -> 0 | JA10: =SUM(JA11:JA14) -> 0 | JB10: =SUM(JB11:JB14) -> 0 | JC10: =SUM(JC11:JC14) -> 3649 | JD10: =+JA10+JB10+IZ10+JC10 -> 3649 | JE10: =SUM(JE11:JE14) -> 3649 | JF10: =SUM(JF11:JF14) -> 0
B11: a) | C11: helyi önkormányzatok működési támogatásai | D11: =SUM(M11,U11,AC11,AK11,AR11,BH11,BP11,BX11,CN11,CU11,DB11,DI11,DP11,DW11,ED11,EK11)+SUM(ER11,EY11,FF11,FM11,FT11,GA11,GH11,GO11,GV11,HC11,HJ11,HQ11,HX11,IE11,IL11,IS11) -> 6084980 | E11: =SUM(W11,AE11,AM11,AT11,BJ11,BR11,BZ11,CP11,CW11,DD11,DK11,DR11,DY11,EF11,EM11)+SUM(ET11,FA11,FH11,FO11,FV11,GC11,GJ11,GQ11,GX11,HE11,HL11,HS11,HZ11,IG11,IN11,IU11) -> 0 | F11: =+N11+V11+AD11+AS11+BA11+CG11 -> 146531 | G11: =+O11+W11+AE11+AT11+BB11+CH11 -> 326752 | H11: =+P11+X11+AF11+AU11+BC11+CI11 -> -14202 | I11: =+Q11+Y11+AG11+AV11+BD11+CJ11 -> 6544061 | J11: =+R11+Z11+AH11+AW11+BE11+CK11 -> 6544061 | K11: =+S11+AA11+AI11+AX11+BF11+CL11 -> 0 | L11: =+T11+AB11 -> 0 | M11: 6084980 | N11: 146531 | O11: 326752 | P11: -14202 | Q11: =SUM(M11:P11) -> 6544061 | R11: =+Q11 -> 6544061 | Z11: =Y11-AA11-AB11 -> 0 | AG11: =+AD11+AE11+AC11+AF11 -> 0 | AH11: =AG11-AI11-AJ11 -> 0 | AV11: =+AS11+AT11+AR11+AU11 -> 0 | AW11: =AV11-AX11-AY11 -> 0 | AZ11: =SUM(BP11,BX11,BH11) -> 0 | BA11: =SUM(BQ11,BY11,BI11) -> 0 | BB11: =SUM(BR11,BZ11,BJ11) -> 0 | BC11: =SUM(BS11,CA11,BK11) -> 0 | BD11: =SUM(AZ11:BC11) -> 0 | BE11: =SUM(BU11,CC11,BM11) -> 0 | BF11: =SUM(BV11,CD11,BN11) -> 0 | BG11: =SUM(BW11,CE11,BO11) -> 0 | BL11: =+BI11+BJ11+BH11+BK11 -> 0 | BM11: =BL11-BN11-BO11 -> 0 | BT11: =+BQ11+BR11+BP11+BS11 -> 0 | BU11: =BT11-BV11-BW11 -> 0 | CB11: =SUM(BX11:BZ11)+CA11 -> 0 | CC11: =CB11-CD11-CE11 -> 0 | CF11: =SUM(CN11,CU11,DB11,DI11,DP11,DW11,ED11,EK11,ER11,EY11,FF11,FM11,FT11,GA11,GH11,GO11,GV11,HC11,HJ11,HQ11,HX11,IE11,IL11,IS11) -> 0 | CG11: =SUM(CO11,CV11,DC11,DJ11,DQ11,DX11,EE11,EL11,ES11,EZ11,FG11,FN11,FU11,GB11,GI11,GP11,GW11,HD11,HK11,HR11,HY11,IF11,IM11,IT11) -> 0 | CH11: =SUM(CP11,CW11,DD11,DK11,DR11,DY11,EF11,EM11,ET11,FA11,FH11,FO11,FV11,GC11,GJ11,GQ11,GX11,HE11,HL11,HS11,HZ11,IG11,IN11,IU11) -> 0 | CI11: =JC11 -> 0 | CJ11: =SUM(CQ11,CX11,DE11,DL11,DS11,DZ11,EG11,EN11,EU11,FB11,FI11,FP11,FW11,GD11,GK11,GR11,GY11,HF11,HM11,HT11,IA11,IH11,IO11,IV11)+JD11 -> 0 | CK11: =SUM(CR11,CY11,DF11,DM11,DT11,EA11,EH11,EO11,EV11,FC11,FJ11,FQ11,FX11,GE11,GL11,GS11,GZ11,HG11,HN11,HU11,IB11,II11,IP11,IW11)+JE11 -> 0 | CL11: =SUM(CS11,CZ11,DG11,DN11,DU11,EB11,EI11,EP11,EW11,FD11,FK11,FR11,FY11,GF11,GM11,GT11,HA11,HH11,HO11,HV11,IC11,IJ11,IQ11,IX11)+JF11 -> 0 | CM11: =SUM(CT11,DA11,DH11,DO11,DV11,EC11,EJ11,EQ11,EX11,FE11,FL11,FS11,FZ11,GG11,GN11,GU11,HB11,HI11,HP11,HW11,ID11,IK11,IR11,IY11)+JG11 -> 0 | CQ11: =+CO11+CP11 -> 0 | CR11: =CQ11-CS11-CT11 -> 0 | CX11: =+CV11+CW11 -> 0 | CY11: =CX11-CZ11-DA11 -> 0 | DE11: =+DC11+DD11 -> 0 | DF11: =DE11-DG11-DH11 -> 0 | DL11: =+DJ11+DK11 -> 0 | DM11: =DL11-DN11-DO11 -> 0 | DS11: =+DQ11+DR11 -> 0 | DT11: =DS11-DU11-DV11 -> 0 | DZ11: =+DX11+DY11 -> 0 | EA11: =DZ11-EB11-EC11 -> 0 | EG11: =+EE11+EF11 -> 0 | EH11: =EG11-EI11-EJ11 -> 0 | EN11: =+EL11+EM11 -> 0 | EO11: =EN11-EP11-EQ11 -> 0 | EU11: =+ES11+ET11 -> 0 | EV11: =EU11-EW11-EX11 -> 0 | FB11: =+EZ11+FA11 -> 0 | FC11: =FB11-FD11-FE11 -> 0 | FI11: =+FG11+FH11 -> 0 | FJ11: =FI11-FK11-FL11 -> 0 | FP11: =+FN11+FO11 -> 0 | FQ11: =FP11-FR11-FS11 -> 0 | FW11: =+FU11+FV11 -> 0 | FX11: =FW11-FY11-FZ11 -> 0 | GD11: =+GB11+GC11 -> 0 | GE11: =GD11-GF11-GG11 -> 0 | GK11: =+GI11+GJ11 -> 0 | GL11: =GK11-GM11-GN11 -> 0 | GR11: =+GP11+GQ11 -> 0 | GS11: =GR11-GT11-GU11 -> 0 | GY11: =+GW11+GX11 -> 0 | GZ11: =GY11-HA11-HB11 -> 0 | HF11: =+HD11+HE11 -> 0 | HG11: =HF11-HH11-HI11 -> 0 | HM11: =+HK11+HL11 -> 0 | HN11: =HM11-HO11-HP11 -> 0 | HT11: =+HR11+HS11 -> 0 | HU11: =HT11-HV11-HW11 -> 0 | IA11: =+HY11+HZ11 -> 0 | IB11: =IA11-IC11-ID11 -> 0 | IH11: =+IF11+IG11 -> 0 | II11: =IH11-IJ11-IK11 -> 0 | IO11: =+IM11+IN11 -> 0 | IP11: =IO11-IQ11-IR11 -> 0 | IV11: =+IT11+IU11 -> 0 | IW11: =IV11-IX11-IY11 -> 0 | JD11: =+JA11+JB11+IZ11+JC11 -> 0 | JE11: =JD11-JF11-JG11 -> 0
B12: b) | C12: elvonások és befizetések bevételei | D12: =SUM(M12,U12,AC12,AK12,AR12,BH12,BP12,BX12,CN12,CU12,DB12,DI12,DP12,DW12,ED12,EK12)+SUM(ER12,EY12,FF12,FM12,FT12,GA12,GH12,GO12,GV12,HC12,HJ12,HQ12,HX12,IE12,IL12,IS12) -> 0 | E12: =SUM(W12,AE12,AM12,AT12,BJ12,BR12,BZ12,CP12,CW12,DD12,DK12,DR12,DY12,EF12,EM12)+SUM(ET12,FA12,FH12,FO12,FV12,GC12,GJ12,GQ12,GX12,HE12,HL12,HS12,HZ12,IG12,IN12,IU12) -> 0 | F12: =+N12+V12+AD12+AS12+BA12+CG12 -> 0 | G12: =+O12+W12+AE12+AT12+BB12+CH12 -> 343168 | H12: =+P12+X12+AF12+AU12+BC12+CI12 -> -171584 | I12: =+Q12+Y12+AG12+AV12+BD12+CJ12 -> 171584 | J12: =+R12+Z12+AH12+AW12+BE12+CK12 -> 171584 | K12: =+S12+AA12+AI12+AX12+BF12+CL12 -> 0 | L12: =+T12+AB12 -> 0 | O12: =171584+171584 -> 343168 | P12: -171584 | Q12: =SUM(M12:P12) -> 171584 | R12: =+Q12-S12 -> 171584 | AG12: =+AD12+AE12+AC12+AF12 -> 0 | AV12: =+AS12+AT12+AR12+AU12 -> 0 | AZ12: =SUM(BP12,BX12,BH12) -> 0 | BA12: =SUM(BQ12,BY12,BI12) -> 0 | BB12: =SUM(BR12,BZ12,BJ12) -> 0 | BC12: =SUM(BS12,CA12,BK12) -> 0 | BD12: =SUM(AZ12:BC12) -> 0 | BE12: =SUM(BU12,CC12,BM12) -> 0 | BF12: =SUM(BV12,CD12,BN12) -> 0 | BG12: =SUM(BW12,CE12,BO12) -> 0 | BL12: =+BI12+BJ12+BH12+BK12 -> 0 | BT12: =+BQ12+BR12+BP12+BS12 -> 0 | CB12: =SUM(BX12:BZ12)+CA12 -> 0 | CF12: =SUM(CN12,CU12,DB12,DI12,DP12,DW12,ED12,EK12,ER12,EY12,FF12,FM12,FT12,GA12,GH12,GO12,GV12,HC12,HJ12,HQ12,HX12,IE12,IL12,IS12) -> 0 | CG12: =SUM(CO12,CV12,DC12,DJ12,DQ12,DX12,EE12,EL12,ES12,EZ12,FG12,FN12,FU12,GB12,GI12,GP12,GW12,HD12,HK12,HR12,HY12,IF12,IM12,IT12) -> 0 | CH12: =SUM(CP12,CW12,DD12,DK12,DR12,DY12,EF12,EM12,ET12,FA12,FH12,FO12,FV12,GC12,GJ12,GQ12,GX12,HE12,HL12,HS12,HZ12,IG12,IN12,IU12) -> 0 | CI12: =JC12 -> 0 | CJ12: =SUM(CQ12,CX12,DE12,DL12,DS12,DZ12,EG12,EN12,EU12,FB12,FI12,FP12,FW12,GD12,GK12,GR12,GY12,HF12,HM12,HT12,IA12,IH12,IO12,IV12)+JD12 -> 0 | CK12: =SUM(CR12,CY12,DF12,DM12,DT12,EA12,EH12,EO12,EV12,FC12,FJ12,FQ12,FX12,GE12,GL12,GS12,GZ12,HG12,HN12,HU12,IB12,II12,IP12,IW12)+JE12 -> 0 | CL12: =SUM(CS12,CZ12,DG12,DN12,DU12,EB12,EI12,EP12,EW12,FD12,FK12,FR12,FY12,GF12,GM12,GT12,HA12,HH12,HO12,HV12,IC12,IJ12,IQ12,IX12)+JF12 -> 0 | CM12: =SUM(CT12,DA12,DH12,DO12,DV12,EC12,EJ12,EQ12,EX12,FE12,FL12,FS12,FZ12,GG12,GN12,GU12,HB12,HI12,HP12,HW12,ID12,IK12,IR12,IY12)+JG12 -> 0 | CQ12: =+CO12+CP12 -> 0 | CX12: =+CV12+CW12 -> 0 | DE12: =+DC12+DD12 -> 0 | DL12: =+DJ12+DK12 -> 0 | DS12: =+DQ12+DR12 -> 0 | DZ12: =+DX12+DY12 -> 0 | EG12: =+EE12+EF12 -> 0 | EN12: =+EL12+EM12 -> 0 | EU12: =+ES12+ET12 -> 0 | FB12: =+EZ12+FA12 -> 0 | FI12: =+FG12+FH12 -> 0 | FP12: =+FN12+FO12 -> 0 | FW12: =+FU12+FV12 -> 0 | GD12: =+GB12+GC12 -> 0 | GK12: =+GI12+GJ12 -> 0 | GR12: =+GP12+GQ12 -> 0 | GY12: =+GW12+GX12 -> 0 | HF12: =+HD12+HE12 -> 0 | HM12: =+HK12+HL12 -> 0 | HT12: =+HR12+HS12 -> 0 | IA12: =+HY12+HZ12 -> 0 | IH12: =+IF12+IG12 -> 0 | IO12: =+IM12+IN12 -> 0 | IV12: =+IT12+IU12 -> 0 | JD12: =+JA12+JB12+IZ12+JC12 -> 0
B13: c) | C13: visszatérítendő támogatás, kölcsön visszatérülése, igénybevétele államháztartáson belülről | D13: =SUM(M13,U13,AC13,AK13,AR13,BH13,BP13,BX13,CN13,CU13,DB13,DI13,DP13,DW13,ED13,EK13)+SUM(ER13,EY13,FF13,FM13,FT13,GA13,GH13,GO13,GV13,HC13,HJ13,HQ13,HX13,IE13,IL13,IS13) -> 0 | E13: =SUM(W13,AE13,AM13,AT13,BJ13,BR13,BZ13,CP13,CW13,DD13,DK13,DR13,DY13,EF13,EM13)+SUM(ET13,FA13,FH13,FO13,FV13,GC13,GJ13,GQ13,GX13,HE13,HL13,HS13,HZ13,IG13,IN13,IU13) -> 0 | F13: =+N13+V13+AD13+AS13+BA13+CG13 -> 0 | G13: =+O13+W13+AE13+AT13+BB13+CH13 -> 0 | H13: =+P13+X13+AF13+AU13+BC13+CI13 -> 0 | I13: =+Q13+Y13+AG13+AV13+BD13+CJ13 -> 0 | J13: =+R13+Z13+AH13+AW13+BE13+CK13 -> 0 | K13: =+S13+AA13+AI13+AX13+BF13+CL13 -> 0 | L13: =+T13+AB13 -> 0 | Q13: =SUM(M13:P13) -> 0 | R13: =+Q13-S13 -> 0 | AG13: =+AD13+AE13+AC13+AF13 -> 0 | AV13: =+AS13+AT13+AR13+AU13 -> 0 | AZ13: =SUM(BP13,BX13,BH13) -> 0 | BA13: =SUM(BQ13,BY13,BI13) -> 0 | BB13: =SUM(BR13,BZ13,BJ13) -> 0 | BC13: =SUM(BS13,CA13,BK13) -> 0 | BD13: =SUM(AZ13:BC13) -> 0 | BE13: =SUM(BU13,CC13,BM13) -> 0 | BF13: =SUM(BV13,CD13,BN13) -> 0 | BG13: =SUM(BW13,CE13,BO13) -> 0 | BL13: =+BI13+BJ13+BH13+BK13 -> 0 | BT13: =+BQ13+BR13+BP13+BS13 -> 0 | CB13: =SUM(BX13:BZ13)+CA13 -> 0 | CF13: =SUM(CN13,CU13,DB13,DI13,DP13,DW13,ED13,EK13,ER13,EY13,FF13,FM13,FT13,GA13,GH13,GO13,GV13,HC13,HJ13,HQ13,HX13,IE13,IL13,IS13) -> 0 | CG13: =SUM(CO13,CV13,DC13,DJ13,DQ13,DX13,EE13,EL13,ES13,EZ13,FG13,FN13,FU13,GB13,GI13,GP13,GW13,HD13,HK13,HR13,HY13,IF13,IM13,IT13) -> 0 | CH13: =SUM(CP13,CW13,DD13,DK13,DR13,DY13,EF13,EM13,ET13,FA13,FH13,FO13,FV13,GC13,GJ13,GQ13,GX13,HE13,HL13,HS13,HZ13,IG13,IN13,IU13) -> 0 | CI13: =JC13 -> 0 | CJ13: =SUM(CQ13,CX13,DE13,DL13,DS13,DZ13,EG13,EN13,EU13,FB13,FI13,FP13,FW13,GD13,GK13,GR13,GY13,HF13,HM13,HT13,IA13,IH13,IO13,IV13)+JD13 -> 0 | CK13: =SUM(CR13,CY13,DF13,DM13,DT13,EA13,EH13,EO13,EV13,FC13,FJ13,FQ13,FX13,GE13,GL13,GS13,GZ13,HG13,HN13,HU13,IB13,II13,IP13,IW13)+JE13 -> 0 | CL13: =SUM(CS13,CZ13,DG13,DN13,DU13,EB13,EI13,EP13,EW13,FD13,FK13,FR13,FY13,GF13,GM13,GT13,HA13,HH13,HO13,HV13,IC13,IJ13,IQ13,IX13)+JF13 -> 0 | CM13: =SUM(CT13,DA13,DH13,DO13,DV13,EC13,EJ13,EQ13,EX13,FE13,FL13,FS13,FZ13,GG13,GN13,GU13,HB13,HI13,HP13,HW13,ID13,IK13,IR13,IY13)+JG13 -> 0 | CQ13: =+CO13+CP13 -> 0 | CX13: =+CV13+CW13 -> 0 | DE13: =+DC13+DD13 -> 0 | DL13: =+DJ13+DK13 -> 0 | DS13: =+DQ13+DR13 -> 0 | DZ13: =+DX13+DY13 -> 0 | EG13: =+EE13+EF13 -> 0 | EN13: =+EL13+EM13 -> 0 | EU13: =+ES13+ET13 -> 0 | FB13: =+EZ13+FA13 -> 0 | FI13: =+FG13+FH13 -> 0 | FP13: =+FN13+FO13 -> 0 | FW13: =+FU13+FV13 -> 0 | GD13: =+GB13+GC13 -> 0 | GK13: =+GI13+GJ13 -> 0 | GR13: =+GP13+GQ13 -> 0 | GY13: =+GW13+GX13 -> 0 | HF13: =+HD13+HE13 -> 0 | HM13: =+HK13+HL13 -> 0 | HT13: =+HR13+HS13 -> 0 | IA13: =+HY13+HZ13 -> 0 | IH13: =+IF13+IG13 -> 0 | IO13: =+IM13+IN13 -> 0 | IV13: =+IT13+IU13 -> 0 | JD13: =+JA13+JB13+IZ13+JC13 -> 0
B14: d) | C14: egyéb támogatások bevételei államháztartáson belülről | D14: =SUM(M14,U14,AC14,AK14,AR14,BH14,BP14,BX14,CN14,CU14,DB14,DI14,DP14,DW14,ED14,EK14)+SUM(ER14,EY14,FF14,FM14,FT14,GA14,GH14,GO14,GV14,HC14,HJ14,HQ14,HX14,IE14,IL14,IS14) -> 9380225 | E14: 0 | F14: =+N14+V14+AD14+AS14+BA14+CG14 -> 0 | G14: =+O14+W14+AE14+AT14+BB14+CH14 -> 40000 | H14: =+P14+X14+AF14+AU14+BC14+CI14 -> -6204012 | I14: =+Q14+Y14+AG14+AV14+BD14+CJ14 -> 3216213 | J14: =+R14+Z14+AH14+AW14+BE14+CK14 -> 2397264 | K14: =+S14+AA14+AI14+AX14+BF14+CL14 -> 818949 | L14: =+T14+AB14 -> 0 | M14: 6701032 | P14: -6555116 | Q14: =SUM(M14:P14) -> 145916 | R14: =+Q14-S14 -> 60223 | S14: 85693 | U14: 5775 | Y14: =+V14+U14+W14+X14 -> 5775 | Z14: =+Y14-AA14 -> 5775 | AC14: 2658597 | AE14: 40000 | AF14: 347319 | AG14: =+AD14+AE14+AC14+AF14 -> 3045916 | AH14: =AG14-AI14-AJ14 -> 2327481 | AI14: 718435 | AV14: =+AS14+AT14+AR14+AU14 -> 0 | AW14: =AV14-AX14-AY14 -> 0 | AZ14: =SUM(BP14,BX14,BH14) -> 14821 | BA14: =SUM(BQ14,BY14,BI14) -> 0 | BB14: =SUM(BR14,BZ14,BJ14) -> 0 | BC14: =SUM(BS14,CA14,BK14) -> 136 | BD14: =SUM(AZ14:BC14) -> 14957 | BE14: =SUM(BU14,CC14,BM14) -> 136 | BF14: =SUM(BV14,CD14,BN14) -> 14821 | BG14: =SUM(BW14,CE14,BO14) -> 0 | BL14: =+BI14+BJ14+BH14+BK14 -> 0 | BM14: =BL14-BN14-BO14 -> 0 | BS14: 136 | BT14: =+BQ14+BR14+BP14+BS14 -> 136 | BU14: =BT14-BV14-BW14 -> 136 | BX14: 14821 | CB14: =SUM(BX14:BZ14)+CA14 -> 14821 | CC14: =CB14-CD14-CE14 -> 0 | CD14: 14821 | CF14: =SUM(CN14,CU14,DB14,DI14,DP14,DW14,ED14,EK14,ER14,EY14,FF14,FM14,FT14,GA14,GH14,GO14,GV14,HC14,HJ14,HQ14,HX14,IE14,IL14,IS14) -> 0 | CG14: =SUM(CO14,CV14,DC14,DJ14,DQ14,DX14,EE14,EL14,ES14,EZ14,FG14,FN14,FU14,GB14,GI14,GP14,GW14,HD14,HK14,HR14,HY14,IF14,IM14,IT14) -> 0 | CH14: =SUM(CP14,CW14,DD14,DK14,DR14,DY14,EF14,EM14,ET14,FA14,FH14,FO14,FV14,GC14,GJ14,GQ14,GX14,HE14,HL14,HS14,HZ14,IG14,IN14,IU14) -> 0 | CI14: =JC14 -> 3649 | CJ14: =SUM(CQ14,CX14,DE14,DL14,DS14,DZ14,EG14,EN14,EU14,FB14,FI14,FP14,FW14,GD14,GK14,GR14,GY14,HF14,HM14,HT14,IA14,IH14,IO14,IV14)+JD14 -> 3649 | CK14: =SUM(CR14,CY14,DF14,DM14,DT14,EA14,EH14,EO14,EV14,FC14,FJ14,FQ14,FX14,GE14,GL14,GS14,GZ14,HG14,HN14,HU14,IB14,II14,IP14,IW14)+JE14 -> 3649 | CL14: =SUM(CS14,CZ14,DG14,DN14,DU14,EB14,EI14,EP14,EW14,FD14,FK14,FR14,FY14,GF14,GM14,GT14,HA14,HH14,HO14,HV14,IC14,IJ14,IQ14,IX14)+JF14 -> 0 | CM14: =SUM(CT14,DA14,DH14,DO14,DV14,EC14,EJ14,EQ14,EX14,FE14,FL14,FS14,FZ14,GG14,GN14,GU14,HB14,HI14,HP14,HW14,ID14,IK14,IR14,IY14)+JG14 -> 0 | CQ14: =+CO14+CP14 -> 0 | CR14: =CQ14-CS14-CT14 -> 0 | CX14: =+CV14+CW14 -> 0 | CY14: =CX14-CZ14-DA14 -> 0 | DE14: =+DC14+DD14 -> 0 | DF14: =DE14-DG14-DH14 -> 0 | DL14: =+DJ14+DK14 -> 0 | DM14: =DL14-DN14-DO14 -> 0 | DS14: =+DQ14+DR14 -> 0 | DT14: =DS14-DU14-DV14 -> 0 | DZ14: =+DX14+DY14 -> 0 | EA14: =DZ14-EB14-EC14 -> 0 | EG14: =+EE14+EF14 -> 0 | EH14: =EG14-EI14-EJ14 -> 0 | EN14: =+EL14+EM14 -> 0 | EO14: =EN14-EP14-EQ14 -> 0 | EU14: =+ES14+ET14 -> 0 | EV14: =EU14-EW14-EX14 -> 0 | FB14: =+EZ14+FA14 -> 0 | FC14: =FB14-FD14-FE14 -> 0 | FI14: =+FG14+FH14 -> 0 | FJ14: =FI14-FK14-FL14 -> 0 | FP14: =+FN14+FO14 -> 0 | FQ14: =FP14-FR14-FS14 -> 0 | FW14: =+FU14+FV14 -> 0 | FX14: =FW14-FY14-FZ14 -> 0 | GD14: =+GB14+GC14 -> 0 | GE14: =GD14-GF14-GG14 -> 0 | GK14: =+GI14+GJ14 -> 0 | GL14: =GK14-GM14-GN14 -> 0 | GR14: =+GP14+GQ14 -> 0 | GS14: =GR14-GT14-GU14 -> 0 | GY14: =+GW14+GX14 -> 0 | GZ14: =GY14-HA14-HB14 -> 0 | HF14: =+HD14+HE14 -> 0 | HG14: =HF14-HH14-HI14 -> 0 | HM14: =+HK14+HL14 -> 0 | HN14: =HM14-HO14-HP14 -> 0 | HT14: =+HR14+HS14 -> 0 | HU14: =HT14-HV14-HW14 -> 0 | IA14: =+HY14+HZ14 -> 0 | IB14: =IA14-IC14-ID14 -> 0 | IH14: =+IF14+IG14 -> 0 | II14: =IH14-IJ14-IK14 -> 0 | IO14: =+IM14+IN14 -> 0 | IP14: =IO14-IQ14-IR14 -> 0 | IV14: =+IT14+IU14 -> 0 | IW14: =IV14-IX14-IY14 -> 0 | JC14: 3649 | JD14: =+JA14+JB14+IZ14+JC14 -> 3649 | JE14: =JD14-JF14-JG14 -> 3649
A15: 2. | B15: Közhatalmi bevételek | D15: =SUM(M15,U15,AC15,AK15,AR15,BH15,BP15,BX15,CN15,CU15,DB15,DI15,DP15,DW15,ED15,EK15)+SUM(ER15,EY15,FF15,FM15,FT15,GA15,GH15,GO15,GV15,HC15,HJ15,HQ15,HX15,IE15,IL15,IS15) -> 11318219 | E15: =SUM(E16:E17) -> 0 | F15: =+N15+V15+AD15+AS15+BA15+CG15 -> 0 | G15: =+O15+W15+AE15+AT15+BB15+CH15 -> 0 | H15: =+P15+X15+AF15+AU15+BC15+CI15 -> 129000 | I15: =+Q15+Y15+AG15+AV15+BD15+CJ15 -> 11447219 | J15: =+R15+Z15+AH15+AW15+BE15+CK15 -> 8695219 | K15: =+S15+AA15+AI15+AX15+BF15+CL15 -> 2752000 | L15: =+T15+AB15 -> 0 | M15: =+M17+M16 -> 11293219 | N15: =+N16+N17 -> 0 | O15: =+O17+O16 -> 0 | P15: =+P17+P16 -> 129000 | Q15: =SUM(M15:P15) -> 11422219 | R15: =+Q15-S15 -> 8670219 | S15: =SUM(S16:S17) -> 2752000 | T15: =SUM(T16:T17) -> 0 | U15: =SUM(U16:U17) -> 0 | V15: =SUM(V16:V17) -> 0 | W15: =SUM(W16:W17) -> 0 | X15: =SUM(X16:X17) -> 0 | Y15: =+V15+U15+W15+X15 -> 0 | Z15: =SUM(Z16:Z17) -> 0 | AA15: =SUM(AA16:AA17) -> 0 | AB15: =SUM(AB16:AB17) -> 0 | AC15: =SUM(AC16:AC17) -> 0 | AD15: =SUM(AD16:AD17) -> 0 | AE15: =SUM(AE16:AE17) -> 0 | AF15: =SUM(AF16:AF17) -> 0 | AG15: =+AD15+AE15+AC15+AF15 -> 0 | AH15: =SUM(AH16:AH17) -> 0 | AI15: =SUM(AI16:AI17) -> 0 | AJ15: =SUM(AJ16:AJ17) -> 0 | AR15: =SUM(AR16:AR17) -> 25000 | AS15: =SUM(AS16:AS17) -> 0 | AT15: =SUM(AT16:AT17) -> 0 | AU15: =SUM(AU16:AU17) -> 0 | AV15: =+AS15+AT15+AR15+AU15 -> 25000 | AW15: =SUM(AW16:AW17) -> 25000 | AX15: =SUM(AX16:AX17) -> 0 | AY15: =SUM(AY16:AY17) -> 0 | AZ15: =SUM(AZ16:AZ17) -> 0 | BA15: =SUM(BA16:BA17) -> 0 | BB15: =SUM(BR15,BZ15,BJ15) -> 0 | BC15: =SUM(BS15,CA15,BK15) -> 0 | BD15: =SUM(AZ15:BC15) -> 0 | BE15: =SUM(BE16:BE17) -> 0 | BF15: =SUM(BF16:BF17) -> 0 | BG15: =SUM(BG16:BG17) -> 0 | BH15: =SUM(BH16:BH17) -> 0 | BI15: =SUM(BI16:BI17) -> 0 | BJ15: =SUM(BJ16:BJ17) -> 0 | BK15: =SUM(BK16:BK17) -> 0 | BL15: =+BI15+BJ15+BH15+BK15 -> 0 | BM15: =SUM(BM16:BM17) -> 0 | BN15: =SUM(BN16:BN17) -> 0 | BO15: =SUM(BO16:BO17) -> 0 | BP15: =SUM(BP16:BP17) -> 0 | BQ15: =SUM(BQ16:BQ17) -> 0 | BR15: =SUM(BR16:BR17) -> 0 | BS15: =SUM(BS16:BS17) -> 0 | BT15: =+BQ15+BR15+BP15+BS15 -> 0 | BU15: =SUM(BU16:BU17) -> 0 | BV15: =SUM(BV16:BV17) -> 0 | BW15: =SUM(BW16:BW17) -> 0 | BX15: =SUM(BX16:BX17) -> 0 | BY15: =SUM(BY16:BY17) -> 0 | BZ15: =SUM(BZ16:BZ17) -> 0 | CA15: =SUM(CA16:CA17) -> 0 | CB15: =SUM(BX15:BZ15)+CA15 -> 0 | CC15: =SUM(CC16:CC17) -> 0 | CD15: =SUM(CD16:CD17) -> 0 | CE15: =SUM(CE16:CE17) -> 0 | CF15: =SUM(CF16:CF17) -> 0 | CG15: =SUM(CG16:CG17) -> 0 | CH15: =SUM(CH16:CH17) -> 0 | CI15: =SUM(CI16:CI17) -> 0 | CJ15: =SUM(CQ15,CX15,DE15,DL15,DS15,DZ15,EG15,EN15,EU15,FB15,FI15,FP15,FW15,GD15,GK15,GR15,GY15,HF15,HM15,HT15,IA15,IH15,IO15,IV15)+JD15 -> 0 | CK15: =SUM(CR15,CY15,DF15,DM15,DT15,EA15,EH15,EO15,EV15,FC15,FJ15,FQ15,FX15,GE15,GL15,GS15,GZ15,HG15,HN15,HU15,IB15,II15,IP15,IW15)+JE15 -> 0 | CL15: =SUM(CS15,CZ15,DG15,DN15,DU15,EB15,EI15,EP15,EW15,FD15,FK15,FR15,FY15,GF15,GM15,GT15,HA15,HH15,HO15,HV15,IC15,IJ15,IQ15,IX15)+JF15 -> 0 | CM15: =SUM(CT15,DA15,DH15,DO15,DV15,EC15,EJ15,EQ15,EX15,FE15,FL15,FS15,FZ15,GG15,GN15,GU15,HB15,HI15,HP15,HW15,ID15,IK15,IR15,IY15)+JG15 -> 0 | CN15: =SUM(CN16:CN17) -> 0 | CO15: =SUM(CO16:CO17) -> 0 | CP15: =SUM(CP16:CP17) -> 0 | CQ15: =+CO15+CP15 -> 0 | CR15: =SUM(CR16:CR17) -> 0 | CS15: =SUM(CS16:CS17) -> 0 | CT15: =SUM(CT16:CT17) -> 0 | CU15: =SUM(CU16:CU17) -> 0 | CV15: =SUM(CV16:CV17) -> 0 | CW15: =SUM(CW16:CW17) -> 0 | CX15: =+CV15+CW15 -> 0 | CY15: =SUM(CY16:CY17) -> 0 | CZ15: =SUM(CZ16:CZ17) -> 0 | DA15: =SUM(DA16:DA17) -> 0 | DB15: =SUM(DB16:DB17) -> 0 | DC15: =SUM(DC16:DC17) -> 0 | DD15: =SUM(DD16:DD17) -> 0 | DE15: =+DC15+DD15 -> 0 | DF15: =SUM(DF16:DF17) -> 0 | DG15: =SUM(DG16:DG17) -> 0 | DH15: =SUM(DH16:DH17) -> 0 | DI15: =SUM(DI16:DI17) -> 0 | DJ15: =SUM(DJ16:DJ17) -> 0 | DK15: =SUM(DK16:DK17) -> 0 | DL15: =+DJ15+DK15 -> 0 | DM15: =SUM(DM16:DM17) -> 0 | DN15: =SUM(DN16:DN17) -> 0 | DO15: =SUM(DO16:DO17) -> 0 | DP15: =SUM(DP16:DP17) -> 0 | DQ15: =SUM(DQ16:DQ17) -> 0 | DR15: =SUM(DR16:DR17) -> 0 | DS15: =+DQ15+DR15 -> 0 | DT15: =SUM(DT16:DT17) -> 0 | DU15: =SUM(DU16:DU17) -> 0 | DV15: =SUM(DV16:DV17) -> 0 | DW15: =SUM(DW16:DW17) -> 0 | DX15: =SUM(DX16:DX17) -> 0 | DY15: =SUM(DY16:DY17) -> 0 | DZ15: =+DX15+DY15 -> 0 | EA15: =SUM(EA16:EA17) -> 0 | EB15: =SUM(EB16:EB17) -> 0 | EC15: =SUM(EC16:EC17) -> 0 | ED15: =SUM(ED16:ED17) -> 0 | EE15: =SUM(EE16:EE17) -> 0 | EF15: =SUM(EF16:EF17) -> 0 | EG15: =+EE15+EF15 -> 0 | EH15: =SUM(EH16:EH17) -> 0 | EI15: =SUM(EI16:EI17) -> 0 | EJ15: =SUM(EJ16:EJ17) -> 0 | EK15: =SUM(EK16:EK17) -> 0 | EL15: =SUM(EL16:EL17) -> 0 | EM15: =SUM(EM16:EM17) -> 0 | EN15: =+EL15+EM15 -> 0 | EO15: =SUM(EO16:EO17) -> 0 | EP15: =SUM(EP16:EP17) -> 0 | EQ15: =SUM(EQ16:EQ17) -> 0 | ER15: =SUM(ER16:ER17) -> 0 | ES15: =SUM(ES16:ES17) -> 0 | ET15: =SUM(ET16:ET17) -> 0 | EU15: =+ES15+ET15 -> 0 | EV15: =SUM(EV16:EV17) -> 0 | EW15: =SUM(EW16:EW17) -> 0 | EX15: =SUM(EX16:EX17) -> 0 | EY15: =SUM(EY16:EY17) -> 0 | EZ15: =SUM(EZ16:EZ17) -> 0 | FA15: =SUM(FA16:FA17) -> 0 | FB15: =+EZ15+FA15 -> 0 | FC15: =SUM(FC16:FC17) -> 0 | FD15: =SUM(FD16:FD17) -> 0 | FE15: =SUM(FE16:FE17) -> 0 | FF15: =SUM(FF16:FF17) -> 0 | FG15: =SUM(FG16:FG17) -> 0 | FH15: =SUM(FH16:FH17) -> 0 | FI15: =+FG15+FH15 -> 0 | FJ15: =SUM(FJ16:FJ17) -> 0 | FK15: =SUM(FK16:FK17) -> 0 | FL15: =SUM(FL16:FL17) -> 0 | FM15: =SUM(FM16:FM17) -> 0 | FN15: =SUM(FN16:FN17) -> 0 | FO15: =SUM(FO16:FO17) -> 0 | FP15: =+FN15+FO15 -> 0 | FQ15: =SUM(FQ16:FQ17) -> 0 | FR15: =SUM(FR16:FR17) -> 0 | FS15: =SUM(FS16:FS17) -> 0 | FT15: =SUM(FT16:FT17) -> 0 | FU15: =SUM(FU16:FU17) -> 0 | FV15: =SUM(FV16:FV17) -> 0 | FW15: =+FU15+FV15 -> 0 | FX15: =SUM(FX16:FX17) -> 0 | FY15: =SUM(FY16:FY17) -> 0 | FZ15: =SUM(FZ16:FZ17) -> 0 | GA15: =SUM(GA16:GA17) -> 0 | GB15: =SUM(GB16:GB17) -> 0 | GC15: =SUM(GC16:GC17) -> 0 | GD15: =+GB15+GC15 -> 0 | GE15: =SUM(GE16:GE17) -> 0 | GF15: =SUM(GF16:GF17) -> 0 | GG15: =SUM(GG16:GG17) -> 0 | GH15: =SUM(GH16:GH17) -> 0 | GI15: =SUM(GI16:GI17) -> 0 | GJ15: =SUM(GJ16:GJ17) -> 0 | GK15: =+GI15+GJ15 -> 0 | GL15: =SUM(GL16:GL17) -> 0 | GM15: =SUM(GM16:GM17) -> 0 | GN15: =SUM(GN16:GN17) -> 0 | GO15: =SUM(GO16:GO17) -> 0 | GP15: =SUM(GP16:GP17) -> 0 | GQ15: =SUM(GQ16:GQ17) -> 0 | GR15: =+GP15+GQ15 -> 0 | GS15: =SUM(GS16:GS17) -> 0 | GT15: =SUM(GT16:GT17) -> 0 | GU15: =SUM(GU16:GU17) -> 0 | GV15: =SUM(GV16:GV17) -> 0 | GW15: =SUM(GW16:GW17) -> 0 | GX15: =SUM(GX16:GX17) -> 0 | GY15: =+GW15+GX15 -> 0 | GZ15: =SUM(GZ16:GZ17) -> 0 | HA15: =SUM(HA16:HA17) -> 0 | HB15: =SUM(HB16:HB17) -> 0 | HC15: =SUM(HC16:HC17) -> 0 | HD15: =SUM(HD16:HD17) -> 0 | HE15: =SUM(HE16:HE17) -> 0 | HF15: =+HD15+HE15 -> 0 | HG15: =SUM(HG16:HG17) -> 0 | HH15: =SUM(HH16:HH17) -> 0 | HI15: =SUM(HI16:HI17) -> 0 | HJ15: =SUM(HJ16:HJ17) -> 0 | HK15: =SUM(HK16:HK17) -> 0 | HL15: =SUM(HL16:HL17) -> 0 | HM15: =+HK15+HL15 -> 0 | HN15: =SUM(HN16:HN17) -> 0 | HO15: =SUM(HO16:HO17) -> 0 | HP15: =SUM(HP16:HP17) -> 0 | HQ15: =SUM(HQ16:HQ17) -> 0 | HR15: =SUM(HR16:HR17) -> 0 | HS15: =SUM(HS16:HS17) -> 0 | HT15: =+HR15+HS15 -> 0 | HU15: =SUM(HU16:HU17) -> 0 | HV15: =SUM(HV16:HV17) -> 0 | HW15: =SUM(HW16:HW17) -> 0 | HX15: =SUM(HX16:HX17) -> 0 | HY15: =SUM(HY16:HY17) -> 0 | HZ15: =SUM(HZ16:HZ17) -> 0 | IA15: =+HY15+HZ15 -> 0 | IB15: =SUM(IB16:IB17) -> 0 | IC15: =SUM(IC16:IC17) -> 0 | ID15: =SUM(ID16:ID17) -> 0 | IE15: =SUM(IE16:IE17) -> 0 | IF15: =SUM(IF16:IF17) -> 0 | IG15: =SUM(IG16:IG17) -> 0 | IH15: =+IF15+IG15 -> 0 | II15: =SUM(II16:II17) -> 0 | IJ15: =SUM(IJ16:IJ17) -> 0 | IK15: =SUM(IK16:IK17) -> 0 | IL15: =SUM(IL16:IL17) -> 0 | IM15: =SUM(IM16:IM17) -> 0 | IN15: =SUM(IN16:IN17) -> 0 | IO15: =+IM15+IN15 -> 0 | IP15: =SUM(IP16:IP17) -> 0 | IQ15: =SUM(IQ16:IQ17) -> 0 | IR15: =SUM(IR16:IR17) -> 0 | IS15: =SUM(IS16:IS17) -> 0 | IT15: =SUM(IT16:IT17) -> 0 | IU15: =SUM(IU16:IU17) -> 0 | IV15: =+IT15+IU15 -> 0 | IW15: =SUM(IW16:IW17) -> 0 | IX15: =SUM(IX16:IX17) -> 0 | IY15: =SUM(IY16:JG17) -> 0 | IZ15: =SUM(IZ16:IZ17) -> 0 | JA15: =SUM(JA16:JA17) -> 0 | JB15: =SUM(JB16:JB17) -> 0 | JC15: =SUM(JC16:JC17) -> 0 | JD15: =+JA15+JB15+IZ15+JC15 -> 0 | JE15: =SUM(JE16:JE17) -> 0 | JF15: =SUM(JF16:JF17) -> 0
